BEGIN:VCALENDAR
VERSION:2.0
PRODID:-//Achēv - ECPv6.15.13//NONSGML v1.0//EN
CALSCALE:GREGORIAN
METHOD:PUBLISH
X-ORIGINAL-URL:https://achev.ca
X-WR-CALDESC:Events for Achēv
REFRESH-INTERVAL;VALUE=DURATION:PT1H
X-Robots-Tag:noindex
X-PUBLISHED-TTL:PT1H
BEGIN:VTIMEZONE
TZID:America/Toronto
BEGIN:DAYLIGHT
TZOFFSETFROM:-0500
TZOFFSETTO:-0400
TZNAME:EDT
DTSTART:20240310T070000
END:DAYLIGHT
BEGIN:STANDARD
TZOFFSETFROM:-0400
TZOFFSETTO:-0500
TZNAME:EST
DTSTART:20241103T060000
END:STANDARD
BEGIN:DAYLIGHT
TZOFFSETFROM:-0500
TZOFFSETTO:-0400
TZNAME:EDT
DTSTART:20250309T070000
END:DAYLIGHT
BEGIN:STANDARD
TZOFFSETFROM:-0400
TZOFFSETTO:-0500
TZNAME:EST
DTSTART:20251102T060000
END:STANDARD
BEGIN:DAYLIGHT
TZOFFSETFROM:-0500
TZOFFSETTO:-0400
TZNAME:EDT
DTSTART:20260308T070000
END:DAYLIGHT
BEGIN:STANDARD
TZOFFSETFROM:-0400
TZOFFSETTO:-0500
TZNAME:EST
DTSTART:20261101T060000
END:STANDARD
BEGIN:DAYLIGHT
TZOFFSETFROM:-0500
TZOFFSETTO:-0400
TZNAME:EDT
DTSTART:20270314T070000
END:DAYLIGHT
BEGIN:STANDARD
TZOFFSETFROM:-0400
TZOFFSETTO:-0500
TZNAME:EST
DTSTART:20271107T060000
END:STANDARD
END:VTIMEZONE
BEGIN:VEVENT
DTSTART;TZID=America/Toronto:20260410T093000
DTEND;TZID=America/Toronto:20260410T153000
DTSTAMP:20260419T092331
CREATED:20260317T165817Z
LAST-MODIFIED:20260317T165817Z
UID:10010198-1775813400-1775835000@achev.ca
SUMMARY:Service Canada - Pension\, Dental & More: In Person Clinic
DESCRIPTION:Receive expert advice on your Canada Pension Plan (CPP) and Dental Care Plan applications from a Service Canada representative. \nWhat the Service Canada Clinic Can Offer: \n\nExpert assistance with applying for a SIN\, CDCP\, and the Canada Disability Benefit\nReviewing and accepting applications for CPP and OAS (not ODSP)\nCertifying documents required for Service Canada programs that need official certification\n\nCall to book your appointment in advance. \nThis event will be held in collaboration with Service Canada. \n\n\n\nDownload PDF \nFollow us on LinkedIn\, Facebook\, Instagram or Twitter for our latest events\, workshops and news.
URL:https://achev.ca/event/service-canada-pension-dental-more-in-person-clinic-april-10-26/
LOCATION:Achēv – Mississauga City Centre\, 50 Burnhamthorpe Road West\, Suite 300\, Mississauga\, ON\, L5B 3Y5\, Canada
ATTACH;FMTTYPE=image/png:https://achev.ca/wp-content/uploads/2022/08/older-couple-looking-at-papers.png
GEO:43.591775;-79.6363502
X-APPLE-STRUCTURED-LOCATION;VALUE=URI;X-ADDRESS=Achēv – Mississauga City Centre 50 Burnhamthorpe Road West Suite 300 Mississauga ON L5B 3Y5 Canada;X-APPLE-RADIUS=500;X-TITLE=50 Burnhamthorpe Road West\, Suite 300:geo:-79.6363502,43.591775
END:VEVENT
BEGIN:VEVENT
DTSTART;TZID=America/Toronto:20260306T093000
DTEND;TZID=America/Toronto:20260306T153000
DTSTAMP:20260419T092331
CREATED:20260225T185245Z
LAST-MODIFIED:20260225T205007Z
UID:10010123-1772789400-1772811000@achev.ca
SUMMARY:Service Canada -  Pension\, Dental & More: In Person Clinic
DESCRIPTION:Receive expert advice on your Canada Pension Plan (CPP) and Dental Care Plan applications from a Service Canada representative. \nWhat the Service Canada Clinic Can Offer: \n\nExpert assistance with applying for a SIN\, CDCP\, and the Canada Disability Benefit\nReviewing and accepting applications for CPP and OAS (not ODSP)\nCertifying documents required for Service Canada programs that need official certification\n\nCall to book your appointment in advance. \nThis event will be held in collaboration with Service Canada. \n\n\n\nDownload PDF \nFollow us on LinkedIn\, Facebook\, Instagram or Twitter for our latest events\, workshops and news.
URL:https://achev.ca/event/service-canada-pension-dental-more-in-person-clinic-march-6-26/
LOCATION:Achēv – Mississauga City Centre\, 50 Burnhamthorpe Road West\, Suite 300\, Mississauga\, ON\, L5B 3Y5\, Canada
ATTACH;FMTTYPE=image/png:https://achev.ca/wp-content/uploads/2022/08/older-couple-looking-at-papers.png
GEO:43.591775;-79.6363502
X-APPLE-STRUCTURED-LOCATION;VALUE=URI;X-ADDRESS=Achēv – Mississauga City Centre 50 Burnhamthorpe Road West Suite 300 Mississauga ON L5B 3Y5 Canada;X-APPLE-RADIUS=500;X-TITLE=50 Burnhamthorpe Road West\, Suite 300:geo:-79.6363502,43.591775
END:VEVENT
BEGIN:VEVENT
DTSTART;TZID=America/Toronto:20251016T100000
DTEND;TZID=America/Toronto:20251016T120000
DTSTAMP:20260419T092331
CREATED:20250916T140647Z
LAST-MODIFIED:20250916T140647Z
UID:10009218-1760608800-1760616000@achev.ca
SUMMARY:Careers in Trucking Networking and Hiring Event
DESCRIPTION:For newcomers & internationally trained individuals: explore training\, career paths\, employer insights\, networking\, and ACA financial aid. \nJoin us at Achēv’s Mississauga Sussex Centre (Suite 300\, Community Door Board Room) for an in-person event supporting newcomers and internationally trained individuals interested in exploring careers in the trucking industry. \nWhat to Expect: \n\nInsights into training programs and career pathways\nPresentations from industry experts and employers\nNetworking opportunities and on-the-spot interviews for AZ/DZ licensed drivers\nInformation about the ACA Program and financial aid for trucking training\nRefreshments and prizes to create an engaging experience\n\nGuest Speakers: \n\nCHET – Sandra (Operations Manager) & Francois (Sales Manager)\nMusket Transport – Mensur (Driver Manager)\nTBDC – Hammad (Program Manager)\nGFL Environmental – Anthony (Senior Talent Acquisition Partner)\, presenting current AZ/DZ job openings\n\n\n\n \n\n\n\nDownload PDF \nFollow us on LinkedIn\, Facebook\, Instagram\, Threads\, Twitter\, or YouTube for our latest events\, workshops and news. \n  \n\n 
URL:https://achev.ca/event/careers-in-trucking-networking-and-hiring-event-oct-16-25/
LOCATION:Achēv – Mississauga City Centre\, 50 Burnhamthorpe Road West\, Suite 300\, Mississauga\, ON\, L5B 3Y5\, Canada
ATTACH;FMTTYPE=image/png:https://achev.ca/wp-content/uploads/2024/02/A-truck-driver-standing-in-front-of-two-trucks.png
GEO:43.591775;-79.6363502
X-APPLE-STRUCTURED-LOCATION;VALUE=URI;X-ADDRESS=Achēv – Mississauga City Centre 50 Burnhamthorpe Road West Suite 300 Mississauga ON L5B 3Y5 Canada;X-APPLE-RADIUS=500;X-TITLE=50 Burnhamthorpe Road West\, Suite 300:geo:-79.6363502,43.591775
END:VEVENT
END:VCALENDAR