BEGIN:VCALENDAR
VERSION:2.0
PRODID:-//Achēv - ECPv6.15.13//NONSGML v1.0//EN
CALSCALE:GREGORIAN
METHOD:PUBLISH
X-WR-CALNAME:Achēv
X-ORIGINAL-URL:https://achev.ca
X-WR-CALDESC:Events for Achēv
REFRESH-INTERVAL;VALUE=DURATION:PT1H
X-Robots-Tag:noindex
X-PUBLISHED-TTL:PT1H
BEGIN:VTIMEZONE
TZID:America/Toronto
BEGIN:DAYLIGHT
TZOFFSETFROM:-0500
TZOFFSETTO:-0400
TZNAME:EDT
DTSTART:20230312T070000
END:DAYLIGHT
BEGIN:STANDARD
TZOFFSETFROM:-0400
TZOFFSETTO:-0500
TZNAME:EST
DTSTART:20231105T060000
END:STANDARD
BEGIN:DAYLIGHT
TZOFFSETFROM:-0500
TZOFFSETTO:-0400
TZNAME:EDT
DTSTART:20240310T070000
END:DAYLIGHT
BEGIN:STANDARD
TZOFFSETFROM:-0400
TZOFFSETTO:-0500
TZNAME:EST
DTSTART:20241103T060000
END:STANDARD
BEGIN:DAYLIGHT
TZOFFSETFROM:-0500
TZOFFSETTO:-0400
TZNAME:EDT
DTSTART:20250309T070000
END:DAYLIGHT
BEGIN:STANDARD
TZOFFSETFROM:-0400
TZOFFSETTO:-0500
TZNAME:EST
DTSTART:20251102T060000
END:STANDARD
BEGIN:DAYLIGHT
TZOFFSETFROM:-0500
TZOFFSETTO:-0400
TZNAME:EDT
DTSTART:20260308T070000
END:DAYLIGHT
BEGIN:STANDARD
TZOFFSETFROM:-0400
TZOFFSETTO:-0500
TZNAME:EST
DTSTART:20261101T060000
END:STANDARD
END:VTIMEZONE
BEGIN:VEVENT
DTSTART;TZID=America/Toronto:20250716T100000
DTEND;TZID=America/Toronto:20250716T150000
DTSTAMP:20260420T173005
CREATED:20250611T161653Z
LAST-MODIFIED:20250616T205236Z
UID:10008911-1752660000-1752678000@achev.ca
SUMMARY:Free Service Canada Pension Clinic for Seniors: In-Person Appointment
DESCRIPTION:Are you a senior with questions about your Canada pension application? \nBook your 30-minute consultation to help you with your Canada Pension Plan (CPP) and Old Age Security (OAS) application. An appointment is required to attend: \n\nReview applications (CPP\, OAS\, GIS)\nDiscuss Guaranteed Income Supplements (GIS)\nDiscuss Death and Disability Benefits\nDiscuss Ontario Seniors Dental Care Program (OSDCP)\nDiscuss other Service Canada benefits for seniors\n\nThis workshop will be held in collaboration with Service Canada. \n\n\n\nDownload PDF \nFollow us on LinkedIn\, Facebook\, Instagram\, Threads\, Twitter\, or YouTube for our latest events\, workshops and news. \n  \n\n 
URL:https://achev.ca/event/free-service-canada-pension-clinic-for-seniors-in-person-appointment-july-16-25/
LOCATION:Seniors Engagement & Empowerment Network Centre – Brampton East\, 263 Queen Street East\, Unit 14\, Brampton\, ON\, L6W 4K6\, Canada
ATTACH;FMTTYPE=image/png:https://achev.ca/wp-content/uploads/2023/08/Senior-couple-consultation-session.png
GEO:43.7000626;-79.7429366
X-APPLE-STRUCTURED-LOCATION;VALUE=URI;X-ADDRESS=Seniors Engagement & Empowerment Network Centre – Brampton East 263 Queen Street East Unit 14 Brampton ON L6W 4K6 Canada;X-APPLE-RADIUS=500;X-TITLE=263 Queen Street East\, Unit 14:geo:-79.7429366,43.7000626
END:VEVENT
BEGIN:VEVENT
DTSTART;TZID=America/Toronto:20250618T100000
DTEND;TZID=America/Toronto:20250618T150000
DTSTAMP:20260420T173005
CREATED:20250509T180610Z
LAST-MODIFIED:20250509T180610Z
UID:10008790-1750240800-1750258800@achev.ca
SUMMARY:Free Service Canada Pension Clinic for Seniors: In-Person Appointment
DESCRIPTION:Are you a senior with questions about your Canada pension application? \nBook your 30-minute consultation to help you with your Canada Pension Plan (CPP) and Old Age Security (OAS) application. An appointment is required to attend: \n\nReview applications (CPP\, OAS\, GIS)\nDiscuss Guaranteed Income Supplements (GIS)\nDiscuss Death and Disability Benefits\nDiscuss Ontario Seniors Dental Care Program (OSDCP)\nDiscuss other Service Canada benefits for seniors\n\nThis workshop will be held in collaboration with Service Canada. \n\n\n\nDownload PDF \nFollow us on LinkedIn\, Facebook\, Instagram\, Threads\, Twitter\, or YouTube for our latest events\, workshops and news. \n  \n\n 
URL:https://achev.ca/event/free-service-canada-pension-clinic-for-seniors-in-person-appointment-june-18-25/
LOCATION:Seniors Engagement & Empowerment Network Centre – Brampton East\, 263 Queen Street East\, Unit 14\, Brampton\, ON\, L6W 4K6\, Canada
ATTACH;FMTTYPE=image/png:https://achev.ca/wp-content/uploads/2023/08/Senior-couple-consultation-session.png
GEO:43.7000626;-79.7429366
X-APPLE-STRUCTURED-LOCATION;VALUE=URI;X-ADDRESS=Seniors Engagement & Empowerment Network Centre – Brampton East 263 Queen Street East Unit 14 Brampton ON L6W 4K6 Canada;X-APPLE-RADIUS=500;X-TITLE=263 Queen Street East\, Unit 14:geo:-79.7429366,43.7000626
END:VEVENT
BEGIN:VEVENT
DTSTART;TZID=America/Toronto:20250603T100000
DTEND;TZID=America/Toronto:20250603T120000
DTSTAMP:20260420T173005
CREATED:20250521T204118Z
LAST-MODIFIED:20250521T204118Z
UID:10008856-1748944800-1748952000@achev.ca
SUMMARY:In-Person Digital Literacy Classes for 55+
DESCRIPTION:Does using a computer feel intimidating? Want to boost your digital literacy skills with confidence?  \nJoin our hands-on 6-week Digital Literacy Classes every Tuesday from May 27 – June 30\, 2025 at 10 a.m. – 12 p.m. and learn the basics of using a computer in a friendly\, supportive environment. From creating emails to joining Zoom webinars—we’ll help you feel confident in today’s digital world! \nPlease note: Class 6 will be held on Monday\, June 30\, instead of Tuesday\, due to the Canada Day holiday. \nRegistration is on a first-come\, first-served basis. Confirmation is required\, and registration will close once all spots are filled. \nDownload PDF \nFollow us on LinkedIn\, Facebook\, Instagram\, Threads\, Twitter\, or YouTube for our latest events\, workshops and news.
URL:https://achev.ca/event/in-person-digital-literacy-classes-for-55-may-27-june-30-2025-2/
LOCATION:Seniors Engagement & Empowerment Network Centre – Brampton East\, 263 Queen Street East\, Unit 14\, Brampton\, ON\, L6W 4K6\, Canada
ATTACH;FMTTYPE=image/png:https://achev.ca/wp-content/uploads/2022/07/man-helping-senior-with-computer.png
GEO:43.7000626;-79.7429366
X-APPLE-STRUCTURED-LOCATION;VALUE=URI;X-ADDRESS=Seniors Engagement & Empowerment Network Centre – Brampton East 263 Queen Street East Unit 14 Brampton ON L6W 4K6 Canada;X-APPLE-RADIUS=500;X-TITLE=263 Queen Street East\, Unit 14:geo:-79.7429366,43.7000626
END:VEVENT
BEGIN:VEVENT
DTSTART;TZID=America/Toronto:20250527T100000
DTEND;TZID=America/Toronto:20250527T120000
DTSTAMP:20260420T173005
CREATED:20250520T150831Z
LAST-MODIFIED:20250521T203905Z
UID:10008843-1748340000-1748347200@achev.ca
SUMMARY:In-Person Digital Literacy Classes for 55+
DESCRIPTION:Does using a computer feel intimidating? Want to boost your digital literacy skills with confidence?  \nJoin our hands-on 6-week Digital Literacy Classes every Tuesday from May 27 – June 30\, 2025 at 10 a.m. – 12 p.m. and learn the basics of using a computer in a friendly\, supportive environment. From creating emails to joining Zoom webinars—we’ll help you feel confident in today’s digital world! \nPlease note: Class 6 will be held on Monday\, June 30\, instead of Tuesday\, due to the Canada Day holiday. \nRegistration is on a first-come\, first-served basis. Confirmation is required\, and registration will close once all spots are filled. \nDownload PDF \nFollow us on LinkedIn\, Facebook\, Instagram\, Threads\, Twitter\, or YouTube for our latest events\, workshops and news.
URL:https://achev.ca/event/in-person-digital-literacy-classes-for-55-may-27-june-30-2025/
LOCATION:Seniors Engagement & Empowerment Network Centre – Brampton East\, 263 Queen Street East\, Unit 14\, Brampton\, ON\, L6W 4K6\, Canada
ATTACH;FMTTYPE=image/png:https://achev.ca/wp-content/uploads/2022/07/man-helping-senior-with-computer.png
GEO:43.7000626;-79.7429366
X-APPLE-STRUCTURED-LOCATION;VALUE=URI;X-ADDRESS=Seniors Engagement & Empowerment Network Centre – Brampton East 263 Queen Street East Unit 14 Brampton ON L6W 4K6 Canada;X-APPLE-RADIUS=500;X-TITLE=263 Queen Street East\, Unit 14:geo:-79.7429366,43.7000626
END:VEVENT
BEGIN:VEVENT
DTSTART;TZID=America/Toronto:20250522T100000
DTEND;TZID=America/Toronto:20250522T150000
DTSTAMP:20260420T173005
CREATED:20250409T165723Z
LAST-MODIFIED:20250409T165723Z
UID:10008729-1747908000-1747926000@achev.ca
SUMMARY:Free Service Canada Pension Clinic for Seniors: In-Person Appointment
DESCRIPTION:Are you a senior with questions about your Canada pension application? \nBook your 30-minute consultation to help you with your Canada Pension Plan (CPP) and Old Age Security (OAS) application. An appointment is required to attend: \n\nReview applications (CPP\, OAS\, GIS)\nDiscuss Guaranteed Income Supplements (GIS)\nDiscuss Death and Disability Benefits\nDiscuss Ontario Seniors Dental Care Program (OSDCP)\nDiscuss other Service Canada benefits for seniors\n\nThis workshop will be held in collaboration with Service Canada. \n\n\n\nDownload PDF \nFollow us on LinkedIn\, Facebook\, Instagram\, Threads\, Twitter\, or YouTube for our latest events\, workshops and news. \n  \n\n 
URL:https://achev.ca/event/free-service-canada-pension-clinic-for-seniors-in-person-appointment-may-22-25/
LOCATION:Seniors Engagement & Empowerment Network Centre – Brampton East\, 263 Queen Street East\, Unit 14\, Brampton\, ON\, L6W 4K6\, Canada
ATTACH;FMTTYPE=image/png:https://achev.ca/wp-content/uploads/2023/08/Senior-couple-consultation-session.png
GEO:43.7000626;-79.7429366
X-APPLE-STRUCTURED-LOCATION;VALUE=URI;X-ADDRESS=Seniors Engagement & Empowerment Network Centre – Brampton East 263 Queen Street East Unit 14 Brampton ON L6W 4K6 Canada;X-APPLE-RADIUS=500;X-TITLE=263 Queen Street East\, Unit 14:geo:-79.7429366,43.7000626
END:VEVENT
BEGIN:VEVENT
DTSTART;TZID=America/Toronto:20250424T100000
DTEND;TZID=America/Toronto:20250424T150000
DTSTAMP:20260420T173005
CREATED:20250320T190841Z
LAST-MODIFIED:20250320T190841Z
UID:10008695-1745488800-1745506800@achev.ca
SUMMARY:Free Service Canada Pension Clinic for Seniors: In-Person Appointment
DESCRIPTION:Are you a senior with questions about your Canada pension application? \nBook your 30-minute consultation to help you with your Canada Pension Plan (CPP) and Old Age Security (OAS) application. An appointment is required to attend: \n\nReview applications (CPP\, OAS\, GIS)\nDiscuss Guaranteed Income Supplements (GIS)\nDiscuss Death and Disability Benefits\nDiscuss Ontario Seniors Dental Care Program (OSDCP)\nDiscuss other Service Canada benefits for seniors\n\nThis workshop will be held in collaboration with Service Canada. \n\n\n\nDownload PDF \nFollow us on LinkedIn\, Facebook\, Instagram\, Threads\, Twitter\, or YouTube for our latest events\, workshops and news. \n  \n\n 
URL:https://achev.ca/event/free-service-canada-pension-clinic-for-seniors-in-person-appointment-april-24-25/
LOCATION:Seniors Engagement & Empowerment Network Centre – Brampton East\, 263 Queen Street East\, Unit 14\, Brampton\, ON\, L6W 4K6\, Canada
ATTACH;FMTTYPE=image/png:https://achev.ca/wp-content/uploads/2022/11/man-showing-forms-to-older-couple.png
GEO:43.7000626;-79.7429366
X-APPLE-STRUCTURED-LOCATION;VALUE=URI;X-ADDRESS=Seniors Engagement & Empowerment Network Centre – Brampton East 263 Queen Street East Unit 14 Brampton ON L6W 4K6 Canada;X-APPLE-RADIUS=500;X-TITLE=263 Queen Street East\, Unit 14:geo:-79.7429366,43.7000626
END:VEVENT
BEGIN:VEVENT
DTSTART;TZID=America/Toronto:20250227T100000
DTEND;TZID=America/Toronto:20250227T150000
DTSTAMP:20260420T173005
CREATED:20250220T233003Z
LAST-MODIFIED:20250220T233003Z
UID:10008618-1740650400-1740668400@achev.ca
SUMMARY:Free Service Canada Pension Clinic for Seniors: In-Person Appointment
DESCRIPTION:Are you a senior with questions about your Canada pension application? \nBook your 30-minute consultation to help you with your Canada Pension Plan (CPP) and Old Age Security (OAS) application. An appointment is required to attend: \n\nReview applications (CPP\, OAS\, GIS)\nDiscuss Guaranteed Income Supplements (GIS)\nDiscuss Death and Disability Benefits\nDiscuss Ontario Seniors Dental Care Program (OSDCP)\nDiscuss other Service Canada benefits for seniors\n\nThis workshop will be held in collaboration with Service Canada. \n\n\n\nDownload PDF \nFollow us on LinkedIn\, Facebook\, Instagram\, Threads\, Twitter\, or YouTube for our latest events\, workshops and news. \n  \n\n 
URL:https://achev.ca/event/free-service-canada-pension-clinic-for-seniors-in-person-appointment-march-27-25/
LOCATION:Seniors Engagement & Empowerment Network Centre – Brampton East\, 263 Queen Street East\, Unit 14\, Brampton\, ON\, L6W 4K6\, Canada
ATTACH;FMTTYPE=image/png:https://achev.ca/wp-content/uploads/2022/11/man-showing-forms-to-older-couple.png
GEO:43.7000626;-79.7429366
X-APPLE-STRUCTURED-LOCATION;VALUE=URI;X-ADDRESS=Seniors Engagement & Empowerment Network Centre – Brampton East 263 Queen Street East Unit 14 Brampton ON L6W 4K6 Canada;X-APPLE-RADIUS=500;X-TITLE=263 Queen Street East\, Unit 14:geo:-79.7429366,43.7000626
END:VEVENT
BEGIN:VEVENT
DTSTART;TZID=America/Toronto:20250227T100000
DTEND;TZID=America/Toronto:20250227T150000
DTSTAMP:20260420T173005
CREATED:20250114T212930Z
LAST-MODIFIED:20250114T213718Z
UID:10008374-1740650400-1740668400@achev.ca
SUMMARY:Free Service Canada Pension Clinic for Seniors: In-Person Appointment
DESCRIPTION:Are you a senior with questions about your Canada pension application? \nBook your 30-minute consultation to help you with your Canada Pension Plan (CPP) and Old Age Security (OAS) application. An appointment is required to attend: \n\nReview applications (CPP\, OAS\, GIS)\nDiscuss Guaranteed Income Supplements (GIS)\nDiscuss Death and Disability Benefits\nDiscuss Ontario Seniors Dental Care Program (OSDCP)\nDiscuss other Service Canada benefits for seniors\n\nThis workshop will be held in collaboration with Service Canada. \n\n\n\nDownload PDF \nFollow us on LinkedIn\, Facebook\, Instagram\, Threads\, Twitter\, or YouTube for our latest events\, workshops and news. \n  \n\n 
URL:https://achev.ca/event/free-service-canada-pension-clinic-for-seniors-in-person-appointment-feb-27-25/
LOCATION:Seniors Engagement & Empowerment Network Centre – Brampton East\, 263 Queen Street East\, Unit 14\, Brampton\, ON\, L6W 4K6\, Canada
ATTACH;FMTTYPE=image/png:https://achev.ca/wp-content/uploads/2022/11/man-showing-forms-to-older-couple.png
GEO:43.7000626;-79.7429366
X-APPLE-STRUCTURED-LOCATION;VALUE=URI;X-ADDRESS=Seniors Engagement & Empowerment Network Centre – Brampton East 263 Queen Street East Unit 14 Brampton ON L6W 4K6 Canada;X-APPLE-RADIUS=500;X-TITLE=263 Queen Street East\, Unit 14:geo:-79.7429366,43.7000626
END:VEVENT
BEGIN:VEVENT
DTSTART;TZID=America/Toronto:20250123T100000
DTEND;TZID=America/Toronto:20250123T150000
DTSTAMP:20260420T173005
CREATED:20241210T203921Z
LAST-MODIFIED:20241210T204429Z
UID:10008181-1737626400-1737644400@achev.ca
SUMMARY:Free Service Canada Pension Clinic for Seniors: In-Person Appointment
DESCRIPTION:Are you a senior with questions about your Canada pension application? \nBook your 30-minute consultation to help you with your Canada Pension Plan (CPP) and Old Age Security (OAS) application. An appointment is required to attend: \n\nReview applications (CPP\, OAS\, GIS)\nDiscuss Guaranteed Income Supplements (GIS)\nDiscuss Death and Disability Benefits\nDiscuss Ontario Seniors Dental Care Program (OSDCP)\nDiscuss other Service Canada benefits for seniors\n\nThis workshop will be held in collaboration with Service Canada. \n\n\n\nDownload PDF \nFollow us on LinkedIn\, Facebook\, Instagram\, Threads\, Twitter\, or YouTube for our latest events\, workshops and news. \n  \n\n 
URL:https://achev.ca/event/free-service-canada-pension-clinic-for-seniors-in-person-appointment-jan-23-25/
LOCATION:Seniors Engagement & Empowerment Network Centre – Brampton East\, 263 Queen Street East\, Unit 14\, Brampton\, ON\, L6W 4K6\, Canada
ATTACH;FMTTYPE=image/png:https://achev.ca/wp-content/uploads/2022/11/happy-people-looking-at-tablet.png
GEO:43.7000626;-79.7429366
X-APPLE-STRUCTURED-LOCATION;VALUE=URI;X-ADDRESS=Seniors Engagement & Empowerment Network Centre – Brampton East 263 Queen Street East Unit 14 Brampton ON L6W 4K6 Canada;X-APPLE-RADIUS=500;X-TITLE=263 Queen Street East\, Unit 14:geo:-79.7429366,43.7000626
END:VEVENT
BEGIN:VEVENT
DTSTART;TZID=America/Toronto:20250116T103000
DTEND;TZID=America/Toronto:20250116T120000
DTSTAMP:20260420T173005
CREATED:20241210T165937Z
LAST-MODIFIED:20241210T170143Z
UID:10008173-1737023400-1737028800@achev.ca
SUMMARY:Dietitian Session for 55+: In-Person Event
DESCRIPTION:The following topics will be covered: \n\nWhat is blood sugar?\nDiabetes\nNutrition for blood sugar\nAnd more\n\nSeats are limited and available on a first-come\, first-served basis. Registration confirmation required to participate. \nThis session is in collaboration with SEVA Food Bank & NutriKaur. \n\n\n \n\n\n\nDownload PDF \nFollow us on LinkedIn\, Facebook\, Instagram\, Threads\, Twitter\, or YouTube for our latest events\, workshops and news. \n  \n\n 
URL:https://achev.ca/event/dietitian-session-for-55-in-person-event-jan-16-24/
LOCATION:Seniors Engagement & Empowerment Network Centre – Brampton East\, 263 Queen Street East\, Unit 14\, Brampton\, ON\, L6W 4K6\, Canada
ATTACH;FMTTYPE=image/png:https://achev.ca/wp-content/uploads/2023/07/Daughters-with-their-mother.png
GEO:43.7000626;-79.7429366
X-APPLE-STRUCTURED-LOCATION;VALUE=URI;X-ADDRESS=Seniors Engagement & Empowerment Network Centre – Brampton East 263 Queen Street East Unit 14 Brampton ON L6W 4K6 Canada;X-APPLE-RADIUS=500;X-TITLE=263 Queen Street East\, Unit 14:geo:-79.7429366,43.7000626
END:VEVENT
BEGIN:VEVENT
DTSTART;TZID=America/Toronto:20241218T100000
DTEND;TZID=America/Toronto:20241218T150000
DTSTAMP:20260420T173005
CREATED:20241125T162127Z
LAST-MODIFIED:20241125T171554Z
UID:10008130-1734516000-1734534000@achev.ca
SUMMARY:Free Service Canada Pension Clinic for Seniors: In-Person Appointment
DESCRIPTION:Are you a senior with questions about your Canada pension application? \nBook your 30-minute consultation to help you with your Canada Pension Plan (CPP) and Old Age Security (OAS) application. An appointment is required to attend: \n\nReview applications (CPP\, OAS\, GIS)\nDiscuss Guaranteed Income Supplements (GIS)\nDiscuss Death and Disability Benefits\nDiscuss Ontario Seniors Dental Care Program (OSDCP)\nDiscuss other Service Canada benefits for seniors\n\nThis workshop will be held in collaboration with Service Canada. \n\n\n\nDownload PDF \nFollow us on LinkedIn\, Facebook\, Instagram\, Threads\, Twitter\, or YouTube for our latest events\, workshops and news. \n  \n\n 
URL:https://achev.ca/event/free-service-canada-pension-clinic-for-seniors-in-person-appointment-december-18-24/
LOCATION:Seniors Engagement & Empowerment Network Centre – Brampton East\, 263 Queen Street East\, Unit 14\, Brampton\, ON\, L6W 4K6\, Canada
ATTACH;FMTTYPE=image/png:https://achev.ca/wp-content/uploads/2023/08/Two-senior-couple-creating-a-heart-shape-with-their-hands.png
GEO:43.7000626;-79.7429366
X-APPLE-STRUCTURED-LOCATION;VALUE=URI;X-ADDRESS=Seniors Engagement & Empowerment Network Centre – Brampton East 263 Queen Street East Unit 14 Brampton ON L6W 4K6 Canada;X-APPLE-RADIUS=500;X-TITLE=263 Queen Street East\, Unit 14:geo:-79.7429366,43.7000626
END:VEVENT
BEGIN:VEVENT
DTSTART;TZID=America/Toronto:20241126T100000
DTEND;TZID=America/Toronto:20241126T150000
DTSTAMP:20260420T173005
CREATED:20241018T192838Z
LAST-MODIFIED:20241018T192838Z
UID:10007942-1732615200-1732633200@achev.ca
SUMMARY:Free Service Canada Pension Clinic for Seniors: In-Person Appointment
DESCRIPTION:Are you a senior with questions about your Canada pension application? \nBook your 30-minute consultation to help you with your Canada Pension Plan (CPP) and Old Age Security (OAS) application. An appointment is required to attend: \n\nReview applications (CPP\, OAS\, GIS)\nDiscuss Guaranteed Income Supplements (GIS)\nDiscuss Death and Disability Benefits\nDiscuss Ontario Seniors Dental Care Program (OSDCP)\nDiscuss other Service Canada benefits for seniors\n\nThis workshop will be held in collaboration with Service Canada. \n\n\n\nDownload PDF \nFollow us on LinkedIn\, Facebook\, Instagram\, Threads\, Twitter\, or YouTube for our latest events\, workshops and news. \n  \n\n 
URL:https://achev.ca/event/free-service-canada-pension-clinic-for-seniors-in-person-appointment-nov-26-24/
LOCATION:Seniors Engagement & Empowerment Network Centre – Brampton East\, 263 Queen Street East\, Unit 14\, Brampton\, ON\, L6W 4K6\, Canada
ATTACH;FMTTYPE=image/png:https://achev.ca/wp-content/uploads/2023/08/Two-senior-couple-creating-a-heart-shape-with-their-hands.png
GEO:43.7000626;-79.7429366
X-APPLE-STRUCTURED-LOCATION;VALUE=URI;X-ADDRESS=Seniors Engagement & Empowerment Network Centre – Brampton East 263 Queen Street East Unit 14 Brampton ON L6W 4K6 Canada;X-APPLE-RADIUS=500;X-TITLE=263 Queen Street East\, Unit 14:geo:-79.7429366,43.7000626
END:VEVENT
BEGIN:VEVENT
DTSTART;TZID=America/Toronto:20241119T103000
DTEND;TZID=America/Toronto:20241119T120000
DTSTAMP:20260420T173005
CREATED:20241018T191153Z
LAST-MODIFIED:20241018T191153Z
UID:10007938-1732012200-1732017600@achev.ca
SUMMARY:How to Meet Your Nutritional Needs for 55+: In-Person Session
DESCRIPTION:Join our workshop to increase your knowledge of the key areas of nutrition to help you eat better. \nYou will learn about: \n\nEssential nutrients for older adults\nMake-ahead meal ideas\nHow to get the most from snack time\nTips for dining for 1 or 2 persons\n\nSeats are limited and available on a first-come\, first-served basis. Registration confirmation required to participate. \nThis virtual workshop will be held in collaboration with SEVA Food Bank & Queen Square Family Health Team. \nDownload PDF \nFollow us on LinkedIn\, Facebook\, Instagram\, Threads\, Twitter\, or YouTube for our latest events\, workshops and news.
URL:https://achev.ca/event/how-to-meet-your-nutritional-needs-for-55-in-person-session-nov-19-24/
LOCATION:Seniors Engagement & Empowerment Network Centre – Brampton East\, 263 Queen Street East\, Unit 14\, Brampton\, ON\, L6W 4K6\, Canada
ATTACH;FMTTYPE=image/jpeg:https://achev.ca/wp-content/uploads/2024/03/Nutritional-beans-an-apple-and-avocado-on-a-silver-table.jpg
GEO:43.7000626;-79.7429366
X-APPLE-STRUCTURED-LOCATION;VALUE=URI;X-ADDRESS=Seniors Engagement & Empowerment Network Centre – Brampton East 263 Queen Street East Unit 14 Brampton ON L6W 4K6 Canada;X-APPLE-RADIUS=500;X-TITLE=263 Queen Street East\, Unit 14:geo:-79.7429366,43.7000626
END:VEVENT
BEGIN:VEVENT
DTSTART;TZID=America/Toronto:20241115T120000
DTEND;TZID=America/Toronto:20241124T120000
DTSTAMP:20260420T173005
CREATED:20241018T191612Z
LAST-MODIFIED:20241022T143502Z
UID:10007939-1731672000-1732449600@achev.ca
SUMMARY:In-Person Digital Literacy Classes for Peel Senior Residents
DESCRIPTION:Does using a computer feel intimidating? Do you want to increase your digital literacy skills? \nJoin us every Tuesday and Thursday from November 19-28\, 2024 at 10 a.m. to 12 p.m. for our hands-on six-day training program! Our expert instructor will take you through the basics of using a computer to help you increase your digital literacy skills so you feel confident creating documents\, opening emails\, joining Zoom webinars\, and much more. \nRegistration closes Friday\, November 15 at 12 p.m. \nMust meet eligibility requirements. Registration with SIN needed for participation. Certificate Upon Completion. \nThis workshop will be held in collaboration with The Learning Place. \nDownload PDF \nFollow us on LinkedIn\, Facebook\, Instagram\, Threads\, Twitter\, or YouTube for our latest events\, workshops and news.
URL:https://achev.ca/event/in-person-digital-literacy-classes-for-peel-senior-residents-nov-24/
LOCATION:Seniors Engagement & Empowerment Network Centre – Brampton East\, 263 Queen Street East\, Unit 14\, Brampton\, ON\, L6W 4K6\, Canada
ATTACH;FMTTYPE=image/png:https://achev.ca/wp-content/uploads/2022/07/man-helping-senior-with-computer.png
GEO:43.7000626;-79.7429366
X-APPLE-STRUCTURED-LOCATION;VALUE=URI;X-ADDRESS=Seniors Engagement & Empowerment Network Centre – Brampton East 263 Queen Street East Unit 14 Brampton ON L6W 4K6 Canada;X-APPLE-RADIUS=500;X-TITLE=263 Queen Street East\, Unit 14:geo:-79.7429366,43.7000626
END:VEVENT
BEGIN:VEVENT
DTSTART;TZID=America/Toronto:20240725T100000
DTEND;TZID=America/Toronto:20240725T150000
DTSTAMP:20260420T173005
CREATED:20240620T184647Z
LAST-MODIFIED:20240620T184829Z
UID:10007295-1721901600-1721919600@achev.ca
SUMMARY:Free Service Canada Pension Clinic for Seniors: In-Person Appointment
DESCRIPTION:Are you a senior with questions about your Canada pension application? \nBook your 30-minute consultation to help you with your Canada Pension Plan (CPP) and Old Age Security (OAS) application. An appointment is required to attend: \n\nReview applications (CPP\, OAS\, GIS)\nDiscuss Guaranteed Income Supplements (GIS)\nDiscuss Death and Disability Benefits\nDiscuss other Service Canada benefits for seniors\n\nThis event will be in collaboration with Service Canada. \n\n\n\nDownload PDF \nFollow us on LinkedIn\, Facebook\, Instagram\, Threads\, Twitter\, or YouTube for our latest events\, workshops and news.
URL:https://achev.ca/event/free-service-canada-pension-clinic-for-seniors-in-person-appointment-july-25-24/
LOCATION:Seniors Engagement & Empowerment Network Centre – Brampton East\, 263 Queen Street East\, Unit 14\, Brampton\, ON\, L6W 4K6\, Canada
ATTACH;FMTTYPE=image/png:https://achev.ca/wp-content/uploads/2024/06/A-senior-woman-consulting-a-younger-woman.png
GEO:43.7000626;-79.7429366
X-APPLE-STRUCTURED-LOCATION;VALUE=URI;X-ADDRESS=Seniors Engagement & Empowerment Network Centre – Brampton East 263 Queen Street East Unit 14 Brampton ON L6W 4K6 Canada;X-APPLE-RADIUS=500;X-TITLE=263 Queen Street East\, Unit 14:geo:-79.7429366,43.7000626
END:VEVENT
BEGIN:VEVENT
DTSTART;TZID=America/Toronto:20240722T110000
DTEND;TZID=America/Toronto:20240722T123000
DTSTAMP:20260420T173005
CREATED:20240612T131127Z
LAST-MODIFIED:20240624T124714Z
UID:10007260-1721646000-1721651400@achev.ca
SUMMARY:Free In-Person Cooking Classes for Seniors
DESCRIPTION:Join us in person to meet with other seniors (55+) to learn new recipes and cooking techniques from an expert chef. Let us cook together and eat together! \nSeats are limited and registration is required to book a spot! \nThis event will be delivered in collaboration with SEVA Food Bank. \n\n\n\nDownload PDF \nFollow us on LinkedIn\, Facebook\, Instagram\, Threads\, Twitter\, or YouTube for our latest events\, workshops and news.
URL:https://achev.ca/event/free-in-person-cooking-classes-for-seniors-july-22-24/
LOCATION:Seniors Engagement & Empowerment Network Centre – Brampton East\, 263 Queen Street East\, Unit 14\, Brampton\, ON\, L6W 4K6\, Canada
ATTACH;FMTTYPE=image/png:https://achev.ca/wp-content/uploads/2024/04/Seniors-cooking.png
GEO:43.7000626;-79.7429366
X-APPLE-STRUCTURED-LOCATION;VALUE=URI;X-ADDRESS=Seniors Engagement & Empowerment Network Centre – Brampton East 263 Queen Street East Unit 14 Brampton ON L6W 4K6 Canada;X-APPLE-RADIUS=500;X-TITLE=263 Queen Street East\, Unit 14:geo:-79.7429366,43.7000626
END:VEVENT
BEGIN:VEVENT
DTSTART;TZID=America/Toronto:20240222T100000
DTEND;TZID=America/Toronto:20240222T150000
DTSTAMP:20260420T173005
CREATED:20240125T144421Z
LAST-MODIFIED:20240125T144713Z
UID:10006560-1708596000-1708614000@achev.ca
SUMMARY:Free Service Canada Pension Clinic for Seniors: In-Person Appointment
DESCRIPTION:Are you a senior with questions about your Canada pension application? \n\n\n\nBook your 30-minute consultation to assist with your Canada Pension Plan (CPP) and Old Age Security (OAS) application. An appointment is required to attend the session: \n\n\n\n\nReview applications (CPP\, OAS\, GIS)\n\n\n\nDiscuss Guaranteed Income Supplements (GIS)\n\n\n\nDiscuss Death and Disability Benefits\n\n\n\nDiscuss other Service Canada benefits for seniors\n\n\n\n\nThis clinic will be delivered in collaboration with Service Canada. \n\n\n\nFollow us on LinkedIn\, Facebook\, Instagram or Twitter for our latest events\, workshops and news.
URL:https://achev.ca/event/free-service-canada-pension-clinic-for-seniors-in-person-appointment-february-22-24/
LOCATION:Seniors Engagement & Empowerment Network Centre – Brampton East\, 263 Queen Street East\, Unit 14\, Brampton\, ON\, L6W 4K6\, Canada
ATTACH;FMTTYPE=image/png:https://achev.ca/wp-content/uploads/2022/06/cpp-canada-pension-information.png
GEO:43.7000626;-79.7429366
X-APPLE-STRUCTURED-LOCATION;VALUE=URI;X-ADDRESS=Seniors Engagement & Empowerment Network Centre – Brampton East 263 Queen Street East Unit 14 Brampton ON L6W 4K6 Canada;X-APPLE-RADIUS=500;X-TITLE=263 Queen Street East\, Unit 14:geo:-79.7429366,43.7000626
END:VEVENT
END:VCALENDAR