BEGIN:VCALENDAR
VERSION:2.0
PRODID:-//Achēv - ECPv6.15.13//NONSGML v1.0//EN
CALSCALE:GREGORIAN
METHOD:PUBLISH
X-WR-CALNAME:Achēv
X-ORIGINAL-URL:https://achev.ca
X-WR-CALDESC:Events for Achēv
REFRESH-INTERVAL;VALUE=DURATION:PT1H
X-Robots-Tag:noindex
X-PUBLISHED-TTL:PT1H
BEGIN:VTIMEZONE
TZID:America/Toronto
BEGIN:DAYLIGHT
TZOFFSETFROM:-0500
TZOFFSETTO:-0400
TZNAME:EDT
DTSTART:20230312T070000
END:DAYLIGHT
BEGIN:STANDARD
TZOFFSETFROM:-0400
TZOFFSETTO:-0500
TZNAME:EST
DTSTART:20231105T060000
END:STANDARD
BEGIN:DAYLIGHT
TZOFFSETFROM:-0500
TZOFFSETTO:-0400
TZNAME:EDT
DTSTART:20240310T070000
END:DAYLIGHT
BEGIN:STANDARD
TZOFFSETFROM:-0400
TZOFFSETTO:-0500
TZNAME:EST
DTSTART:20241103T060000
END:STANDARD
BEGIN:DAYLIGHT
TZOFFSETFROM:-0500
TZOFFSETTO:-0400
TZNAME:EDT
DTSTART:20250309T070000
END:DAYLIGHT
BEGIN:STANDARD
TZOFFSETFROM:-0400
TZOFFSETTO:-0500
TZNAME:EST
DTSTART:20251102T060000
END:STANDARD
END:VTIMEZONE
BEGIN:VEVENT
DTSTART;TZID=America/Toronto:20240307T100000
DTEND;TZID=America/Toronto:20240307T120000
DTSTAMP:20260419T193014
CREATED:20240304T194211Z
LAST-MODIFIED:20240304T194446Z
UID:10006649-1709805600-1709812800@achev.ca
SUMMARY:Job Search Strategies: In-Person Session
DESCRIPTION:In this session\, you’ll learn about the following: \n\nHow to access jobs in the visible and hidden job market\nUnderstanding current job search tools and strategies\nUsing effective techniques to connect with employers\n\n\n\n\nFollow us on LinkedIn\, Facebook\, Instagram\, Threads\, Twitter or YouTube for our latest events\, workshops and news. \n\nDownload PDF
URL:https://achev.ca/event/job-search-strategies-in-person-session-march-7-24/
LOCATION:Employment Centre – Brampton East\, 263 Queen Street East\, Unit 14\, Brampton\, ON\, L6W 4K6\, Canada
ATTACH;FMTTYPE=image/png:https://achev.ca/wp-content/uploads/2023/12/Job-search-website.png
GEO:43.7000626;-79.7429366
X-APPLE-STRUCTURED-LOCATION;VALUE=URI;X-ADDRESS=Employment Centre – Brampton East 263 Queen Street East Unit 14 Brampton ON L6W 4K6 Canada;X-APPLE-RADIUS=500;X-TITLE=263 Queen Street East\, Unit 14:geo:-79.7429366,43.7000626
END:VEVENT
BEGIN:VEVENT
DTSTART;TZID=America/Toronto:20240222T100000
DTEND;TZID=America/Toronto:20240222T120000
DTSTAMP:20260419T193014
CREATED:20240122T201025Z
LAST-MODIFIED:20240201T211626Z
UID:10006545-1708596000-1708603200@achev.ca
SUMMARY:How to Ace Any Job Interview:  In-Person Session
DESCRIPTION:In this in-person workshop\, you will be able to: \n\nGet tips and advice on how to effectively prepare for interviews\nHow to answer tough questions using different techniques\nHow to leave a positive impression on your potential employer\n\n\n\n\n\nFollow us on LinkedIn\, Facebook\, Instagram\, Threads\, Twitter or YouTube for our latest events\, workshops and news.
URL:https://achev.ca/event/how-to-ace-any-job-interview-in-person-session-february-22-24/
LOCATION:Employment Centre – Brampton East\, 263 Queen Street East\, Unit 14\, Brampton\, ON\, L6W 4K6\, Canada
ATTACH;FMTTYPE=image/png:https://achev.ca/wp-content/uploads/2023/12/Counselling.png
GEO:43.7000626;-79.7429366
X-APPLE-STRUCTURED-LOCATION;VALUE=URI;X-ADDRESS=Employment Centre – Brampton East 263 Queen Street East Unit 14 Brampton ON L6W 4K6 Canada;X-APPLE-RADIUS=500;X-TITLE=263 Queen Street East\, Unit 14:geo:-79.7429366,43.7000626
END:VEVENT
BEGIN:VEVENT
DTSTART;TZID=America/Toronto:20240215T120000
DTEND;TZID=America/Toronto:20240215T150000
DTSTAMP:20260419T193014
CREATED:20240213T150049Z
LAST-MODIFIED:20240213T154307Z
UID:10006594-1707998400-1708009200@achev.ca
SUMMARY:In-Person Hiring Event: CarePartners
DESCRIPTION:CarePartners\, a leading health care institution\, is hiring health care professionals for their Brampton location. \nPositions Available: \n\nPersonal Support Workers (PSW Certification/equivalent nursing experience)\nHealth Support Workers (English proficiency: Level 6+)\n\nFollow us on LinkedIn\, Facebook\, Instagram\, Threads\, Twitter\, or YouTube for our latest events\, workshops and news.
URL:https://achev.ca/event/in-person-hiring-event-carepartners-february-15-24/
LOCATION:Employment Centre – Brampton East\, 263 Queen Street East\, Unit 14\, Brampton\, ON\, L6W 4K6\, Canada
ATTACH;FMTTYPE=image/png:https://achev.ca/wp-content/uploads/2024/02/A-nurse-taking-care-of-a-senior.png
GEO:43.7000626;-79.7429366
X-APPLE-STRUCTURED-LOCATION;VALUE=URI;X-ADDRESS=Employment Centre – Brampton East 263 Queen Street East Unit 14 Brampton ON L6W 4K6 Canada;X-APPLE-RADIUS=500;X-TITLE=263 Queen Street East\, Unit 14:geo:-79.7429366,43.7000626
END:VEVENT
BEGIN:VEVENT
DTSTART;TZID=America/Toronto:20240215T100000
DTEND;TZID=America/Toronto:20240215T120000
DTSTAMP:20260419T193014
CREATED:20240122T200938Z
LAST-MODIFIED:20240201T211527Z
UID:10006544-1707991200-1707998400@achev.ca
SUMMARY:Resume & Cover Letter Preparation: In-Person Session
DESCRIPTION:In this session\, you’ll learn about the following: \n\nDifferent types of resumes that will get you the job you are seeking\nHow to create a targeted resume\nWhy do you need a cover letter?\nHow to write an effective cover letter\n\n\n\n\nFollow us on LinkedIn\, Facebook\, Instagram\, Threads\, Twitter or YouTube for our latest events\, workshops and news.
URL:https://achev.ca/event/resume-cover-letter-preparation-in-person-session-february-15-24/
LOCATION:Employment Centre – Brampton East\, 263 Queen Street East\, Unit 14\, Brampton\, ON\, L6W 4K6\, Canada
ATTACH;FMTTYPE=image/png:https://achev.ca/wp-content/uploads/2022/03/Newcomer-resume-critique-1.png
GEO:43.7000626;-79.7429366
X-APPLE-STRUCTURED-LOCATION;VALUE=URI;X-ADDRESS=Employment Centre – Brampton East 263 Queen Street East Unit 14 Brampton ON L6W 4K6 Canada;X-APPLE-RADIUS=500;X-TITLE=263 Queen Street East\, Unit 14:geo:-79.7429366,43.7000626
END:VEVENT
BEGIN:VEVENT
DTSTART;TZID=America/Toronto:20240208T100000
DTEND;TZID=America/Toronto:20240208T120000
DTSTAMP:20260419T193015
CREATED:20240122T200838Z
LAST-MODIFIED:20240201T211040Z
UID:10006543-1707386400-1707393600@achev.ca
SUMMARY:Job Search Strategies:  In-Person Session
DESCRIPTION:In this session\, you'll learn about the following: \n\nHow to access jobs in the visible and hidden job market\nUnderstanding current job search tools and strategies\nUsing effective techniques to connect with employers\n\n\n\n\n\n\nFollow us on LinkedIn\, Facebook\, Instagram\, Threads\, Twitter\, or YouTube for our latest events\, workshops and news.
URL:https://achev.ca/event/job-search-strategies-in-person-session-february-8-24/
LOCATION:Employment Centre – Brampton East\, 263 Queen Street East\, Unit 14\, Brampton\, ON\, L6W 4K6\, Canada
ATTACH;FMTTYPE=image/png:https://achev.ca/wp-content/uploads/2023/01/person-searching-for-job-on-laptop.png
GEO:43.7000626;-79.7429366
X-APPLE-STRUCTURED-LOCATION;VALUE=URI;X-ADDRESS=Employment Centre – Brampton East 263 Queen Street East Unit 14 Brampton ON L6W 4K6 Canada;X-APPLE-RADIUS=500;X-TITLE=263 Queen Street East\, Unit 14:geo:-79.7429366,43.7000626
END:VEVENT
END:VCALENDAR