BEGIN:VCALENDAR
VERSION:2.0
PRODID:-//Achēv - ECPv6.15.13//NONSGML v1.0//EN
CALSCALE:GREGORIAN
METHOD:PUBLISH
X-ORIGINAL-URL:https://achev.ca
X-WR-CALDESC:Events for Achēv
REFRESH-INTERVAL;VALUE=DURATION:PT1H
X-Robots-Tag:noindex
X-PUBLISHED-TTL:PT1H
BEGIN:VTIMEZONE
TZID:America/Toronto
BEGIN:DAYLIGHT
TZOFFSETFROM:-0500
TZOFFSETTO:-0400
TZNAME:EDT
DTSTART:20230312T070000
END:DAYLIGHT
BEGIN:STANDARD
TZOFFSETFROM:-0400
TZOFFSETTO:-0500
TZNAME:EST
DTSTART:20231105T060000
END:STANDARD
BEGIN:DAYLIGHT
TZOFFSETFROM:-0500
TZOFFSETTO:-0400
TZNAME:EDT
DTSTART:20240310T070000
END:DAYLIGHT
BEGIN:STANDARD
TZOFFSETFROM:-0400
TZOFFSETTO:-0500
TZNAME:EST
DTSTART:20241103T060000
END:STANDARD
BEGIN:DAYLIGHT
TZOFFSETFROM:-0500
TZOFFSETTO:-0400
TZNAME:EDT
DTSTART:20250309T070000
END:DAYLIGHT
BEGIN:STANDARD
TZOFFSETFROM:-0400
TZOFFSETTO:-0500
TZNAME:EST
DTSTART:20251102T060000
END:STANDARD
END:VTIMEZONE
BEGIN:VEVENT
DTSTART;TZID=America/Toronto:20240522T100000
DTEND;TZID=America/Toronto:20240522T120000
DTSTAMP:20260420T124208
CREATED:20240423T200622Z
LAST-MODIFIED:20240423T200738Z
UID:10006816-1716372000-1716379200@achev.ca
SUMMARY:Care for Newcomer Children (CNC): Discovery Day: In-Person Activity
DESCRIPTION:This event is a wonderful opportunity for our preschoolers to delve into the fascinating world of magnets\, explore the concept of buoyancy\, and discover the textures of various surfaces. \n\n\n\n\nFollow us on LinkedIn\, Facebook\, Instagram\, Threads\, Twitter or YouTube for our latest events\, workshops and news.
URL:https://achev.ca/event/care-for-newcomer-children-cnc-discovery-day-in-person-activity-may-22-24/
LOCATION:Newcomer Information Centre – Oakville\, 690 Dorval Drive\, Suite 100\, Oakville\, Ontario\, L6K 3X9\, Canada
ATTACH;FMTTYPE=image/png:https://achev.ca/wp-content/uploads/2023/03/group-of-children-holding-a-globe.png
GEO:43.442645;-79.696521
X-APPLE-STRUCTURED-LOCATION;VALUE=URI;X-ADDRESS=Newcomer Information Centre – Oakville 690 Dorval Drive Suite 100 Oakville Ontario L6K 3X9 Canada;X-APPLE-RADIUS=500;X-TITLE=690 Dorval Drive\, Suite 100:geo:-79.696521,43.442645
END:VEVENT
BEGIN:VEVENT
DTSTART;TZID=America/Toronto:20240513T130000
DTEND;TZID=America/Toronto:20240513T143000
DTSTAMP:20260420T124208
CREATED:20240418T132446Z
LAST-MODIFIED:20240418T133946Z
UID:10006787-1715605200-1715610600@achev.ca
SUMMARY:Life in Long-Term Care Home (LTCH): In-Person Session
DESCRIPTION:This session will cover the following topics: \n\nEligibility for admission to long-term care home\nApplication process\nLong-term care home fees\nServices available in long-term care homes\nThings to do while waiting for admission to long-term care homes\nLife in long-term care homes\nRights of residents as mandated by the government\nPositive ways to prepare for long-term care home living\n\nChild care will be available during the session if required. This session will be conducted in Chinese/Mandarin.  \nThis webinar will be delivered in collaboration with The Cross-Cultural Community Services Association (TCCSA) . \n\nDownload PDF \n\nFollow us on LinkedIn\, Facebook\, Instagram\, Threads\, Twitter\, or YouTube for our latest events\, workshops and news.
URL:https://achev.ca/event/life-in-long-term-care-home-ltch-in-person-session-may-13-24/
LOCATION:Newcomer Information Centre – Oakville\, 690 Dorval Drive\, Suite 100\, Oakville\, Ontario\, L6K 3X9\, Canada
ATTACH;FMTTYPE=image/png:https://achev.ca/wp-content/uploads/2024/04/A-nurse-trying-to-help-a-senior.png
GEO:43.442645;-79.696521
X-APPLE-STRUCTURED-LOCATION;VALUE=URI;X-ADDRESS=Newcomer Information Centre – Oakville 690 Dorval Drive Suite 100 Oakville Ontario L6K 3X9 Canada;X-APPLE-RADIUS=500;X-TITLE=690 Dorval Drive\, Suite 100:geo:-79.696521,43.442645
END:VEVENT
BEGIN:VEVENT
DTSTART;TZID=America/Toronto:20240509T150000
DTEND;TZID=America/Toronto:20240509T160000
DTSTAMP:20260420T124208
CREATED:20240423T195742Z
LAST-MODIFIED:20240423T195924Z
UID:10006815-1715266800-1715270400@achev.ca
SUMMARY:Care for Newcomer Children (CNC): Mother’s Day Tea Party: In-Person Celebration
DESCRIPTION:Happy Mother’s Day! \nCome and join us at CNC Oakville for a delightful gathering over tea and refreshments\, where we will honour our mothers’ love and affection. Show your appreciation with a handmade gift. \n\n\n\n\nDownload PDF \nFollow us on LinkedIn\, Facebook\, Instagram\, Threads\, Twitter or YouTube for our latest events\, workshops and news.
URL:https://achev.ca/event/care-for-newcomer-children-cnc-mothers-day-tea-party-in-person-celebration-may-9-24/
LOCATION:Newcomer Information Centre – Oakville\, 690 Dorval Drive\, Suite 100\, Oakville\, Ontario\, L6K 3X9\, Canada
ATTACH;FMTTYPE=image/png:https://achev.ca/wp-content/uploads/2024/04/Two-daughters-kissing-their-mom.png
GEO:43.442645;-79.696521
X-APPLE-STRUCTURED-LOCATION;VALUE=URI;X-ADDRESS=Newcomer Information Centre – Oakville 690 Dorval Drive Suite 100 Oakville Ontario L6K 3X9 Canada;X-APPLE-RADIUS=500;X-TITLE=690 Dorval Drive\, Suite 100:geo:-79.696521,43.442645
END:VEVENT
BEGIN:VEVENT
DTSTART;TZID=America/Toronto:20240508T090000
DTEND;TZID=America/Toronto:20240508T160000
DTSTAMP:20260420T124208
CREATED:20240423T140403Z
LAST-MODIFIED:20240423T140403Z
UID:10006812-1715158800-1715184000@achev.ca
SUMMARY:Free Service Canada Clinic for Seniors & Newcomers: In-Person Appointment
DESCRIPTION:Book your 45-minute consultation to help you with your applications. An appointment is required to attend: \n\nCanada Pension Plan (CPP)\nOld Age Security (OAS)\nGuaranteed Income Supplement (GIS)\nSocial Insurance Number (SIN)\nEmployment Insurance (EI)\nMy Service Canada Account (MSCA)\n\nChild care will be available during the session if required. If you need assistance to apply for Social Insurance Number (SIN)\, please download PDF and refer to page 1. \nThis in-person appointment will be held in collaboration with Service Canada. \n\n\n\n\nFollow us on LinkedIn\, Facebook\, Instagram\, Threads\, Twitter or YouTube for our latest events\, workshops and news. \n  \n\nDownload PDF
URL:https://achev.ca/event/free-service-canada-clinic-for-seniors-newcomers-in-person-appointment-may-8-24/
LOCATION:Newcomer Information Centre – Oakville\, 690 Dorval Drive\, Suite 100\, Oakville\, Ontario\, L6K 3X9\, Canada
ATTACH;FMTTYPE=image/png:https://achev.ca/wp-content/uploads/2023/09/Someone-explaining-something-to-a-senior.png
GEO:43.442645;-79.696521
X-APPLE-STRUCTURED-LOCATION;VALUE=URI;X-ADDRESS=Newcomer Information Centre – Oakville 690 Dorval Drive Suite 100 Oakville Ontario L6K 3X9 Canada;X-APPLE-RADIUS=500;X-TITLE=690 Dorval Drive\, Suite 100:geo:-79.696521,43.442645
END:VEVENT
BEGIN:VEVENT
DTSTART;TZID=America/Toronto:20240418T100000
DTEND;TZID=America/Toronto:20240418T113000
DTSTAMP:20260420T124208
CREATED:20240311T143103Z
LAST-MODIFIED:20240311T143103Z
UID:10006660-1713434400-1713439800@achev.ca
SUMMARY:Newcomers Guide to Volunteering: In-Person Session
DESCRIPTION:Attend this Exciting New Workshop to Learn About: \n\nWhy\, When and How to Volunteer\nWhere to find Volunteer Opportunities\nHow Volunteering Can Help with Your Job Search\nValuable Tips\, Resources and More!\n\nChild care will be available during the session if required. This session will be conducted in Chinese/Mandarin.  \n\n\n\n\nFollow us on LinkedIn\, Facebook\, Instagram\, Threads\, Twitter or YouTube for our latest events\, workshops and news. \n\n  \nDownload PDF
URL:https://achev.ca/event/newcomers-guide-to-volunteering-in-person-session-april-18-24/
LOCATION:Newcomer Information Centre – Oakville\, 690 Dorval Drive\, Suite 100\, Oakville\, Ontario\, L6K 3X9\, Canada
ATTACH;FMTTYPE=image/png:https://achev.ca/wp-content/uploads/2024/03/A-lady-wearing-a-blue-shirt-that-has-volunteer-on-it.png
GEO:43.442645;-79.696521
X-APPLE-STRUCTURED-LOCATION;VALUE=URI;X-ADDRESS=Newcomer Information Centre – Oakville 690 Dorval Drive Suite 100 Oakville Ontario L6K 3X9 Canada;X-APPLE-RADIUS=500;X-TITLE=690 Dorval Drive\, Suite 100:geo:-79.696521,43.442645
END:VEVENT
BEGIN:VEVENT
DTSTART;TZID=America/Toronto:20240410T090000
DTEND;TZID=America/Toronto:20240410T160000
DTSTAMP:20260420T124208
CREATED:20240313T131927Z
LAST-MODIFIED:20240313T131927Z
UID:10006673-1712739600-1712764800@achev.ca
SUMMARY:Free Service Canada Clinic for Seniors & Newcomers: In-Person Appointment
DESCRIPTION:Book your 45-minute consultation to help you with your applications. An appointment is required to attend: \n\nCanada Pension Plan (CPP)\nOld Age Security (OAS)\nGuaranteed Income Supplement (GIS)\nSocial Insurance Number (SIN)\nEmployment Insurance (EI)\nMy Service Canada Account (MSCA)\n\nChild care will be available during the session if required. If you need assistance to apply for Social Insurance Number (SIN)\, please download PDF and refer to page 2. \nThis in-person appointment will be held in collaboration with Service Canada. \n\n\n\n\nFollow us on LinkedIn\, Facebook\, Instagram\, Threads\, Twitter or YouTube for our latest events\, workshops and news. \n  \n\nDownload PDF
URL:https://achev.ca/event/free-service-canada-clinic-for-seniors-newcomers-in-person-appointment-april-10-24/
LOCATION:Newcomer Information Centre – Oakville\, 690 Dorval Drive\, Suite 100\, Oakville\, Ontario\, L6K 3X9\, Canada
ATTACH;FMTTYPE=image/png:https://achev.ca/wp-content/uploads/2023/09/Someone-explaining-something-to-a-senior.png
GEO:43.442645;-79.696521
X-APPLE-STRUCTURED-LOCATION;VALUE=URI;X-ADDRESS=Newcomer Information Centre – Oakville 690 Dorval Drive Suite 100 Oakville Ontario L6K 3X9 Canada;X-APPLE-RADIUS=500;X-TITLE=690 Dorval Drive\, Suite 100:geo:-79.696521,43.442645
END:VEVENT
BEGIN:VEVENT
DTSTART;TZID=America/Toronto:20240408T133000
DTEND;TZID=America/Toronto:20240408T150000
DTSTAMP:20260420T124208
CREATED:20240311T141311Z
LAST-MODIFIED:20240311T142832Z
UID:10006659-1712583000-1712588400@achev.ca
SUMMARY:Employment Support and Job Opportunities in Real Estate: In-Person Session
DESCRIPTION:This session will cover the following topics: \n\nOverview of Ontario's real estate industry\nCareer and job opportunities in the real estate industry\nEntrepreneurship\, investment\, and business opportunities in various sectors of real estate-related industries\nHow to enter the advanced phase of real estate investment – land development.\nFAQs on buying or selling real estate by newcomers\n\nChild care will be available during the session if required. This session will be conducted in Chinese/Mandarin.  \nThis session will be  held in collaboration with The Cross-Cultural Community Services Association (TCCSA). \n\n\n\n\nFollow us on LinkedIn\, Facebook\, Instagram\, Threads\, Twitter or YouTube for our latest events\, workshops and news. \n\n  \nDownload PDF
URL:https://achev.ca/event/employment-support-and-job-opportunities-in-real-estate-in-person-session-april-8-24-2/
LOCATION:Newcomer Information Centre – Oakville\, 690 Dorval Drive\, Suite 100\, Oakville\, Ontario\, L6K 3X9\, Canada
ATTACH;FMTTYPE=image/png:https://achev.ca/wp-content/uploads/2024/03/A-business-woman-spreading-her-arms-in-a-city.png
GEO:43.442645;-79.696521
X-APPLE-STRUCTURED-LOCATION;VALUE=URI;X-ADDRESS=Newcomer Information Centre – Oakville 690 Dorval Drive Suite 100 Oakville Ontario L6K 3X9 Canada;X-APPLE-RADIUS=500;X-TITLE=690 Dorval Drive\, Suite 100:geo:-79.696521,43.442645
END:VEVENT
BEGIN:VEVENT
DTSTART;TZID=America/Toronto:20240408T110000
DTEND;TZID=America/Toronto:20240408T123000
DTSTAMP:20260420T124208
CREATED:20240320T183420Z
LAST-MODIFIED:20240320T183603Z
UID:10006725-1712574000-1712579400@achev.ca
SUMMARY:Care for Newcomer Children (CNC) In-Person Activity: PA Day Special Event
DESCRIPTION:Children will have fun playing a variety of board games and card games. They will also enjoy a delicious pizza lunch while socializing with their peers. \n\n\n\n\nFollow us on LinkedIn\, Facebook\, Instagram\, Threads\, Twitter or YouTube for our latest events\, workshops and news. \n\n  \nDownload PDF
URL:https://achev.ca/event/care-for-newcomer-children-cnc-in-person-activity-pa-day-special-event-april-8-24/
LOCATION:Newcomer Information Centre – Oakville\, 690 Dorval Drive\, Suite 100\, Oakville\, Ontario\, L6K 3X9\, Canada
ATTACH;FMTTYPE=image/png:https://achev.ca/wp-content/uploads/2022/09/group-of-kids-in-a-ball-pit.png
GEO:43.442645;-79.696521
X-APPLE-STRUCTURED-LOCATION;VALUE=URI;X-ADDRESS=Newcomer Information Centre – Oakville 690 Dorval Drive Suite 100 Oakville Ontario L6K 3X9 Canada;X-APPLE-RADIUS=500;X-TITLE=690 Dorval Drive\, Suite 100:geo:-79.696521,43.442645
END:VEVENT
BEGIN:VEVENT
DTSTART;TZID=America/Toronto:20240408T110000
DTEND;TZID=America/Toronto:20240408T123000
DTSTAMP:20260420T124208
CREATED:20240306T180227Z
LAST-MODIFIED:20240306T180532Z
UID:10006652-1712574000-1712579400@achev.ca
SUMMARY:Improving Communication Skills to Elevate Your Quality of Life: In-Person Session
DESCRIPTION:In this workshop\, you will learn effective techniques that will inspire you to: \n\nStrengthen a resilient mindset to build healthy relationships\nUnderstand where you are now and where you would like to be\nIdentify your needs and turn them into clear objectives\nBecome a greater listener\n\nRefreshments will be served at the event. Childcare services are available for eligible clients. \n\n\n\n\n\nFollow us on LinkedIn\, Facebook\, Instagram\, Threads\, Twitter\, or YouTube for our latest events\, workshops and news. \n\nDownload PDF
URL:https://achev.ca/event/improving-communication-skills-to-elevate-your-quality-of-life-in-person-session-april-8-24/
LOCATION:Newcomer Information Centre – Oakville\, 690 Dorval Drive\, Suite 100\, Oakville\, Ontario\, L6K 3X9\, Canada
ATTACH;FMTTYPE=image/png:https://achev.ca/wp-content/uploads/2024/03/A-CEO-having-a-conversation-with-the-staff.png
GEO:43.442645;-79.696521
X-APPLE-STRUCTURED-LOCATION;VALUE=URI;X-ADDRESS=Newcomer Information Centre – Oakville 690 Dorval Drive Suite 100 Oakville Ontario L6K 3X9 Canada;X-APPLE-RADIUS=500;X-TITLE=690 Dorval Drive\, Suite 100:geo:-79.696521,43.442645
END:VEVENT
BEGIN:VEVENT
DTSTART;TZID=America/Toronto:20240319T110000
DTEND;TZID=America/Toronto:20240319T130000
DTSTAMP:20260420T124208
CREATED:20240123T160417Z
LAST-MODIFIED:20240123T160837Z
UID:10006554-1710846000-1710853200@achev.ca
SUMMARY:Free In-Person Group CPR Training for Women
DESCRIPTION:Obtain a CPR Level C Certification valid for 1 year. \nEligibility: Training is open only to Newcomer Women with the following status: \n\nPermanent Resident\nConvention Refugee\nCUAET holders\n\nChildcare will be available during the session. \n\n\n\nFollow us on LinkedIn\, Facebook\, Instagram\, Threads\, Twitter\, or YouTube for our latest events\, workshops and news.
URL:https://achev.ca/event/free-in-person-group-cpr-training-for-women-march-19-24/
LOCATION:Newcomer Information Centre – Oakville\, 690 Dorval Drive\, Suite 100\, Oakville\, Ontario\, L6K 3X9\, Canada
ATTACH;FMTTYPE=image/png:https://achev.ca/wp-content/uploads/2024/01/A-person-teaching-students-how-to-perform-CPR.png
GEO:43.442645;-79.696521
X-APPLE-STRUCTURED-LOCATION;VALUE=URI;X-ADDRESS=Newcomer Information Centre – Oakville 690 Dorval Drive Suite 100 Oakville Ontario L6K 3X9 Canada;X-APPLE-RADIUS=500;X-TITLE=690 Dorval Drive\, Suite 100:geo:-79.696521,43.442645
END:VEVENT
BEGIN:VEVENT
DTSTART;TZID=America/Toronto:20240305T110000
DTEND;TZID=America/Toronto:20240305T130000
DTSTAMP:20260420T124208
CREATED:20240215T191835Z
LAST-MODIFIED:20240215T191947Z
UID:10006617-1709636400-1709643600@achev.ca
SUMMARY:International Women’s Day: In-Person Event
DESCRIPTION:Join us at our Oakville location to celebrate International Women's Day! \nCome have fun in an interactive workshop where you’ll be guided to create your very own unique wool basket. Participants will learn the basics of how to make woolen baskets to take home. \nSupplies and refreshments will be provided. \nGet a chance to win prizes in our raffle drawings! \nThis event will be held in collaboration with Mosaic Foundation. \n\n\n\nFollow us on LinkedIn\, Facebook\, Instagram\, Threads\, Twitter\, or YouTube for our latest events\, workshops and news.
URL:https://achev.ca/event/international-womens-day-in-person-event-march-5-24/
LOCATION:Newcomer Information Centre – Oakville\, 690 Dorval Drive\, Suite 100\, Oakville\, Ontario\, L6K 3X9\, Canada
ATTACH;FMTTYPE=image/png:https://achev.ca/wp-content/uploads/2024/02/A-turquoise-basket-with-creams.png
GEO:43.442645;-79.696521
X-APPLE-STRUCTURED-LOCATION;VALUE=URI;X-ADDRESS=Newcomer Information Centre – Oakville 690 Dorval Drive Suite 100 Oakville Ontario L6K 3X9 Canada;X-APPLE-RADIUS=500;X-TITLE=690 Dorval Drive\, Suite 100:geo:-79.696521,43.442645
END:VEVENT
BEGIN:VEVENT
DTSTART;TZID=America/Toronto:20240214T110000
DTEND;TZID=America/Toronto:20240214T130000
DTSTAMP:20260420T124208
CREATED:20240122T154638Z
LAST-MODIFIED:20240122T154720Z
UID:10006539-1707908400-1707915600@achev.ca
SUMMARY:Family Day & Valentine’s Day Celebration:  In-Person Event
DESCRIPTION:Join us at our Oakville location to celebrate Family Day and Valentine's Day! \nCreate your very own unique stained glass-style art piece. Participants will learn the basics of glass painting and cover techniques specific to this painting style. \nOur child care staff will have a separate activity for children. They will make crafts and decorate cupcakes. \nSupplies and refreshments will be provided. Get a chance to win prizes in our raffle drawings!  \nThis event will be held in collaboration with the  Mosaic Foundation. \n\n\n\nFollow us on LinkedIn\, Facebook\, Instagram\, Threads\, Twitter\, or YouTube for our latest events\, workshops and news.
URL:https://achev.ca/event/family-day-valentines-day-celebration-in-person-event-february-14-24/
LOCATION:Newcomer Information Centre – Oakville\, 690 Dorval Drive\, Suite 100\, Oakville\, Ontario\, L6K 3X9\, Canada
ATTACH;FMTTYPE=image/png:https://achev.ca/wp-content/uploads/2024/01/Someone-is-painting-a-glass-jar.png
GEO:43.442645;-79.696521
X-APPLE-STRUCTURED-LOCATION;VALUE=URI;X-ADDRESS=Newcomer Information Centre – Oakville 690 Dorval Drive Suite 100 Oakville Ontario L6K 3X9 Canada;X-APPLE-RADIUS=500;X-TITLE=690 Dorval Drive\, Suite 100:geo:-79.696521,43.442645
END:VEVENT
BEGIN:VEVENT
DTSTART;TZID=America/Toronto:20240207T130000
DTEND;TZID=America/Toronto:20240207T150000
DTSTAMP:20260420T124208
CREATED:20240118T141643Z
LAST-MODIFIED:20240118T141643Z
UID:10006514-1707310800-1707318000@achev.ca
SUMMARY:Canadian Tax System: In-Person Session in Spanish
DESCRIPTION:This session will cover the following topics: \n\nHow income tax system works in Canada\nBenefits and Credits:\n\nCanada Child Benefit\nGST/HST Credit\nDisability Tax Credit\nChild Disability Benefit\nCanada Works Benefit\nClimate Action Incentive\n\n\nRates: Provincial and federal rates\nDeadlines\n\nThis session will be conducted in Spanish. Refreshments will be served at the event. Childcare services available for eligible clients. \nThis event will be delivered in collaboration with Damaris Fernandez​ Accounting. \n\n\n\n\nFollow us on LinkedIn\, Facebook\, Instagram\, Threads\, Twitter or YouTube for our latest events\, workshops and news.
URL:https://achev.ca/event/canadian-tax-system-in-person-session-in-spanish/
LOCATION:Newcomer Information Centre – Oakville\, 690 Dorval Drive\, Suite 100\, Oakville\, Ontario\, L6K 3X9\, Canada
ATTACH;FMTTYPE=image/png:https://achev.ca/wp-content/uploads/2023/11/File-tax-return.png
GEO:43.442645;-79.696521
X-APPLE-STRUCTURED-LOCATION;VALUE=URI;X-ADDRESS=Newcomer Information Centre – Oakville 690 Dorval Drive Suite 100 Oakville Ontario L6K 3X9 Canada;X-APPLE-RADIUS=500;X-TITLE=690 Dorval Drive\, Suite 100:geo:-79.696521,43.442645
END:VEVENT
BEGIN:VEVENT
DTSTART;TZID=America/Toronto:20240205T130000
DTEND;TZID=America/Toronto:20240205T143000
DTSTAMP:20260420T124208
CREATED:20240115T154507Z
LAST-MODIFIED:20240115T165248Z
UID:10006499-1707138000-1707143400@achev.ca
SUMMARY:Festive Chinese New Year Celebration: In-Person Session
DESCRIPTION:This session will cover the following topics: \n\nDifferent characteristics of Chinese New Year celebrations in various places in China – folk customs and delicacies\nHow overseas Chinese people celebrate the Chinese New Year？\nHow to say Chinese New Year blessings in English\nLet's play a Guess-Lantern-Riddles game\nSharing the most up-to-date community information\n\nThis session will be conducted in Chinese/Mandarin. Child care will be available during the session if required. \nThis event will be delivered in collaboration with The Cross-Cultural Community Services Association (TCCSA). \n\n\n\n\nFollow us on LinkedIn\, Facebook\, Instagram\, Threads\, Twitter or YouTube for our latest events\, workshops and news.
URL:https://achev.ca/event/festive-chinese-new-year-celebration-in-person-session-feb-5/
LOCATION:Newcomer Information Centre – Oakville\, 690 Dorval Drive\, Suite 100\, Oakville\, Ontario\, L6K 3X9\, Canada
ATTACH;FMTTYPE=image/png:https://achev.ca/wp-content/uploads/2024/01/chinese-new-year-celebration.png
GEO:43.442645;-79.696521
X-APPLE-STRUCTURED-LOCATION;VALUE=URI;X-ADDRESS=Newcomer Information Centre – Oakville 690 Dorval Drive Suite 100 Oakville Ontario L6K 3X9 Canada;X-APPLE-RADIUS=500;X-TITLE=690 Dorval Drive\, Suite 100:geo:-79.696521,43.442645
END:VEVENT
END:VCALENDAR