BEGIN:VCALENDAR
VERSION:2.0
PRODID:-//Achēv - ECPv6.15.13//NONSGML v1.0//EN
CALSCALE:GREGORIAN
METHOD:PUBLISH
X-WR-CALNAME:Achēv
X-ORIGINAL-URL:https://achev.ca
X-WR-CALDESC:Events for Achēv
REFRESH-INTERVAL;VALUE=DURATION:PT1H
X-Robots-Tag:noindex
X-PUBLISHED-TTL:PT1H
BEGIN:VTIMEZONE
TZID:America/Toronto
BEGIN:DAYLIGHT
TZOFFSETFROM:-0500
TZOFFSETTO:-0400
TZNAME:EDT
DTSTART:20230312T070000
END:DAYLIGHT
BEGIN:STANDARD
TZOFFSETFROM:-0400
TZOFFSETTO:-0500
TZNAME:EST
DTSTART:20231105T060000
END:STANDARD
BEGIN:DAYLIGHT
TZOFFSETFROM:-0500
TZOFFSETTO:-0400
TZNAME:EDT
DTSTART:20240310T070000
END:DAYLIGHT
BEGIN:STANDARD
TZOFFSETFROM:-0400
TZOFFSETTO:-0500
TZNAME:EST
DTSTART:20241103T060000
END:STANDARD
BEGIN:DAYLIGHT
TZOFFSETFROM:-0500
TZOFFSETTO:-0400
TZNAME:EDT
DTSTART:20250309T070000
END:DAYLIGHT
BEGIN:STANDARD
TZOFFSETFROM:-0400
TZOFFSETTO:-0500
TZNAME:EST
DTSTART:20251102T060000
END:STANDARD
BEGIN:DAYLIGHT
TZOFFSETFROM:-0500
TZOFFSETTO:-0400
TZNAME:EDT
DTSTART:20260308T070000
END:DAYLIGHT
BEGIN:STANDARD
TZOFFSETFROM:-0400
TZOFFSETTO:-0500
TZNAME:EST
DTSTART:20261101T060000
END:STANDARD
BEGIN:DAYLIGHT
TZOFFSETFROM:-0500
TZOFFSETTO:-0400
TZNAME:EDT
DTSTART:20270314T070000
END:DAYLIGHT
BEGIN:STANDARD
TZOFFSETFROM:-0400
TZOFFSETTO:-0500
TZNAME:EST
DTSTART:20271107T060000
END:STANDARD
END:VTIMEZONE
BEGIN:VEVENT
DTSTART;TZID=America/Toronto:20260211T110000
DTEND;TZID=America/Toronto:20260211T130000
DTSTAMP:20260420T174458
CREATED:20260122T171516Z
LAST-MODIFIED:20260122T171650Z
UID:10009639-1770807600-1770814800@achev.ca
SUMMARY:Family Day Celebration: In-Person Event
DESCRIPTION:Join our Family Day celebration by enjoying an afternoon designing your own Kraft Journal. \nLimited Seats Available \n\n\n\n\nDownload PDF \nFollow us on LinkedIn\, Facebook\, Instagram\, Threads\, Twitter or YouTube for our latest events\, workshops and news.
URL:https://achev.ca/event/family-day-celebration-in-person-event-feb-11-26/
LOCATION:Newcomer Information Centre – Brampton South\, 7700 Hurontario Street\, Unit 601\, Suite 100\, Brampton\, ON\, L6Y 4M3\, Canada
ATTACH;FMTTYPE=image/png:https://achev.ca/wp-content/uploads/2022/12/happy-parents-giving-kids-piggybacks.png
GEO:43.6595514;-79.7252889
X-APPLE-STRUCTURED-LOCATION;VALUE=URI;X-ADDRESS=Newcomer Information Centre – Brampton South 7700 Hurontario Street Unit 601 Suite 100 Brampton ON L6Y 4M3 Canada;X-APPLE-RADIUS=500;X-TITLE=7700 Hurontario Street\, Unit 601\, Suite 100:geo:-79.7252889,43.6595514
END:VEVENT
BEGIN:VEVENT
DTSTART;TZID=America/Toronto:20251203T110000
DTEND;TZID=America/Toronto:20251203T140000
DTSTAMP:20260420T174458
CREATED:20251121T225904Z
LAST-MODIFIED:20251121T231522Z
UID:10009456-1764759600-1764770400@achev.ca
SUMMARY:Client Appreciation Day: In-Person Event
DESCRIPTION:Join our client appreciation celebration with a fun-filled afternoon of activities\, raffles and creating your own ornaments! \nLimited Seats Available  \n\n\n\n\n\nDownload PDF \nFollow us on LinkedIn\, Facebook\, Instagram\, Threads\, Twitter or YouTube for our latest events\, workshops and news. \n\n 
URL:https://achev.ca/event/client-appreciation-day-in-person-event-dec-3-25/
LOCATION:Newcomer Information Centre – Brampton South\, 7700 Hurontario Street\, Unit 601\, Suite 100\, Brampton\, ON\, L6Y 4M3\, Canada
ATTACH;FMTTYPE=image/png:https://achev.ca/wp-content/uploads/2022/11/christmas-thank-you-graphic.png
GEO:43.6595514;-79.7252889
X-APPLE-STRUCTURED-LOCATION;VALUE=URI;X-ADDRESS=Newcomer Information Centre – Brampton South 7700 Hurontario Street Unit 601 Suite 100 Brampton ON L6Y 4M3 Canada;X-APPLE-RADIUS=500;X-TITLE=7700 Hurontario Street\, Unit 601\, Suite 100:geo:-79.7252889,43.6595514
END:VEVENT
BEGIN:VEVENT
DTSTART;TZID=America/Toronto:20251023T100000
DTEND;TZID=America/Toronto:20251023T110000
DTSTAMP:20260420T174458
CREATED:20250920T143141Z
LAST-MODIFIED:20250920T143651Z
UID:10009243-1761213600-1761217200@achev.ca
SUMMARY:Museum Memories - Stimulating Memory Through Art: In-Person Session
DESCRIPTION:We invite adults 55+ to join this session in collaboration with Peel Art Gallery Museum + Archives (PAMA). Professional educators from PAMA will be delivering a themed presentation highlighting their collections. The workshop will help stimulate memory and conversation with hands-on activities. \nThis session will be held in collaboration with PAMA. \nDownload PDF \nFollow us on LinkedIn\, Facebook\, Instagram\, Threads\, Twitter\, or YouTube for our latest events\, workshops and news. \n  \n\n 
URL:https://achev.ca/event/museum-memories-stimulating-memory-through-art-in-person-session-oct-23-25/
LOCATION:Newcomer Information Centre – Brampton South\, 7700 Hurontario Street\, Unit 601\, Suite 100\, Brampton\, ON\, L6Y 4M3\, Canada
ATTACH;FMTTYPE=image/png:https://achev.ca/wp-content/uploads/2025/09/Art-Gallery.png
GEO:43.6595514;-79.7252889
X-APPLE-STRUCTURED-LOCATION;VALUE=URI;X-ADDRESS=Newcomer Information Centre – Brampton South 7700 Hurontario Street Unit 601 Suite 100 Brampton ON L6Y 4M3 Canada;X-APPLE-RADIUS=500;X-TITLE=7700 Hurontario Street\, Unit 601\, Suite 100:geo:-79.7252889,43.6595514
END:VEVENT
BEGIN:VEVENT
DTSTART;TZID=America/Toronto:20251002T130000
DTEND;TZID=America/Toronto:20251002T150000
DTSTAMP:20260420T174458
CREATED:20250920T144613Z
LAST-MODIFIED:20250920T145707Z
UID:10009245-1759410000-1759417200@achev.ca
SUMMARY:Celebrating National Senior’s Day: In-Person Event
DESCRIPTION:Join us in celebrating National Seniors Day with a fun-filled afternoon with Chair Yoga. Chair Yoga offers a safe\, gentle\, and highly effective way for seniors to maintain mobility and improve well-being. \nDownload PDF \nFollow us on LinkedIn\, Facebook\, Instagram\, Threads\, Twitter\, or YouTube for our latest events\, workshops and news. \n  \n\n 
URL:https://achev.ca/event/celebrating-national-seniors-day-in-person-event-oct-2-25/
LOCATION:Newcomer Information Centre – Brampton South\, 7700 Hurontario Street\, Unit 601\, Suite 100\, Brampton\, ON\, L6Y 4M3\, Canada
ATTACH;FMTTYPE=image/png:https://achev.ca/wp-content/uploads/2022/08/seniors-taking-a-selfie.png
GEO:43.6595514;-79.7252889
X-APPLE-STRUCTURED-LOCATION;VALUE=URI;X-ADDRESS=Newcomer Information Centre – Brampton South 7700 Hurontario Street Unit 601 Suite 100 Brampton ON L6Y 4M3 Canada;X-APPLE-RADIUS=500;X-TITLE=7700 Hurontario Street\, Unit 601\, Suite 100:geo:-79.7252889,43.6595514
END:VEVENT
BEGIN:VEVENT
DTSTART;TZID=America/Toronto:20250930T110000
DTEND;TZID=America/Toronto:20250930T130000
DTSTAMP:20260420T174458
CREATED:20250818T155459Z
LAST-MODIFIED:20250818T155711Z
UID:10009141-1759230000-1759237200@achev.ca
SUMMARY:Truth and Reconciliation Day: In-Person Session
DESCRIPTION:Join us for a meaningful gathering to learn about the history and significance of Truth and Reconciliation Day. In this workshop\, you will have the opportunity to create your own orange shirt. Light refreshments will be provided. \n\nLimited Seats Available. \n\nDownload PDF \n\n\n\n\n\nFollow us on LinkedIn\, Facebook\, Instagram\, Threads\, Twitter or YouTube for our latest events\, workshops and news. \n\n 
URL:https://achev.ca/event/truth-and-reconciliation-day-in-person-session-sep-30-25/
LOCATION:Newcomer Information Centre – Brampton South\, 7700 Hurontario Street\, Unit 601\, Suite 100\, Brampton\, ON\, L6Y 4M3\, Canada
ATTACH;FMTTYPE=image/png:https://achev.ca/wp-content/uploads/2025/08/An-orange-flag-with-EVERY-CHILD-MATTERS-written-on-it.png
GEO:43.6595514;-79.7252889
X-APPLE-STRUCTURED-LOCATION;VALUE=URI;X-ADDRESS=Newcomer Information Centre – Brampton South 7700 Hurontario Street Unit 601 Suite 100 Brampton ON L6Y 4M3 Canada;X-APPLE-RADIUS=500;X-TITLE=7700 Hurontario Street\, Unit 601\, Suite 100:geo:-79.7252889,43.6595514
END:VEVENT
BEGIN:VEVENT
DTSTART;TZID=America/Toronto:20250624T110000
DTEND;TZID=America/Toronto:20250624T130000
DTSTAMP:20260420T174458
CREATED:20250520T182524Z
LAST-MODIFIED:20250520T182524Z
UID:10008847-1750762800-1750770000@achev.ca
SUMMARY:Celebrate Multiculturalism Through Art: In-Person Session
DESCRIPTION:Come together to celebrate the beauty of multiculturalism through art. Join our canvas painting session to express your heritage by painting symbols on canvases representing your cultural background. Bring your creativity and wear your traditional clothing and enjoy some light refreshments as you paint. \nLimited Seats Available. \n\n\n\nDownload PDF \nFollow us on LinkedIn\, Facebook\, Instagram\, Threads\, Twitter\, or YouTube for our latest events\, workshops and news.
URL:https://achev.ca/event/celebrate-multiculturalism-through-art-in-person-session-june-24-25/
LOCATION:Newcomer Information Centre – Brampton South\, 7700 Hurontario Street\, Unit 601\, Suite 100\, Brampton\, ON\, L6Y 4M3\, Canada
ATTACH;FMTTYPE=image/png:https://achev.ca/wp-content/uploads/2023/12/Painting-brush-with-paints-on-a-painting-picture.png
GEO:43.6595514;-79.7252889
X-APPLE-STRUCTURED-LOCATION;VALUE=URI;X-ADDRESS=Newcomer Information Centre – Brampton South 7700 Hurontario Street Unit 601 Suite 100 Brampton ON L6Y 4M3 Canada;X-APPLE-RADIUS=500;X-TITLE=7700 Hurontario Street\, Unit 601\, Suite 100:geo:-79.7252889,43.6595514
END:VEVENT
BEGIN:VEVENT
DTSTART;TZID=America/Toronto:20250624T110000
DTEND;TZID=America/Toronto:20250624T120000
DTSTAMP:20260420T174458
CREATED:20250617T170136Z
LAST-MODIFIED:20250617T171400Z
UID:10008944-1750762800-1750766400@achev.ca
SUMMARY:Celebrating National Indigenous Peoples Day: In Person Event
DESCRIPTION:Come together to celebrate National Indigenous Peoples Day and recognize the traditions\, cultures and contributions of First Nations\, Inuit and Métis. Join our canvas painting session to learn about the significance of the Eagle Feather in Indigenous cultures. Bring your creativity\, wear your traditional clothing and enjoy some light refreshments as you paint. \nLimited Seats Available. \nDownload PDF \n\nFollow us on LinkedIn\, Facebook\, Instagram\, Threads\, Twitter or YouTube for our latest events\, workshops and news. \n\n 
URL:https://achev.ca/event/celebrating-national-indigenous-peoples-day-in-person-event-june-24-25/
LOCATION:Newcomer Information Centre – Brampton South\, 7700 Hurontario Street\, Unit 601\, Suite 100\, Brampton\, ON\, L6Y 4M3\, Canada
ATTACH;FMTTYPE=image/png:https://achev.ca/wp-content/uploads/2025/06/Feather-on-white-paint-wooden-table.png
GEO:43.6595514;-79.7252889
X-APPLE-STRUCTURED-LOCATION;VALUE=URI;X-ADDRESS=Newcomer Information Centre – Brampton South 7700 Hurontario Street Unit 601 Suite 100 Brampton ON L6Y 4M3 Canada;X-APPLE-RADIUS=500;X-TITLE=7700 Hurontario Street\, Unit 601\, Suite 100:geo:-79.7252889,43.6595514
END:VEVENT
BEGIN:VEVENT
DTSTART;TZID=America/Toronto:20250610T130000
DTEND;TZID=America/Toronto:20250610T140000
DTSTAMP:20260420T174458
CREATED:20250520T184507Z
LAST-MODIFIED:20250520T185159Z
UID:10008849-1749560400-1749564000@achev.ca
SUMMARY:Fire Safety and Prevention: In-Person Information Session
DESCRIPTION:Join our session with Brampton Fire and Emergency Services to learn about fire prevention\, detection and escape for you and your family in case of an emergency. Topics covered will include keeping you and your family safe\, vital information about the maintenance of smoke alarms and more! \nThis event will be held in collaboration with the Brampton Fire & Emergency Services.  \nDownload PDF \n\n\n\n\nFollow us on LinkedIn\, Facebook\, Instagram\, Threads\, Twitter or YouTube for our latest events\, workshops and news.
URL:https://achev.ca/event/fire-safety-and-prevention-in-person-information-session-june-10-25/
LOCATION:Newcomer Information Centre – Brampton South\, 7700 Hurontario Street\, Unit 601\, Suite 100\, Brampton\, ON\, L6Y 4M3\, Canada
ATTACH;FMTTYPE=image/png:https://achev.ca/wp-content/uploads/2023/07/Fire-fighter-extinguishing-flames.png
GEO:43.6595514;-79.7252889
X-APPLE-STRUCTURED-LOCATION;VALUE=URI;X-ADDRESS=Newcomer Information Centre – Brampton South 7700 Hurontario Street Unit 601 Suite 100 Brampton ON L6Y 4M3 Canada;X-APPLE-RADIUS=500;X-TITLE=7700 Hurontario Street\, Unit 601\, Suite 100:geo:-79.7252889,43.6595514
END:VEVENT
BEGIN:VEVENT
DTSTART;TZID=America/Toronto:20250430T100000
DTEND;TZID=America/Toronto:20250430T110000
DTSTAMP:20260420T174458
CREATED:20250409T185354Z
LAST-MODIFIED:20250409T190415Z
UID:10008735-1746007200-1746010800@achev.ca
SUMMARY:Meet and Greet: In-Person Event
DESCRIPTION:Are you excited to meet new friends and reconnect with familiar faces? \nJoin us for a special In-Person Gathering: \n\nWarm and friendly introductions\nEngaging conversations about upcoming sessions\nLight refreshments and snacks will be provided\n\n\n\n\nDownload PDF \nFollow us on LinkedIn\, Facebook\, Instagram\, Threads\, Twitter\, or YouTube for our latest events\, workshops and news.
URL:https://achev.ca/event/meet-and-greet-in-person-event-april-30-25/
LOCATION:Newcomer Information Centre – Brampton South\, 7700 Hurontario Street\, Unit 601\, Suite 100\, Brampton\, ON\, L6Y 4M3\, Canada
ATTACH;FMTTYPE=image/png:https://achev.ca/wp-content/uploads/2023/06/woman-sitting-in-professional-classroom.png
GEO:43.6595514;-79.7252889
X-APPLE-STRUCTURED-LOCATION;VALUE=URI;X-ADDRESS=Newcomer Information Centre – Brampton South 7700 Hurontario Street Unit 601 Suite 100 Brampton ON L6Y 4M3 Canada;X-APPLE-RADIUS=500;X-TITLE=7700 Hurontario Street\, Unit 601\, Suite 100:geo:-79.7252889,43.6595514
END:VEVENT
BEGIN:VEVENT
DTSTART;TZID=America/Toronto:20250304T100000
DTEND;TZID=America/Toronto:20250304T110000
DTSTAMP:20260420T174458
CREATED:20250213T233936Z
LAST-MODIFIED:20250213T234311Z
UID:10008612-1741082400-1741086000@achev.ca
SUMMARY:In-person International Women's Day Celebration
DESCRIPTION:Join us in celebrating International Women's Day with a fun-filled morning of activities\, games\, food\, raffle draws and much more! \n\n\n \n\n\n \n\n\n \n\n\n\nDownload PDF \nFollow us on LinkedIn\, Facebook\, Instagram\, Threads\, Twitter\, or YouTube for our latest events\, workshops and news. \n  \n\n 
URL:https://achev.ca/event/in-person-international-womens-day-celebration-mar-4-25/
LOCATION:Newcomer Information Centre – Brampton South\, 7700 Hurontario Street\, Unit 601\, Suite 100\, Brampton\, ON\, L6Y 4M3\, Canada
ATTACH;FMTTYPE=image/png:https://achev.ca/wp-content/uploads/2023/05/Diverse-woman.png
GEO:43.6595514;-79.7252889
X-APPLE-STRUCTURED-LOCATION;VALUE=URI;X-ADDRESS=Newcomer Information Centre – Brampton South 7700 Hurontario Street Unit 601 Suite 100 Brampton ON L6Y 4M3 Canada;X-APPLE-RADIUS=500;X-TITLE=7700 Hurontario Street\, Unit 601\, Suite 100:geo:-79.7252889,43.6595514
END:VEVENT
BEGIN:VEVENT
DTSTART;TZID=America/Toronto:20250122T100000
DTEND;TZID=America/Toronto:20250122T120000
DTSTAMP:20260420T174458
CREATED:20250107T205808Z
LAST-MODIFIED:20250107T210313Z
UID:10008252-1737540000-1737547200@achev.ca
SUMMARY:Open House - Community Door
DESCRIPTION:Achēv is hosting an engaging Open House event to introduce our valued Community Door Partners. Discover the services and resources available to help you settle in and get to know your community better! \nAgenda:  \n\nRegistration\nWelcome Note\nIntroduction – Member Organizations\nActivities – How well you know Community Door\nQ&A followed by refreshments\n\nCommunity Partners: \n\nPunjabi Community Health Services\nCOSTI\nReconnect Health Services \nVolunteer MBC\nCanadian Mental Health Association\n\n\n\n \n\n\n\nDownload PDF \nFollow us on LinkedIn\, Facebook\, Instagram\, Threads\, Twitter\, or YouTube for our latest events\, workshops and news. \n  \n\n 
URL:https://achev.ca/event/open-house-community-door-jan-22-25/
LOCATION:Newcomer Information Centre – Brampton South\, 7700 Hurontario Street\, Unit 601\, Suite 100\, Brampton\, ON\, L6Y 4M3\, Canada
ATTACH;FMTTYPE=image/png:https://achev.ca/wp-content/uploads/2022/09/group-of-young-people-high-fiving-in-an-office.png
GEO:43.6595514;-79.7252889
X-APPLE-STRUCTURED-LOCATION;VALUE=URI;X-ADDRESS=Newcomer Information Centre – Brampton South 7700 Hurontario Street Unit 601 Suite 100 Brampton ON L6Y 4M3 Canada;X-APPLE-RADIUS=500;X-TITLE=7700 Hurontario Street\, Unit 601\, Suite 100:geo:-79.7252889,43.6595514
END:VEVENT
BEGIN:VEVENT
DTSTART;TZID=America/Toronto:20250108T100000
DTEND;TZID=America/Toronto:20250108T110000
DTSTAMP:20260420T174458
CREATED:20241215T215235Z
LAST-MODIFIED:20241215T220205Z
UID:10008207-1736330400-1736334000@achev.ca
SUMMARY:Winter Growing: In-Person Session
DESCRIPTION:Our gardens may be covered in snow\, but there’s lots that we can grow at home! \nJoin local farmer Rav from Shade of Miti to learn how to grow microgreens at home. We will learn about different indoor growing techniques\, how to select seeds and how to take care of your microgreens indoors over the winter. This workshop is perfect for people who are new to growing food. \nThis event will be delivered in partnership with Shade of Miti. \n\n\n\nDownload PDF \nFollow us on LinkedIn\, Facebook\, Instagram\, Threads\, Twitter\, or YouTube for our latest events\, workshops and news.
URL:https://achev.ca/event/winter-growing-in-person-session-jan-8-25/
LOCATION:Newcomer Information Centre – Brampton South\, 7700 Hurontario Street\, Unit 601\, Suite 100\, Brampton\, ON\, L6Y 4M3\, Canada
ATTACH;FMTTYPE=image/png:https://achev.ca/wp-content/uploads/2022/10/hands-holding-a-blooming-plant.png
GEO:43.6595514;-79.7252889
X-APPLE-STRUCTURED-LOCATION;VALUE=URI;X-ADDRESS=Newcomer Information Centre – Brampton South 7700 Hurontario Street Unit 601 Suite 100 Brampton ON L6Y 4M3 Canada;X-APPLE-RADIUS=500;X-TITLE=7700 Hurontario Street\, Unit 601\, Suite 100:geo:-79.7252889,43.6595514
END:VEVENT
BEGIN:VEVENT
DTSTART;TZID=America/Toronto:20241218T110000
DTEND;TZID=America/Toronto:20241218T130000
DTSTAMP:20260420T174458
CREATED:20241126T163743Z
LAST-MODIFIED:20241126T200000Z
UID:10008146-1734519600-1734526800@achev.ca
SUMMARY:Client Appreciation Day: In-Person Event
DESCRIPTION:We want to thank you\, our valued clients! \nThe holiday season offers us a special opportunity to say thank you to our valued clients. Join us for a fun-filled afternoon full of interactive activities to kickstart the holidays. \nThere will be raffle draws and more. \n\n\n\n\n\nDownload PDF \nFollow us on LinkedIn\, Facebook\, Instagram\, Threads\, Twitter or YouTube for our latest events\, workshops and news. \n\n 
URL:https://achev.ca/event/client-appreciation-day-in-person-event-dec-18-24/
LOCATION:Newcomer Information Centre – Brampton South\, 7700 Hurontario Street\, Unit 601\, Suite 100\, Brampton\, ON\, L6Y 4M3\, Canada
ATTACH;FMTTYPE=image/png:https://achev.ca/wp-content/uploads/2022/07/resume-in-a-folder.png
GEO:43.6595514;-79.7252889
X-APPLE-STRUCTURED-LOCATION;VALUE=URI;X-ADDRESS=Newcomer Information Centre – Brampton South 7700 Hurontario Street Unit 601 Suite 100 Brampton ON L6Y 4M3 Canada;X-APPLE-RADIUS=500;X-TITLE=7700 Hurontario Street\, Unit 601\, Suite 100:geo:-79.7252889,43.6595514
END:VEVENT
BEGIN:VEVENT
DTSTART;TZID=America/Toronto:20240704T110000
DTEND;TZID=America/Toronto:20240704T130000
DTSTAMP:20260420T174458
CREATED:20240513T203110Z
LAST-MODIFIED:20240514T191559Z
UID:10007155-1720090800-1720098000@achev.ca
SUMMARY:In-Person Canadian Multicultural Day Celebrations
DESCRIPTION:Join us in celebrating Canada Day and Canadian Multiculturalism Day with a fun-filled afternoon of dance activities\, games\, raffle draws\, and much more! \nDownload PDF \n\n\n\nFollow us on LinkedIn\, Facebook\, Instagram\, Threads or Twitter for our latest events\, workshops and news.
URL:https://achev.ca/event/in-person-canadian-multicultural-day-celebrations-july-04-24/
LOCATION:Newcomer Information Centre – Brampton South\, 7700 Hurontario Street\, Unit 601\, Suite 100\, Brampton\, ON\, L6Y 4M3\, Canada
ATTACH;FMTTYPE=image/png:https://achev.ca/wp-content/uploads/2022/10/canadian-flag-streamer.png
GEO:43.6595514;-79.7252889
X-APPLE-STRUCTURED-LOCATION;VALUE=URI;X-ADDRESS=Newcomer Information Centre – Brampton South 7700 Hurontario Street Unit 601 Suite 100 Brampton ON L6Y 4M3 Canada;X-APPLE-RADIUS=500;X-TITLE=7700 Hurontario Street\, Unit 601\, Suite 100:geo:-79.7252889,43.6595514
END:VEVENT
BEGIN:VEVENT
DTSTART;TZID=America/Toronto:20240619T110000
DTEND;TZID=America/Toronto:20240619T120000
DTSTAMP:20260420T174458
CREATED:20240528T191113Z
LAST-MODIFIED:20240528T191207Z
UID:10007234-1718794800-1718798400@achev.ca
SUMMARY:Volunteer with Us: In-Person Session
DESCRIPTION:Join us to learn about the following topics: \n\nWhat it means to volunteer\nHow to get involved\nHow you can play an important role in your community\n\nThis event is in collaboration with Volunteer MBC. \nDownload PDF \n\nFollow us on LinkedIn\, Facebook\, Instagram\, Threads\, Twitter\, or YouTube for our latest events\, workshops and news.
URL:https://achev.ca/event/volunteer-with-us-in-person-session-june-19-24/
LOCATION:Newcomer Information Centre – Brampton South\, 7700 Hurontario Street\, Unit 601\, Suite 100\, Brampton\, ON\, L6Y 4M3\, Canada
ATTACH;FMTTYPE=image/png:https://achev.ca/wp-content/uploads/2022/10/hands-holding-a-blooming-plant.png
GEO:43.6595514;-79.7252889
X-APPLE-STRUCTURED-LOCATION;VALUE=URI;X-ADDRESS=Newcomer Information Centre – Brampton South 7700 Hurontario Street Unit 601 Suite 100 Brampton ON L6Y 4M3 Canada;X-APPLE-RADIUS=500;X-TITLE=7700 Hurontario Street\, Unit 601\, Suite 100:geo:-79.7252889,43.6595514
END:VEVENT
BEGIN:VEVENT
DTSTART;TZID=America/Toronto:20240411T133000
DTEND;TZID=America/Toronto:20240411T150000
DTSTAMP:20260420T174458
CREATED:20240405T195104Z
LAST-MODIFIED:20240405T195104Z
UID:10006754-1712842200-1712847600@achev.ca
SUMMARY:Express Yourself: In-Person Canvas Painting Workshop
DESCRIPTION:Join us for an afternoon of creativity and fun with our artist\, Durga Bisht! Grab your friends and unleash your inner artist as we lead you in a step-by-step canvas painting session. Sip on some coffee\, indulge in delicious snacks\, and let your imagination run wild as you create your very own masterpiece to take home. \nNo experience is necessary – we will guide you every step of the way. Don't miss out on this unforgettable experience. \n\n\n\nFollow us on LinkedIn\, Facebook\, Instagram\, Threads\, Twitter\, or YouTube for our latest events\, workshops and news. \n\nDownload PDF
URL:https://achev.ca/event/express-yourself-in-person-canvas-painting-workshop-april-11-24/
LOCATION:Newcomer Information Centre – Brampton South\, 7700 Hurontario Street\, Unit 601\, Suite 100\, Brampton\, ON\, L6Y 4M3\, Canada
ATTACH;FMTTYPE=image/png:https://achev.ca/wp-content/uploads/2024/04/a-painting-of-sunflowers.png
GEO:43.6595514;-79.7252889
X-APPLE-STRUCTURED-LOCATION;VALUE=URI;X-ADDRESS=Newcomer Information Centre – Brampton South 7700 Hurontario Street Unit 601 Suite 100 Brampton ON L6Y 4M3 Canada;X-APPLE-RADIUS=500;X-TITLE=7700 Hurontario Street\, Unit 601\, Suite 100:geo:-79.7252889,43.6595514
END:VEVENT
BEGIN:VEVENT
DTSTART;TZID=America/Toronto:20240307T110000
DTEND;TZID=America/Toronto:20240307T130000
DTSTAMP:20260420T174458
CREATED:20240216T155620Z
LAST-MODIFIED:20240216T155620Z
UID:10006620-1709809200-1709816400@achev.ca
SUMMARY:International Women’s Day Celebration: Embracing Movement
DESCRIPTION:Join us in celebrating International Women's Day and embracing the importance of movement in our mind and body. \nYou will have the opportunity to network in person\, ask questions\, win prizes and much more! \nThe Honourable Guests for this event will be Rituu Nebb and Neha Nanda. \n\n\n\nFollow us on LinkedIn\, Facebook\, Instagram\, Threads\, Twitter\, or YouTube for our latest events\, workshops and news.
URL:https://achev.ca/event/international-womens-day-celebration-embracing-movement-march-7-24/
LOCATION:Newcomer Information Centre – Brampton South\, 7700 Hurontario Street\, Unit 601\, Suite 100\, Brampton\, ON\, L6Y 4M3\, Canada
ATTACH;FMTTYPE=image/png:https://achev.ca/wp-content/uploads/2024/02/Females-from-different-backgrounds.png
GEO:43.6595514;-79.7252889
X-APPLE-STRUCTURED-LOCATION;VALUE=URI;X-ADDRESS=Newcomer Information Centre – Brampton South 7700 Hurontario Street Unit 601 Suite 100 Brampton ON L6Y 4M3 Canada;X-APPLE-RADIUS=500;X-TITLE=7700 Hurontario Street\, Unit 601\, Suite 100:geo:-79.7252889,43.6595514
END:VEVENT
END:VCALENDAR