BEGIN:VCALENDAR
VERSION:2.0
PRODID:-//Achēv - ECPv6.15.13//NONSGML v1.0//EN
CALSCALE:GREGORIAN
METHOD:PUBLISH
X-ORIGINAL-URL:https://achev.ca
X-WR-CALDESC:Events for Achēv
REFRESH-INTERVAL;VALUE=DURATION:PT1H
X-Robots-Tag:noindex
X-PUBLISHED-TTL:PT1H
BEGIN:VTIMEZONE
TZID:America/Toronto
BEGIN:DAYLIGHT
TZOFFSETFROM:-0500
TZOFFSETTO:-0400
TZNAME:EDT
DTSTART:20250309T070000
END:DAYLIGHT
BEGIN:STANDARD
TZOFFSETFROM:-0400
TZOFFSETTO:-0500
TZNAME:EST
DTSTART:20251102T060000
END:STANDARD
BEGIN:DAYLIGHT
TZOFFSETFROM:-0500
TZOFFSETTO:-0400
TZNAME:EDT
DTSTART:20260308T070000
END:DAYLIGHT
BEGIN:STANDARD
TZOFFSETFROM:-0400
TZOFFSETTO:-0500
TZNAME:EST
DTSTART:20261101T060000
END:STANDARD
BEGIN:DAYLIGHT
TZOFFSETFROM:-0500
TZOFFSETTO:-0400
TZNAME:EDT
DTSTART:20270314T070000
END:DAYLIGHT
BEGIN:STANDARD
TZOFFSETFROM:-0400
TZOFFSETTO:-0500
TZNAME:EST
DTSTART:20271107T060000
END:STANDARD
END:VTIMEZONE
BEGIN:VEVENT
DTSTART;TZID=America/Toronto:20260520T130000
DTEND;TZID=America/Toronto:20260520T143000
DTSTAMP:20260421T062158
CREATED:20260420T134633Z
LAST-MODIFIED:20260420T134658Z
UID:10010272-1779282000-1779287400@achev.ca
SUMMARY:Survivor-led Support group In-Person Session
DESCRIPTION:A Safe and Supportive Space for Women to Connect and Heal \n\nJoin this FREE 6-session support group to reflect\, learn\, and share with other women at any stage of their healing journey: \n\nA confidential and welcoming environment\nCommunity support through shared lived experience\nKnowledge about the dynamics of abuse\nPeer support for healing and growth\n\n\n\n\n\n\nDownload PDF \nFollow us on LinkedIn\, Facebook\, Instagram\, Threads\, Twitter or YouTube for our latest events\, workshops and news. \n\n 
URL:https://achev.ca/event/survivor-led-support-group-in-person-session-may-20-25/
LOCATION:Achēv Training Centre – Mississauga\, Suite 1404\, 90 Burnhamthorpe Road West\, Mississauga\, ON\, L5B 3C3
ATTACH;FMTTYPE=image/png:https://achev.ca/wp-content/uploads/2024/04/People-holding-hands.png
END:VEVENT
END:VCALENDAR