BEGIN:VCALENDAR
VERSION:2.0
PRODID:-//Achēv - ECPv6.15.13//NONSGML v1.0//EN
CALSCALE:GREGORIAN
METHOD:PUBLISH
X-WR-CALNAME:Achēv
X-ORIGINAL-URL:https://achev.ca
X-WR-CALDESC:Events for Achēv
REFRESH-INTERVAL;VALUE=DURATION:PT1H
X-Robots-Tag:noindex
X-PUBLISHED-TTL:PT1H
BEGIN:VTIMEZONE
TZID:America/Toronto
BEGIN:DAYLIGHT
TZOFFSETFROM:-0500
TZOFFSETTO:-0400
TZNAME:EDT
DTSTART:20230312T070000
END:DAYLIGHT
BEGIN:STANDARD
TZOFFSETFROM:-0400
TZOFFSETTO:-0500
TZNAME:EST
DTSTART:20231105T060000
END:STANDARD
BEGIN:DAYLIGHT
TZOFFSETFROM:-0500
TZOFFSETTO:-0400
TZNAME:EDT
DTSTART:20240310T070000
END:DAYLIGHT
BEGIN:STANDARD
TZOFFSETFROM:-0400
TZOFFSETTO:-0500
TZNAME:EST
DTSTART:20241103T060000
END:STANDARD
BEGIN:DAYLIGHT
TZOFFSETFROM:-0500
TZOFFSETTO:-0400
TZNAME:EDT
DTSTART:20250309T070000
END:DAYLIGHT
BEGIN:STANDARD
TZOFFSETFROM:-0400
TZOFFSETTO:-0500
TZNAME:EST
DTSTART:20251102T060000
END:STANDARD
END:VTIMEZONE
BEGIN:VEVENT
DTSTART;TZID=America/Toronto:20240131T100000
DTEND;TZID=America/Toronto:20240131T120000
DTSTAMP:20260421T175756
CREATED:20231215T161344Z
LAST-MODIFIED:20231215T164641Z
UID:10006439-1706695200-1706702400@achev.ca
SUMMARY:Interview Preparation:  In-Person Session
DESCRIPTION:Ready to turn your job interviews into success stories? Join our interview preparation workshop to empower you with the skills and strategies to stand out and land your dream job. \nTopics to be covered in the workshop: \n\nTypes of interviews\nHow to prepare for interviews\nEffective techniques for answering interview questions\nCommon interview questions and responses\n\n\n\n\n\n\nFollow us on LinkedIn\, Facebook\, Instagram\, Threads\, Twitter\, or YouTube for our latest events\, workshops and news. \n  \nDownload PDF
URL:https://achev.ca/event/interview-preparation-in-person-session-january-31-24/
LOCATION:Employment Centre – Brampton South\, 7700 Hurontario Street\, Unit 601\, Brampton\, ON\, L6Y 4M3\, Canada
ATTACH;FMTTYPE=image/png:https://achev.ca/wp-content/uploads/2023/12/Someone-happy-she-got-a-job-contract.png
GEO:43.6581089;-79.7251536
X-APPLE-STRUCTURED-LOCATION;VALUE=URI;X-ADDRESS=Employment Centre – Brampton South 7700 Hurontario Street Unit 601 Brampton ON L6Y 4M3 Canada;X-APPLE-RADIUS=500;X-TITLE=7700 Hurontario Street\, Unit 601:geo:-79.7251536,43.6581089
END:VEVENT
BEGIN:VEVENT
DTSTART;TZID=America/Toronto:20240130T110000
DTEND;TZID=America/Toronto:20240130T130000
DTSTAMP:20260421T175756
CREATED:20240118T002822Z
LAST-MODIFIED:20240118T002947Z
UID:10006510-1706612400-1706619600@achev.ca
SUMMARY:Mind-Body Wellness Clinic: In-Person Event
DESCRIPTION:Join us in-person for: \n\nFree A1C testing to measure blood sugar levels\nFree foot screening for persons with Type 2 Diabetes\nFree Socacize fitness class with a professional instructor\, practicing some gentle and low-impact moves to Caribbean and African music\n\nSeats are limited and registration is required to book a spot! \nThis event will be delivered in collaboration with WellFort Community Health Service. \n\n\n\n\nFollow us on LinkedIn\, Facebook\, Instagram\, Threads\, Twitter or YouTube for our latest events\, workshops and news.
URL:https://achev.ca/event/mind-body-wellness-clinic-in-person-event/
LOCATION:Newcomer Information Centre – Malton\, 7420 Airport Road Suite 104\, Mississauga\, ON\, Canada
ATTACH;FMTTYPE=image/png:https://achev.ca/wp-content/uploads/2024/01/diabetes-blood-sugar-monitor.png
GEO:43.7116373;-79.6542088
X-APPLE-STRUCTURED-LOCATION;VALUE=URI;X-ADDRESS=Newcomer Information Centre – Malton 7420 Airport Road Suite 104 Mississauga ON Canada;X-APPLE-RADIUS=500;X-TITLE=7420 Airport Road Suite 104:geo:-79.6542088,43.7116373
END:VEVENT
BEGIN:VEVENT
DTSTART;TZID=America/Toronto:20240130T093000
DTEND;TZID=America/Toronto:20240130T143000
DTSTAMP:20260421T175756
CREATED:20231214T202657Z
LAST-MODIFIED:20231214T202657Z
UID:10006400-1706607000-1706625000@achev.ca
SUMMARY:Virtual One-On-One Resume Critique for Newcomers
DESCRIPTION:At your one-on-one appointment\, you will learn how to: \n\nModify your resume based on current labour market trends\nGet your resume noticed by employers\nCapture that sought-after interview\n\nEligibility Criteria: \n\nPermanent Residents or Convention Refugees with a valid PR card\, Confirmation of PR or Notice of Decision or CUAET visa holder\nAble to read\, write and speak English (Canadian Language Benchmark (CLB) level 5)\n\nPlease book your 45-minute appointment between 9:30 a.m. – 2:30 p.m. Appointments available on a first-come\, first-served basis. \n\n\n\n\nFollow us on LinkedIn\, Facebook\, Instagram\, Threads\, Twitter or YouTube for our latest events\, workshops and news.
URL:https://achev.ca/event/virtual-one-on-one-resume-critique-for-newcomers-january-30-24/
LOCATION:Online
ATTACH;FMTTYPE=image/png:https://achev.ca/wp-content/uploads/2023/12/A-man-focusing-on-his-laptop-1.png
END:VEVENT
BEGIN:VEVENT
DTSTART;TZID=America/Toronto:20240126T153000
DTEND;TZID=America/Toronto:20240126T161500
DTSTAMP:20260421T175756
CREATED:20231219T214243Z
LAST-MODIFIED:20231219T215138Z
UID:10006443-1706283000-1706285700@achev.ca
SUMMARY:Fun Winter Sports: CNC Virtual Activity
DESCRIPTION:There are so many fun sports to participate in during the winter. What winter sport would you like to try? Followed by BINGO game \nMaterials: No materials are required \n\n\n\nFollow us on LinkedIn\, Facebook\, Instagram\, Threads\, Twitter or YouTube for our latest events\, workshops and news.
URL:https://achev.ca/event/fun-winter-sports-cnc-virtual-activity-january-26-24/
LOCATION:Online
ATTACH;FMTTYPE=image/png:https://achev.ca/wp-content/uploads/2023/07/Children-smiling-in-a-classroom.png
END:VEVENT
BEGIN:VEVENT
DTSTART;TZID=America/Toronto:20240126T093000
DTEND;TZID=America/Toronto:20240126T153000
DTSTAMP:20260421T175756
CREATED:20231215T132847Z
LAST-MODIFIED:20231215T135141Z
UID:10006425-1706261400-1706283000@achev.ca
SUMMARY:Virtual One-On-One Resume Critique for Newcomers
DESCRIPTION:At your one-on-one appointment\, you will learn how to: \n\nModify your resume based on current labour market trends\nGet your resume noticed by employers\nCapture that sought-after interview\n\nEligibility Criteria: \n\nPermanent Residents or Convention Refugees with a valid PR card\, Confirmation of PR or Notice of Decision or CUAET visa holder\nAble to read\, write and speak English (Canadian Language Benchmark (CLB) level 5)\n\nPlease book your 45-minute appointment between 9:30 a.m. – 3:30 p.m.  \nAppointments available on a first-come\, first-served basis. \n\n\n\n\nFollow us on LinkedIn\, Facebook\, Instagram\, Threads\, Twitter or YouTube for our latest events\, workshops and news.
URL:https://achev.ca/event/virtual-one-on-one-resume-critique-for-newcomers-january-26-24/
LOCATION:Online
ATTACH;FMTTYPE=image/png:https://achev.ca/wp-content/uploads/2022/03/Newcomer-resume-critique-1.png
END:VEVENT
BEGIN:VEVENT
DTSTART;TZID=America/Toronto:20240126T093000
DTEND;TZID=America/Toronto:20240126T153000
DTSTAMP:20260421T175756
CREATED:20231214T223548Z
LAST-MODIFIED:20231214T223727Z
UID:10006421-1706261400-1706283000@achev.ca
SUMMARY:Free Resume Writing Clinic for Newcomers
DESCRIPTION:Are you a newcomer or an internationally skilled professional looking for a free resume review or a new resume? \nLearn Essentials of Resume Writing \n\nOne-on-one guidance\nTools and resources\n\nCritique of Current Resume \n\nATS ready resume\nLearn to create a new resume\n\nCustomized Resume Support \n\nProfessional coaching\nTailoring towards specific posting\n\n*Appointment required – Book a virtual appointment between 9:30 a.m. and 3:30 p.m. \nAsk about cover letter development\, in-person appointments\, and our Career Specialists. \n\n\n\n\nFollow us on LinkedIn\, Facebook\, Instagram\, Threads\, Twitter\, or YouTube for our latest events\, workshops and news.
URL:https://achev.ca/event/free-resume-writing-clinic-for-newcomers-january-26-24/
LOCATION:Online
ATTACH;FMTTYPE=image/png:https://achev.ca/wp-content/uploads/2023/12/A-resume-under-a-keyboard-on-a-wooden-table.png
END:VEVENT
END:VCALENDAR