BEGIN:VCALENDAR
VERSION:2.0
PRODID:-//Achēv - ECPv6.15.13//NONSGML v1.0//EN
CALSCALE:GREGORIAN
METHOD:PUBLISH
X-ORIGINAL-URL:https://achev.ca
X-WR-CALDESC:Events for Achēv
REFRESH-INTERVAL;VALUE=DURATION:PT1H
X-Robots-Tag:noindex
X-PUBLISHED-TTL:PT1H
BEGIN:VTIMEZONE
TZID:America/Toronto
BEGIN:DAYLIGHT
TZOFFSETFROM:-0500
TZOFFSETTO:-0400
TZNAME:EDT
DTSTART:20250309T070000
END:DAYLIGHT
BEGIN:STANDARD
TZOFFSETFROM:-0400
TZOFFSETTO:-0500
TZNAME:EST
DTSTART:20251102T060000
END:STANDARD
BEGIN:DAYLIGHT
TZOFFSETFROM:-0500
TZOFFSETTO:-0400
TZNAME:EDT
DTSTART:20260308T070000
END:DAYLIGHT
BEGIN:STANDARD
TZOFFSETFROM:-0400
TZOFFSETTO:-0500
TZNAME:EST
DTSTART:20261101T060000
END:STANDARD
BEGIN:DAYLIGHT
TZOFFSETFROM:-0500
TZOFFSETTO:-0400
TZNAME:EDT
DTSTART:20270314T070000
END:DAYLIGHT
BEGIN:STANDARD
TZOFFSETFROM:-0400
TZOFFSETTO:-0500
TZNAME:EST
DTSTART:20271107T060000
END:STANDARD
END:VTIMEZONE
BEGIN:VEVENT
DTSTART;TZID=America/Toronto:20260220T093000
DTEND;TZID=America/Toronto:20260220T143000
DTSTAMP:20260421T074011
CREATED:20260116T223946Z
LAST-MODIFIED:20260116T223946Z
UID:10009613-1771579800-1771597800@achev.ca
SUMMARY:Virtual One-On-One Resume Critique for Newcomers
DESCRIPTION:Book your 45-minute appointment between 9:30 a.m. – 2:30 p.m. \n\nAt your one-on-one appointment\, you will learn how to: \n\nModify your resume based on current labour market trends\nGet your resume noticed by employers\nCapture that sought-after interview\n\nEligibility Criteria \n\nPermanent Residents or Convention Refugees with a valid PR card\, Confirmation of PR or Notice of Decision\nAble to read\, write and speak English (Canadian Language Benchmark (CLB) level 5\n\n\n\nAppointments available on a first-come\, first-served basis.  \n\n\n\n\n\n\nDownload PDF \nFollow us on LinkedIn\, Facebook\, Instagram\, Threads\, Twitter or YouTube for our latest events\, workshops and news. \n\n 
URL:https://achev.ca/event/virtual-one-on-one-resume-critique-for-newcomers-feb-20-26-2/
LOCATION:Online
ATTACH;FMTTYPE=image/png:https://achev.ca/wp-content/uploads/2023/12/A-resume-under-a-keyboard-on-a-wooden-table.png
END:VEVENT
BEGIN:VEVENT
DTSTART;TZID=America/Toronto:20260220T093000
DTEND;TZID=America/Toronto:20260220T150000
DTSTAMP:20260421T074011
CREATED:20260121T143102Z
LAST-MODIFIED:20260121T143102Z
UID:10009627-1771579800-1771599600@achev.ca
SUMMARY:Virtual One-On-One Resume Critique Session
DESCRIPTION:Are you a newcomer to Ontario looking for one-on-one resume guidance? \nDuring the session\, you will learn how to: \n\nTailor your resume to meet Canadian labour market standards\nCapture the attention of employers\nHighlight your skills effectively\n\n\nEligibility Criteria \n\nResident of Ontario\nPermanent Residents with a valid PR card or Confirmation of PR\, and Convention Refugees with a Notice of Decision Letter\n\n\n\nDownload PDF \n\n\nFollow us on LinkedIn\, Facebook\, Instagram\, Threads\, Twitter or YouTube for our latest events\, workshops and news. \n\n 
URL:https://achev.ca/event/virtual-one-on-one-resume-critique-session-feb-20-26/
LOCATION:Online
ATTACH;FMTTYPE=image/png:https://achev.ca/wp-content/uploads/2023/12/A-resume-under-a-keyboard-on-a-wooden-table.png
END:VEVENT
BEGIN:VEVENT
DTSTART;TZID=America/Toronto:20260220T093000
DTEND;TZID=America/Toronto:20260220T153000
DTSTAMP:20260421T074011
CREATED:20260113T161006Z
LAST-MODIFIED:20260113T161006Z
UID:10009594-1771579800-1771601400@achev.ca
SUMMARY:Virtual One-On-One Resume Critique for Newcomers
DESCRIPTION:Book your 45-minute appointment between 9:30 a.m. – 3:30 p.m. \n\nAt your one-on-one appointment\, you will learn how to: \n\nModify your resume based on current labour market trends\nGet your resume noticed by employers\nCapture that sought-after interview\n\nEligibility Criteria \n\nPermanent Residents or Convention Refugees with a valid PR card\, Confirmation of PR or Notice of Decision\nAble to read\, write and speak English (Canadian Language Benchmark (CLB) level 5\n\n\n\nAppointments available on a first-come\, first-served basis.  \n\n\n\n\n\n\nDownload PDF \nFollow us on LinkedIn\, Facebook\, Instagram\, Threads\, Twitter or YouTube for our latest events\, workshops and news. \n\n 
URL:https://achev.ca/event/virtual-one-on-one-resume-critique-for-newcomers-feb-20-26/
LOCATION:Online
ATTACH;FMTTYPE=image/png:https://achev.ca/wp-content/uploads/2023/12/A-resume-under-a-keyboard-on-a-wooden-table.png
END:VEVENT
BEGIN:VEVENT
DTSTART;TZID=America/Toronto:20260220T100000
DTEND;TZID=America/Toronto:20260220T120000
DTSTAMP:20260421T074011
CREATED:20251115T000813Z
LAST-MODIFIED:20260203T145544Z
UID:10009444-1771581600-1771588800@achev.ca
SUMMARY:In-Person Conversation Circle for Latin American Newcomers
DESCRIPTION:Come join us bi-weekly to connect with others in a welcoming environment where you can: \n\nPractice and strengthen your English skills\nCreate original crafts and artwork\nShare experiences and discover community resources\nMake friends and expand your social and professional network\n\n\n\n\n\nDownload PDF \nFollow us on LinkedIn\, Facebook\, Instagram\, Threads\, Twitter or YouTube for our latest events\, workshops and news. \n\n 
URL:https://achev.ca/event/in-person-conversation-circle-for-latin-american-newcomers-feb-20-26/
LOCATION:Achēv – Oakville\, 690 Dorval Drive\, Suite 100\, Oakville\, ON\, L6K 3X9\, Canada
ATTACH;FMTTYPE=image/png:https://achev.ca/wp-content/uploads/2023/02/people-in-conference.png
GEO:43.442645;-79.696521
X-APPLE-STRUCTURED-LOCATION;VALUE=URI;X-ADDRESS=Achēv – Oakville 690 Dorval Drive Suite 100 Oakville ON L6K 3X9 Canada;X-APPLE-RADIUS=500;X-TITLE=690 Dorval Drive\, Suite 100:geo:-79.696521,43.442645
END:VEVENT
END:VCALENDAR