BEGIN:VCALENDAR
VERSION:2.0
PRODID:-//Achēv - ECPv6.15.13//NONSGML v1.0//EN
CALSCALE:GREGORIAN
METHOD:PUBLISH
X-WR-CALNAME:Achēv
X-ORIGINAL-URL:https://achev.ca
X-WR-CALDESC:Events for Achēv
REFRESH-INTERVAL;VALUE=DURATION:PT1H
X-Robots-Tag:noindex
X-PUBLISHED-TTL:PT1H
BEGIN:VTIMEZONE
TZID:America/Toronto
BEGIN:DAYLIGHT
TZOFFSETFROM:-0500
TZOFFSETTO:-0400
TZNAME:EDT
DTSTART:20250309T070000
END:DAYLIGHT
BEGIN:STANDARD
TZOFFSETFROM:-0400
TZOFFSETTO:-0500
TZNAME:EST
DTSTART:20251102T060000
END:STANDARD
BEGIN:DAYLIGHT
TZOFFSETFROM:-0500
TZOFFSETTO:-0400
TZNAME:EDT
DTSTART:20260308T070000
END:DAYLIGHT
BEGIN:STANDARD
TZOFFSETFROM:-0400
TZOFFSETTO:-0500
TZNAME:EST
DTSTART:20261101T060000
END:STANDARD
BEGIN:DAYLIGHT
TZOFFSETFROM:-0500
TZOFFSETTO:-0400
TZNAME:EDT
DTSTART:20270314T070000
END:DAYLIGHT
BEGIN:STANDARD
TZOFFSETFROM:-0400
TZOFFSETTO:-0500
TZNAME:EST
DTSTART:20271107T060000
END:STANDARD
END:VTIMEZONE
BEGIN:VEVENT
DTSTART;TZID=America/Toronto:20260219T100000
DTEND;TZID=America/Toronto:20260219T110000
DTSTAMP:20260421T073526
CREATED:20260119T215632Z
LAST-MODIFIED:20260218T144015Z
UID:10009619-1771495200-1771498800@achev.ca
SUMMARY:How to Find a Mentor in Your Profession: Webinar
DESCRIPTION:The TRIEC Mentoring Partnership program helps internationally trained professionals reconnect with their careers in Canada through one-on-one career-based mentoring with an industry professional. \nProgram Eligibility: \n\n2+ years of international experience\nPermanent Residents and Convention Refugees\nLived in Canada for less than five years\nUnemployed or underemployed\n\nCurrently recruiting mentees for the following professions: \n\nCustomer Relationship Management\nBanking Services\nFinance and Accounting\nFinancial Services\nHuman Resources\nIT Consulting\nIT Project Management\nMarketing\nProject Management\nBusiness Analyst\n\nIf you are looking for mentors in other professions\, please contact us. \nDownload PDF \n\n\n\n\n\nFollow us on LinkedIn\, Facebook\, Instagram\, Threads\, Twitter or YouTube for our latest events\, workshops and news. \n\n 
URL:https://achev.ca/event/how-to-find-a-mentor-in-your-profession-webinar-feb-19-26/
LOCATION:ON
ATTACH;FMTTYPE=image/png:https://achev.ca/wp-content/uploads/2023/08/A-mentor-and-a-professional-person-smiling.png
END:VEVENT
BEGIN:VEVENT
DTSTART;TZID=America/Toronto:20260219T100000
DTEND;TZID=America/Toronto:20260219T120000
DTSTAMP:20260421T073526
CREATED:20260113T160511Z
LAST-MODIFIED:20260113T160511Z
UID:10009593-1771495200-1771502400@achev.ca
SUMMARY:Virtual Cash Register Training For Newcomer Women
DESCRIPTION:In this free virtual cash register training\, you will: \n\nLearn how to process sales\, scan items\, apply discounts and initiate returns\nMaster the language needed to be successful\n\nin a customer service environment \n\nHave your retail and employment-related questions answered\n\nCertificate of attendance is provided upon completion of the webinar. \n**Eligibility: Training open to Newcomer women with status as ‘Permanent Resident' or ‘Convention Refugee' only \nDownload PDF \n\n\n\nFollow us on LinkedIn\, Facebook\, Instagram\, Threads\, Twitter\, or YouTube for our latest events\, workshops and news.
URL:https://achev.ca/event/virtual-cash-register-training-for-newcomer-women-feb-19-26/
LOCATION:Online
ATTACH;FMTTYPE=image/png:https://achev.ca/wp-content/uploads/2023/10/A-cash-register.png
END:VEVENT
BEGIN:VEVENT
DTSTART;TZID=America/Toronto:20260219T100000
DTEND;TZID=America/Toronto:20260219T140000
DTSTAMP:20260421T073526
CREATED:20260202T192818Z
LAST-MODIFIED:20260202T192856Z
UID:10009652-1771495200-1771509600@achev.ca
SUMMARY:AGTA Home Health Care: In-Person Hiring Event
DESCRIPTION:Achēv is partnering with AGTA Home Health Care\, Canada's leading home health care service provider\, to host an in-person hiring event featuring on-site interviews for multiple positions! \nPositions Available – One-on-One Role in the Community \n\nPersonal Support Workers\nNurses (RPN and RN)\nInternationally Trained Nurse\nInternationally Trained Midwife\n\nRegister by Wednesday\, February 11\, 2026. Only selected candidates will be invited to the job fair. \nDownload PDF \n\n\n\n\n\nFollow us on LinkedIn\, Facebook\, Instagram\, Threads\, Twitter or YouTube for our latest events\, workshops and news. \n\n 
URL:https://achev.ca/event/agta-home-health-care-in-person-hiring-event-feb-19-26/
LOCATION:ON
ATTACH;FMTTYPE=image/png:https://achev.ca/wp-content/uploads/2021/07/Nurse-2.png
END:VEVENT
BEGIN:VEVENT
DTSTART;TZID=America/Toronto:20260219T110000
DTEND;TZID=America/Toronto:20260219T120000
DTSTAMP:20260421T073526
CREATED:20260122T152044Z
LAST-MODIFIED:20260122T152044Z
UID:10009636-1771498800-1771502400@achev.ca
SUMMARY:Getting the Most From Your Healthcare Appointment: Webinar
DESCRIPTION:This interactive workshop focuses on what to do before\, during\, and after an appointment\, preparing and empowering individuals to communicate more effectively with their health care provider. Learn the questions to ask and skills to apply. \n\n\n\nDownload PDF \nFollow us on LinkedIn\, Facebook\, Instagram\, Threads\, Twitter\, or YouTube for our latest events\, workshops and news. \n  \n\n 
URL:https://achev.ca/event/getting-the-most-from-your-healthcare-appointment-webinar-feb-19-26/
LOCATION:Online
ATTACH;FMTTYPE=image/png:https://achev.ca/wp-content/uploads/2022/10/doctor-speaking-with-patient.png
END:VEVENT
BEGIN:VEVENT
DTSTART;TZID=America/Toronto:20260219T130000
DTEND;TZID=America/Toronto:20260219T143000
DTSTAMP:20260421T073526
CREATED:20260128T203838Z
LAST-MODIFIED:20260128T203838Z
UID:10009645-1771506000-1771511400@achev.ca
SUMMARY:Know Your Rights: Legal Information for Survivors
DESCRIPTION:Resilience. Independence. Support. Empowerment \nFree virtual information and Q&A session for women on legal topics impacting victims and survivors of gender-based violence. \nBefore attending the session\, please include any family law-related questions in the registration details so we can prepare for the Q&A in advance. \nThe information provided in the presentation will not be legal advice and does not create a solicitor-client relationship. \nThis event will be held in collaboration with Pooran law.  \nDownload PDF \nFollow us on LinkedIn\, Facebook\, Instagram or Twitter for our latest events\, workshops and news.
URL:https://achev.ca/event/know-your-rights-legal-information-webinar-feb-19-26/
LOCATION:Online
ATTACH;FMTTYPE=image/png:https://achev.ca/wp-content/uploads/2022/08/gavel-on-table.png
END:VEVENT
END:VCALENDAR