BEGIN:VCALENDAR
VERSION:2.0
PRODID:-//Achēv - ECPv6.15.13//NONSGML v1.0//EN
CALSCALE:GREGORIAN
METHOD:PUBLISH
X-WR-CALNAME:Achēv
X-ORIGINAL-URL:https://achev.ca
X-WR-CALDESC:Events for Achēv
REFRESH-INTERVAL;VALUE=DURATION:PT1H
X-Robots-Tag:noindex
X-PUBLISHED-TTL:PT1H
BEGIN:VTIMEZONE
TZID:America/Toronto
BEGIN:DAYLIGHT
TZOFFSETFROM:-0500
TZOFFSETTO:-0400
TZNAME:EDT
DTSTART:20240310T070000
END:DAYLIGHT
BEGIN:STANDARD
TZOFFSETFROM:-0400
TZOFFSETTO:-0500
TZNAME:EST
DTSTART:20241103T060000
END:STANDARD
BEGIN:DAYLIGHT
TZOFFSETFROM:-0500
TZOFFSETTO:-0400
TZNAME:EDT
DTSTART:20250309T070000
END:DAYLIGHT
BEGIN:STANDARD
TZOFFSETFROM:-0400
TZOFFSETTO:-0500
TZNAME:EST
DTSTART:20251102T060000
END:STANDARD
BEGIN:DAYLIGHT
TZOFFSETFROM:-0500
TZOFFSETTO:-0400
TZNAME:EDT
DTSTART:20260308T070000
END:DAYLIGHT
BEGIN:STANDARD
TZOFFSETFROM:-0400
TZOFFSETTO:-0500
TZNAME:EST
DTSTART:20261101T060000
END:STANDARD
END:VTIMEZONE
BEGIN:VEVENT
DTSTART;TZID=America/Toronto:20250723T100000
DTEND;TZID=America/Toronto:20250723T113000
DTSTAMP:20260421T132411
CREATED:20250613T204308Z
LAST-MODIFIED:20250613T204308Z
UID:10008927-1753264800-1753270200@achev.ca
SUMMARY:Effective Job Search Strategies: Webinar
DESCRIPTION:Topics to be covered: \n\nThe hidden job market\nNetworking\nRole of social media\nBridging programs\nVolunteering\nInformational interviews\n\nDownload PDF \n\n\n\n\n\nFollow us on LinkedIn\, Facebook\, Instagram\, Threads or Twitter for our latest events\, workshops and news.
URL:https://achev.ca/event/effective-job-search-strategies-webinar-july-23-25/
LOCATION:Online
ATTACH;FMTTYPE=image/png:https://achev.ca/wp-content/uploads/2022/11/cybersecurity-on-laptop.png
END:VEVENT
BEGIN:VEVENT
DTSTART;TZID=America/Toronto:20250723T100000
DTEND;TZID=America/Toronto:20250723T120000
DTSTAMP:20260421T132411
CREATED:20250611T162303Z
LAST-MODIFIED:20250616T205932Z
UID:10008912-1753264800-1753272000@achev.ca
SUMMARY:Ontario Student Assistance Program: Webinar
DESCRIPTION:Learning outcomes of this workshop: \n\nClarify what OSAP is and how it works\nProvide step-by-step guidance on applying for OSAP\nExplain rules\, regulations\, and key deadlines\nHighlight resources available to students throughout their post-secondary journey\n\nThis webinar will be held in collaboration with Sheridan College. \n\n\n\n\nDownload PDF \nFollow us on LinkedIn\, Facebook\, Instagram\, Threads\, Twitter or YouTube for our latest events\, workshops and news. \n\n 
URL:https://achev.ca/event/ontario-student-assistance-program-webinar-july-23-25/
LOCATION:Online
ATTACH;FMTTYPE=image/png:https://achev.ca/wp-content/uploads/2022/10/people-looking-at-laptop.png
END:VEVENT
BEGIN:VEVENT
DTSTART;TZID=America/Toronto:20250723T100000
DTEND;TZID=America/Toronto:20250723T120000
DTSTAMP:20260421T132411
CREATED:20250611T184634Z
LAST-MODIFIED:20250611T185142Z
UID:10008921-1753264800-1753272000@achev.ca
SUMMARY:Get Ready for Canadian Citizenship Test Part 2: Webinar
DESCRIPTION:The following topics will be covered according to the Discover Canada Study Guide: \n\nModern Canada\nHow Canadians govern themselves\nFederal elections\nJustice system\n\nThis webinar is best attended from a laptop or desktop computer. Download the Discover Canada Study Guide before attending. \nDownload PDF \n\n\n\nFollow us on LinkedIn\, Facebook\, Instagram\, Threads\, Twitter\, or YouTube for our latest events\, workshops and news.
URL:https://achev.ca/event/get-ready-for-canadian-citizenship-test-part-2-webinar-july-23-25/
LOCATION:Online
ATTACH;FMTTYPE=image/png:https://achev.ca/wp-content/uploads/2023/12/The-Canadian-flag.png
END:VEVENT
BEGIN:VEVENT
DTSTART;TZID=America/Toronto:20250723T100000
DTEND;TZID=America/Toronto:20250723T120000
DTSTAMP:20260421T132411
CREATED:20250617T185725Z
LAST-MODIFIED:20250617T191026Z
UID:10008948-1753264800-1753272000@achev.ca
SUMMARY:Free Tax Assistance for Self-Employed Individuals: Webinar
DESCRIPTION:Join this webinar to learn about free\, personalized support to owners of small businesses and self-employed individuals offered by the Canada Revenue Agency (CRA). In this webinar\, the following topics will be covered: \n\nAddressing general tax-related concerns and common tax errors\nDemonstration of how to use financial benchmarking\, various tools\nServices offered by the CRA\nOverview of general bookkeeping concepts and best practices\n\nThis webinar will be delivered in collaboration with Canada Revenue Agency. \n\n\n\nDownload PDF \nFollow us on LinkedIn\, Facebook\, Instagram\, Threads\, Twitter\, or YouTube for our latest events\, workshops and news.
URL:https://achev.ca/event/free-tax-assistance-for-self-employed-individuals-webinar-july-23-25/
LOCATION:Online
ATTACH;FMTTYPE=image/png:https://achev.ca/wp-content/uploads/2024/03/A-white-block-with-the-word-Taxes-on-top-of-US-dollars.png
END:VEVENT
BEGIN:VEVENT
DTSTART;TZID=America/Toronto:20250723T103000
DTEND;TZID=America/Toronto:20250723T113000
DTSTAMP:20260421T132411
CREATED:20250604T200732Z
LAST-MODIFIED:20250609T182500Z
UID:10008899-1753266600-1753270200@achev.ca
SUMMARY:International Nurses Licensure Assistance Pathway (INLAP)
DESCRIPTION:Helping Skilled Ontario Residents Navigate Financial Barriers and Job Market Integration \nIn this free webinar\, you will learn about: \n\nUp to $30K in financial aid for education and career training costs\nINLAP program with Progress Career Planning Institute\n14-week preparation for licensure exam\nCanadian health system and workplace culture\nField skills and sector-specific language training\n\nDownload PDF \n\n\n\nFollow us on LinkedIn\, Facebook\, Instagram\, Threads\, Twitter\, or YouTube for our latest events\, workshops and news.
URL:https://achev.ca/event/international-nurses-licensure-assistance-pathway-inlap-july-23-25/
LOCATION:Online
ATTACH;FMTTYPE=image/png:https://achev.ca/wp-content/uploads/2023/01/smiling-nurse-with-stethescope.png
END:VEVENT
BEGIN:VEVENT
DTSTART;TZID=America/Toronto:20250723T110000
DTEND;TZID=America/Toronto:20250723T130000
DTSTAMP:20260421T132411
CREATED:20250627T184723Z
LAST-MODIFIED:20250627T184852Z
UID:10008969-1753268400-1753275600@achev.ca
SUMMARY:Family Sponsorship and Other Alternatives: Webinar
DESCRIPTION:In this webinar\, the following immigration-related topics will be covered: \n\nBasics of the application process​\nEligibility requirements​\nDocuments needed and financial obligations ​\nHow to apply​\nReasons for being inadmissible to Canada​\nWhat are the alternative options for family sponsorship​\nQ&A\n\nDownload PDF \n\n\n\nFollow us on LinkedIn\, Facebook\, Instagram\, Threads\, Twitter\, or YouTube for our latest events\, workshops and news.
URL:https://achev.ca/event/family-sponsorship-and-other-alternatives-webinar-july-23-25/
LOCATION:Online
ATTACH;FMTTYPE=image/png:https://achev.ca/wp-content/uploads/2023/12/Asian-family-sharing-greetings.png
END:VEVENT
BEGIN:VEVENT
DTSTART;TZID=America/Toronto:20250723T120000
DTEND;TZID=America/Toronto:20250723T130000
DTSTAMP:20260421T132411
CREATED:20250616T145831Z
LAST-MODIFIED:20250616T145917Z
UID:10008939-1753272000-1753275600@achev.ca
SUMMARY:Flight Attendant Career Path Webinar
DESCRIPTION:Helping Skilled Ontario Residents Navigate Financial Barriers and Job Market Integration \nIn this free info session\, you will learn about: \n\nUp to $30K to cover education and career training costs\nThe flight attendant program offered by IBT College\nCabin crew skills recognized by major Canadian airlines\nHands-on training with industry-standard tools\, mock interviews and modules for in-flight operations\nGuidance on eligibility criteria and connection with a program representative\n\n\n\n\n\n\nDownload PDF \nFollow us on LinkedIn\, Facebook\, Instagram\, Threads\, Twitter or YouTube for our latest events\, workshops and news. \n\n 
URL:https://achev.ca/event/flight-attendant-career-path-july-23-25/
LOCATION:Online
ATTACH;FMTTYPE=image/png:https://achev.ca/wp-content/uploads/2025/04/Two-flight-attendants.png
END:VEVENT
END:VCALENDAR