BEGIN:VCALENDAR
VERSION:2.0
PRODID:-//Achēv - ECPv6.15.13//NONSGML v1.0//EN
CALSCALE:GREGORIAN
METHOD:PUBLISH
X-WR-CALNAME:Achēv
X-ORIGINAL-URL:https://achev.ca
X-WR-CALDESC:Events for Achēv
REFRESH-INTERVAL;VALUE=DURATION:PT1H
X-Robots-Tag:noindex
X-PUBLISHED-TTL:PT1H
BEGIN:VTIMEZONE
TZID:America/Toronto
BEGIN:DAYLIGHT
TZOFFSETFROM:-0500
TZOFFSETTO:-0400
TZNAME:EDT
DTSTART:20240310T070000
END:DAYLIGHT
BEGIN:STANDARD
TZOFFSETFROM:-0400
TZOFFSETTO:-0500
TZNAME:EST
DTSTART:20241103T060000
END:STANDARD
BEGIN:DAYLIGHT
TZOFFSETFROM:-0500
TZOFFSETTO:-0400
TZNAME:EDT
DTSTART:20250309T070000
END:DAYLIGHT
BEGIN:STANDARD
TZOFFSETFROM:-0400
TZOFFSETTO:-0500
TZNAME:EST
DTSTART:20251102T060000
END:STANDARD
BEGIN:DAYLIGHT
TZOFFSETFROM:-0500
TZOFFSETTO:-0400
TZNAME:EDT
DTSTART:20260308T070000
END:DAYLIGHT
BEGIN:STANDARD
TZOFFSETFROM:-0400
TZOFFSETTO:-0500
TZNAME:EST
DTSTART:20261101T060000
END:STANDARD
END:VTIMEZONE
BEGIN:VEVENT
DTSTART;TZID=America/Toronto:20250703T100000
DTEND;TZID=America/Toronto:20250703T110000
DTSTAMP:20260421T111048
CREATED:20250520T210720Z
LAST-MODIFIED:20250606T130136Z
UID:10008854-1751536800-1751540400@achev.ca
SUMMARY:English Conversation Circle for Newcomer Women: In-Person Session
DESCRIPTION:Improve your English conversational skills\nBuild your speaking confidence\nMake friends\nLearn about community resources\n\nEligibility Criteria: Permanent Residents or Convention Refugees with a valid PR card\, Confirmation of PR or Notice of Decision \n\n\n\n\n\nDownload PDF \nFollow us on LinkedIn\, Facebook\, Instagram\, Threads or Twitter for our latest events\, workshops and news.
URL:https://achev.ca/event/english-conversation-circle-for-newcomer-women-online-session-july-3-25/
LOCATION:Online
ATTACH;FMTTYPE=image/png:https://achev.ca/wp-content/uploads/2023/12/6-Successful-women-smiling-to-the-camera.png
END:VEVENT
BEGIN:VEVENT
DTSTART;TZID=America/Toronto:20250703T100000
DTEND;TZID=America/Toronto:20250703T113000
DTSTAMP:20260421T111048
CREATED:20250617T151808Z
LAST-MODIFIED:20250617T152247Z
UID:10008942-1751536800-1751542200@achev.ca
SUMMARY:Senior Conversation Club: In-Person Session
DESCRIPTION:Join our five-week conversation club for older adults 55+ every Thursday. The conversation club provides a safe and open space to meet new friends and learn about community resources. \n\n\nDownload PDF \n\n\nFollow us on LinkedIn\, Facebook\, Instagram\, Threads\, Twitter or YouTube for our latest events\, workshops and news. \n\n 
URL:https://achev.ca/event/senior-conversation-club-in-person-session-july-3-25/
LOCATION:Seniors Engagement & Empowerment Network Centre – Brampton South\, 7700 Hurontario Street\, Unit 601\, Suite 100\, Brampton\, ON\, L6Y 4M3\, Canada
ATTACH;FMTTYPE=image/png:https://achev.ca/wp-content/uploads/2022/08/Seniors-playing-chess.png
GEO:43.6581089;-79.7251536
X-APPLE-STRUCTURED-LOCATION;VALUE=URI;X-ADDRESS=Seniors Engagement & Empowerment Network Centre – Brampton South 7700 Hurontario Street Unit 601 Suite 100 Brampton ON L6Y 4M3 Canada;X-APPLE-RADIUS=500;X-TITLE=7700 Hurontario Street\, Unit 601\, Suite 100:geo:-79.7251536,43.6581089
END:VEVENT
BEGIN:VEVENT
DTSTART;TZID=America/Toronto:20250703T113000
DTEND;TZID=America/Toronto:20250703T140000
DTSTAMP:20260421T111048
CREATED:20250611T150533Z
LAST-MODIFIED:20250611T150733Z
UID:10008909-1751542200-1751551200@achev.ca
SUMMARY:A Magical Canada Day: In-Person Event
DESCRIPTION:Join us for an exciting afternoon filled with fun activities and magical moments! \nEvent highlights include: \n\nLive adult magician show\nEngaging activities for adults\nFood and refreshments\nPrizes and raffles\n\nSpace is limited. Reserve your spot today! \n\n\n\nDownload PDF \nFollow us on LinkedIn\, Facebook\, Instagram\, Threads\, Twitter\, or YouTube for our latest events\, workshops and news.
URL:https://achev.ca/event/canada-day-celebration-in-person-event-july-03-25/
LOCATION:Newcomer Information Centre – Brampton East\, 263 Queen Street East\, Unit 14\, Brampton\, ON\, L6W 4K6\, Canada
ATTACH;FMTTYPE=image/png:https://achev.ca/wp-content/uploads/2023/06/canada-flag-waving-against-shore.png
GEO:43.7000626;-79.7429366
X-APPLE-STRUCTURED-LOCATION;VALUE=URI;X-ADDRESS=Newcomer Information Centre – Brampton East 263 Queen Street East Unit 14 Brampton ON L6W 4K6 Canada;X-APPLE-RADIUS=500;X-TITLE=263 Queen Street East\, Unit 14:geo:-79.7429366,43.7000626
END:VEVENT
END:VCALENDAR