BEGIN:VCALENDAR
VERSION:2.0
PRODID:-//Achēv - ECPv6.15.13//NONSGML v1.0//EN
CALSCALE:GREGORIAN
METHOD:PUBLISH
X-WR-CALNAME:Achēv
X-ORIGINAL-URL:https://achev.ca
X-WR-CALDESC:Events for Achēv
REFRESH-INTERVAL;VALUE=DURATION:PT1H
X-Robots-Tag:noindex
X-PUBLISHED-TTL:PT1H
BEGIN:VTIMEZONE
TZID:America/Toronto
BEGIN:DAYLIGHT
TZOFFSETFROM:-0500
TZOFFSETTO:-0400
TZNAME:EDT
DTSTART:20240310T070000
END:DAYLIGHT
BEGIN:STANDARD
TZOFFSETFROM:-0400
TZOFFSETTO:-0500
TZNAME:EST
DTSTART:20241103T060000
END:STANDARD
BEGIN:DAYLIGHT
TZOFFSETFROM:-0500
TZOFFSETTO:-0400
TZNAME:EDT
DTSTART:20250309T070000
END:DAYLIGHT
BEGIN:STANDARD
TZOFFSETFROM:-0400
TZOFFSETTO:-0500
TZNAME:EST
DTSTART:20251102T060000
END:STANDARD
BEGIN:DAYLIGHT
TZOFFSETFROM:-0500
TZOFFSETTO:-0400
TZNAME:EDT
DTSTART:20260308T070000
END:DAYLIGHT
BEGIN:STANDARD
TZOFFSETFROM:-0400
TZOFFSETTO:-0500
TZNAME:EST
DTSTART:20261101T060000
END:STANDARD
END:VTIMEZONE
BEGIN:VEVENT
DTSTART;TZID=America/Toronto:20250630T090000
DTEND;TZID=America/Toronto:20250630T150000
DTSTAMP:20260421T111211
CREATED:20250528T193608Z
LAST-MODIFIED:20250528T193608Z
UID:10008871-1751274000-1751295600@achev.ca
SUMMARY:Care for Nurses: One-On-One Support and Guidance
DESCRIPTION:Are you an Internationally Educated Nurse looking for support in Ontario? \nBook a one-hour consultation with a CARE centre case manager who will guide you through the regulatory and settlement processes. The goals are successful registration\, sustained employment\, and social integration. \nServices Include: \n\nIndividualized needs and goals assessment\nGuidance to analyze and interpret CNO letters\nAssistance in identifying academic and skill development supports needed\nPreparation for exam success\nInformation on the Canadian healthcare workplace\nAssistance with job search tasks and networking\n\nAppointment is required. \nThis session is in collaboration with Care Centre for Internationally Educated Nurses. \n\n\n \n\n\n\nDownload PDF \nFollow us on LinkedIn\, Facebook\, Instagram\, Threads\, Twitter\, or YouTube for our latest events\, workshops and news. \n  \n\n 
URL:https://achev.ca/event/care-for-nurses-one-on-one-support-and-guidance-june-30-25/2025-06-30/
LOCATION:Newcomer Information Centre – Brampton East\, 263 Queen Street East\, Unit 14\, Brampton\, ON\, L6W 4K6\, Canada
ATTACH;FMTTYPE=image/png:https://achev.ca/wp-content/uploads/2024/04/Doctors-and-Nurses-smiling-to-the-camera.png
GEO:43.7000626;-79.7429366
X-APPLE-STRUCTURED-LOCATION;VALUE=URI;X-ADDRESS=Newcomer Information Centre – Brampton East 263 Queen Street East Unit 14 Brampton ON L6W 4K6 Canada;X-APPLE-RADIUS=500;X-TITLE=263 Queen Street East\, Unit 14:geo:-79.7429366,43.7000626
END:VEVENT
BEGIN:VEVENT
DTSTART;TZID=America/Toronto:20250630T090000
DTEND;TZID=America/Toronto:20250630T160000
DTSTAMP:20260421T111211
CREATED:20250602T174852Z
LAST-MODIFIED:20250602T174852Z
UID:10008893-1751274000-1751299200@achev.ca
SUMMARY:Individual/Family Appointments on Information & Referral for PR Renewal and Canadian Citizenship Applications
DESCRIPTION:Book a 45-minute session to get your questions answered.  \nObtain information and access to the resources during your in-person or virtual appointment on the following topics: \n\nCalculating your physical presence in Canada\nMaintaining residency obligation for PR renewal\, PRTD and citizenship applications\nInformation on causes of delay for the Canadian Citizenship application process\nTips to avoid long wait when submitting PR renewal or Canadian citizenship application\n\nPlease Note: No filling or review of forms will be done during the appointment. \nDownload PDF \n\n\n\nFollow us on LinkedIn\, Facebook\, Instagram\, Threads\, Twitter\, or YouTube for our latest events\, workshops and news.
URL:https://achev.ca/event/individual-family-appointments-on-information-referral-for-pr-renewal-and-canadian-citizenship-applications-june-30-25/
LOCATION:Newcomer Information Centre – Oakville\, 690 Dorval Drive\, Suite 100\, Oakville\, Ontario\, L6K 3X9\, Canada
ATTACH;FMTTYPE=image/png:https://achev.ca/wp-content/uploads/2023/05/The-Canadian-flag-behind-two-individuals.png
GEO:43.442645;-79.696521
X-APPLE-STRUCTURED-LOCATION;VALUE=URI;X-ADDRESS=Newcomer Information Centre – Oakville 690 Dorval Drive Suite 100 Oakville Ontario L6K 3X9 Canada;X-APPLE-RADIUS=500;X-TITLE=690 Dorval Drive\, Suite 100:geo:-79.696521,43.442645
END:VEVENT
BEGIN:VEVENT
DTSTART;TZID=America/Toronto:20250630T130000
DTEND;TZID=America/Toronto:20250630T143000
DTSTAMP:20260421T111211
CREATED:20250528T204559Z
LAST-MODIFIED:20250528T204559Z
UID:10008886-1751288400-1751293800@achev.ca
SUMMARY:Knitting Group Sessions: In-Person Workshop
DESCRIPTION:Come and join our charity knitting sessions! Knit small squares of 25cm x 25cm and sew them together to make a blanket. The finished product will be donated to local community organizations in need. \nAll skill levels are welcome! Even if you have no experience. You are welcome to bring your own knitting needles or crochet hooks. \nDonations of no-longer-used yarn are also welcome. \nThis session is held in collaboration with The Cross-Cultural Community Services Association (TCCSA). \n\n\n\nDownload PDF \nFollow us on LinkedIn\, Facebook\, Instagram\, Threads\, Twitter\, or YouTube for our latest events\, workshops and news. \n  \n\n 
URL:https://achev.ca/event/knitting-group-sessions-in-person-workshop-june-30-25/2025-06-30/
LOCATION:Newcomer Information Centre – Oakville\, 690 Dorval Drive\, Suite 100\, Oakville\, Ontario\, L6K 3X9\, Canada
ATTACH;FMTTYPE=image/png:https://achev.ca/wp-content/uploads/2025/05/knitting-needles-and-yarn.png
GEO:43.442645;-79.696521
X-APPLE-STRUCTURED-LOCATION;VALUE=URI;X-ADDRESS=Newcomer Information Centre – Oakville 690 Dorval Drive Suite 100 Oakville Ontario L6K 3X9 Canada;X-APPLE-RADIUS=500;X-TITLE=690 Dorval Drive\, Suite 100:geo:-79.696521,43.442645
END:VEVENT
END:VCALENDAR