BEGIN:VCALENDAR
VERSION:2.0
PRODID:-//Achēv - ECPv6.15.13//NONSGML v1.0//EN
CALSCALE:GREGORIAN
METHOD:PUBLISH
X-WR-CALNAME:Achēv
X-ORIGINAL-URL:https://achev.ca
X-WR-CALDESC:Events for Achēv
REFRESH-INTERVAL;VALUE=DURATION:PT1H
X-Robots-Tag:noindex
X-PUBLISHED-TTL:PT1H
BEGIN:VTIMEZONE
TZID:America/Toronto
BEGIN:DAYLIGHT
TZOFFSETFROM:-0500
TZOFFSETTO:-0400
TZNAME:EDT
DTSTART:20240310T070000
END:DAYLIGHT
BEGIN:STANDARD
TZOFFSETFROM:-0400
TZOFFSETTO:-0500
TZNAME:EST
DTSTART:20241103T060000
END:STANDARD
BEGIN:DAYLIGHT
TZOFFSETFROM:-0500
TZOFFSETTO:-0400
TZNAME:EDT
DTSTART:20250309T070000
END:DAYLIGHT
BEGIN:STANDARD
TZOFFSETFROM:-0400
TZOFFSETTO:-0500
TZNAME:EST
DTSTART:20251102T060000
END:STANDARD
BEGIN:DAYLIGHT
TZOFFSETFROM:-0500
TZOFFSETTO:-0400
TZNAME:EDT
DTSTART:20260308T070000
END:DAYLIGHT
BEGIN:STANDARD
TZOFFSETFROM:-0400
TZOFFSETTO:-0500
TZNAME:EST
DTSTART:20261101T060000
END:STANDARD
END:VTIMEZONE
BEGIN:VEVENT
DTSTART;TZID=America/Toronto:20250617T100000
DTEND;TZID=America/Toronto:20250617T110000
DTSTAMP:20260421T154155
CREATED:20250424T164541Z
LAST-MODIFIED:20250424T164836Z
UID:10008762-1750154400-1750158000@achev.ca
SUMMARY:Mobile Banking and Fraud Prevention: Webinar
DESCRIPTION:Mobile banking has given us the power to check balances\, transfer funds\, and pay bills anytime\, anywhere. However\, it’s important to understand how to keep your financial information safe from potential threats. Join our webinar to learn about: \n\nHow mobile banking provides convenient access to your financial accounts\nImportance of fraud protection when managing money digitally\nBest practices for strong security\nHow to monitor your accounts regularly and what to do if you notice suspicious activity\nRisks of using public Wi-Fi for mobile banking and how to avoid them\nImportance of keeping your mobile banking app updated\n\nThis webinar will be held in collaboration with National Bank. \n\n\n\n\nDownload PDF \nFollow us on LinkedIn\, Facebook\, Instagram\, Threads\, Twitter or YouTube for our latest events\, workshops and news. \n\n 
URL:https://achev.ca/event/mobile-banking-and-fraud-prevention-webinar-june-17-25/
LOCATION:Online
ATTACH;FMTTYPE=image/png:https://achev.ca/wp-content/uploads/2023/04/Security-Lock-on-Laptop.png
END:VEVENT
BEGIN:VEVENT
DTSTART;TZID=America/Toronto:20250617T110000
DTEND;TZID=America/Toronto:20250617T120000
DTSTAMP:20260421T154155
CREATED:20250513T195920Z
LAST-MODIFIED:20250513T195920Z
UID:10008833-1750158000-1750161600@achev.ca
SUMMARY:How to Find Jobs in the Rural Areas of Ontario: Webinar
DESCRIPTION:Do you feel overwhelmed with life in a big city? \nIn this free webinar\, you will learn about the Newcomer Centre of Peel's Rural Employment Initiative (REI). The REI connects talented\, internationally trained professionals with employment opportunities in rural areas of Ontario. \nPlease provide your First Name\, Last Name and Phone Number when you register. \nThis webinar is in collaboration with Newcomer Centre of Peel. \n\n\n\nDownload PDF \nFollow us on LinkedIn\, Facebook\, Instagram\, Threads\, Twitter\, or YouTube for our latest events\, workshops and news. \n  \n\n 
URL:https://achev.ca/event/how-to-find-jobs-in-the-rural-areas-of-ontario-webinar-june-17-25/
LOCATION:Online
ATTACH;FMTTYPE=image/png:https://achev.ca/wp-content/uploads/2023/05/A-man-jumping-from-a-cliff.png
END:VEVENT
BEGIN:VEVENT
DTSTART;TZID=America/Toronto:20250617T130000
DTEND;TZID=America/Toronto:20250617T140000
DTSTAMP:20260421T154155
CREATED:20250513T201615Z
LAST-MODIFIED:20250527T175434Z
UID:10008836-1750165200-1750168800@achev.ca
SUMMARY:Staying Fit With Zumba for Seniors: Webinar
DESCRIPTION:Join us for a Zumba session led by Fernanda Jarrin\, a certified Zumba instructor. \nYou will learn some basic simple movements to help burn some calories\, improve heart health and reduce stress. \nDownload PDF \n\n\n\nFollow us on LinkedIn\, Facebook\, Instagram\, Threads\, Twitter\, or YouTube for our latest events\, workshops and news.
URL:https://achev.ca/event/staying-fit-with-zumba-for-seniors-in-person-activity-june-17-25/
LOCATION:Online
ATTACH;FMTTYPE=image/png:https://achev.ca/wp-content/uploads/2023/10/A-Senior-dancing-Zomba.png
END:VEVENT
END:VCALENDAR