BEGIN:VCALENDAR
VERSION:2.0
PRODID:-//Achēv - ECPv6.15.13//NONSGML v1.0//EN
CALSCALE:GREGORIAN
METHOD:PUBLISH
X-ORIGINAL-URL:https://achev.ca
X-WR-CALDESC:Events for Achēv
REFRESH-INTERVAL;VALUE=DURATION:PT1H
X-Robots-Tag:noindex
X-PUBLISHED-TTL:PT1H
BEGIN:VTIMEZONE
TZID:America/Toronto
BEGIN:DAYLIGHT
TZOFFSETFROM:-0500
TZOFFSETTO:-0400
TZNAME:EDT
DTSTART:20240310T070000
END:DAYLIGHT
BEGIN:STANDARD
TZOFFSETFROM:-0400
TZOFFSETTO:-0500
TZNAME:EST
DTSTART:20241103T060000
END:STANDARD
BEGIN:DAYLIGHT
TZOFFSETFROM:-0500
TZOFFSETTO:-0400
TZNAME:EDT
DTSTART:20250309T070000
END:DAYLIGHT
BEGIN:STANDARD
TZOFFSETFROM:-0400
TZOFFSETTO:-0500
TZNAME:EST
DTSTART:20251102T060000
END:STANDARD
BEGIN:DAYLIGHT
TZOFFSETFROM:-0500
TZOFFSETTO:-0400
TZNAME:EDT
DTSTART:20260308T070000
END:DAYLIGHT
BEGIN:STANDARD
TZOFFSETFROM:-0400
TZOFFSETTO:-0500
TZNAME:EST
DTSTART:20261101T060000
END:STANDARD
END:VTIMEZONE
BEGIN:VEVENT
DTSTART;TZID=America/Toronto:20250606T093000
DTEND;TZID=America/Toronto:20250606T153000
DTSTAMP:20260421T111218
CREATED:20250513T162504Z
LAST-MODIFIED:20250514T162057Z
UID:10008817-1749202200-1749223800@achev.ca
SUMMARY:Service Canada: In-Person Pension and Dental Clinic
DESCRIPTION:Receive expert advice on your Canada Pension Plan (CPP) and Dental Care Plan applications from a Service Canada representative. \nDental Applications: \n\nHelp with first-time or renewal applications\nAccept and forward documentation for processing\nUpdate information on file\n\nPension: \n\nReview and submit applications for processing\nCertify documents\nCheck status updates\nUpdate personal information on file\n\nCall to book your appointment in advance \nThis event will held in collaboration with Service Canada. \n\n\n\n\n\nDownload PDF \nFollow us on LinkedIn\, Facebook\, Instagram\, Threads\, Twitter or YouTube for our latest events\, workshops and news. \n\n 
URL:https://achev.ca/event/service-canada-in-person-pension-and-dental-clinic-june-6-25/
LOCATION:ON
ATTACH;FMTTYPE=image/png:https://achev.ca/wp-content/uploads/2022/11/happy-people-looking-at-tablet.png
END:VEVENT
END:VCALENDAR