BEGIN:VCALENDAR
VERSION:2.0
PRODID:-//Achēv - ECPv6.15.13//NONSGML v1.0//EN
CALSCALE:GREGORIAN
METHOD:PUBLISH
X-WR-CALNAME:Achēv
X-ORIGINAL-URL:https://achev.ca
X-WR-CALDESC:Events for Achēv
REFRESH-INTERVAL;VALUE=DURATION:PT1H
X-Robots-Tag:noindex
X-PUBLISHED-TTL:PT1H
BEGIN:VTIMEZONE
TZID:America/Toronto
BEGIN:DAYLIGHT
TZOFFSETFROM:-0500
TZOFFSETTO:-0400
TZNAME:EDT
DTSTART:20240310T070000
END:DAYLIGHT
BEGIN:STANDARD
TZOFFSETFROM:-0400
TZOFFSETTO:-0500
TZNAME:EST
DTSTART:20241103T060000
END:STANDARD
BEGIN:DAYLIGHT
TZOFFSETFROM:-0500
TZOFFSETTO:-0400
TZNAME:EDT
DTSTART:20250309T070000
END:DAYLIGHT
BEGIN:STANDARD
TZOFFSETFROM:-0400
TZOFFSETTO:-0500
TZNAME:EST
DTSTART:20251102T060000
END:STANDARD
BEGIN:DAYLIGHT
TZOFFSETFROM:-0500
TZOFFSETTO:-0400
TZNAME:EDT
DTSTART:20260308T070000
END:DAYLIGHT
BEGIN:STANDARD
TZOFFSETFROM:-0400
TZOFFSETTO:-0500
TZNAME:EST
DTSTART:20261101T060000
END:STANDARD
END:VTIMEZONE
BEGIN:VEVENT
DTSTART;TZID=America/Toronto:20250602T090000
DTEND;TZID=America/Toronto:20250602T150000
DTSTAMP:20260421T111140
CREATED:20250528T194833Z
LAST-MODIFIED:20250528T195213Z
UID:10008872-1748854800-1748876400@achev.ca
SUMMARY:Care for Nurses: One-On-One Support and Guidance
DESCRIPTION:Are you an Internationally Educated Nurse looking for support in Ontario? \nBook a one-hour consultation with a CARE centre case manager who will guide you through the regulatory and settlement processes. The goals are successful registration\, sustained employment\, and social integration. \nServices Include: \n\nIndividualized needs and goals assessment\nGuidance to analyze and interpret CNO letters\nAssistance in identifying academic and skill development supports needed\nPreparation for exam success\nInformation on the Canadian healthcare workplace\nAssistance with job search tasks and networking\n\nAppointment is required. \nThis session is in collaboration with Care Centre for Internationally Educated Nurses. \n\n\n \n\n\n\nDownload PDF \nFollow us on LinkedIn\, Facebook\, Instagram\, Threads\, Twitter\, or YouTube for our latest events\, workshops and news. \n  \n\n 
URL:https://achev.ca/event/care-for-nurses-one-on-one-support-and-guidance-june0225/2025-06-02/
LOCATION:Newcomer Information Centre – Brampton East\, 263 Queen Street East\, Unit 14\, Brampton\, ON\, L6W 4K6\, Canada
ATTACH;FMTTYPE=image/png:https://achev.ca/wp-content/uploads/2024/04/Doctors-and-Nurses-smiling-to-the-camera.png
GEO:43.7000626;-79.7429366
X-APPLE-STRUCTURED-LOCATION;VALUE=URI;X-ADDRESS=Newcomer Information Centre – Brampton East 263 Queen Street East Unit 14 Brampton ON L6W 4K6 Canada;X-APPLE-RADIUS=500;X-TITLE=263 Queen Street East\, Unit 14:geo:-79.7429366,43.7000626
END:VEVENT
BEGIN:VEVENT
DTSTART;TZID=America/Toronto:20250602T100000
DTEND;TZID=America/Toronto:20250602T150000
DTSTAMP:20260421T111140
CREATED:20250513T161638Z
LAST-MODIFIED:20250513T161638Z
UID:10008816-1748858400-1748876400@achev.ca
SUMMARY:Free One-On-One  Virtual Legal Clinic
DESCRIPTION:Get free one-on-one legal consultation with a lawyer from SALCO in the following areas: \n\nImmigration (no letters of invitation)\nOW\, ODSP\, CPP and OAS\nEmployment standards\, wrongful dismissal and employment insurance\nHuman rights and family law\nSmall claims court matters\nCriminal injuries compensation board\nTenants rights\n\nThis virtual clinic will be held in collaboration with South Asian Legal Clinic of Ontario (SALCO). \nCall to book your appointment in advance. \n\n\n \n\n\n\nDownload PDF \nFollow us on LinkedIn\, Facebook\, Instagram\, Threads\, Twitter\, or YouTube for our latest events\, workshops and news. \n  \n\n 
URL:https://achev.ca/event/free-one-on-one-virtual-legal-clinic-june-2-25/
LOCATION:Online
ATTACH;FMTTYPE=image/png:https://achev.ca/wp-content/uploads/2023/10/A-judge-hammer-on-an-open-book.png
END:VEVENT
BEGIN:VEVENT
DTSTART;TZID=America/Toronto:20250602T110000
DTEND;TZID=America/Toronto:20250602T123000
DTSTAMP:20260421T111140
CREATED:20250513T192844Z
LAST-MODIFIED:20250513T192844Z
UID:10008830-1748862000-1748867400@achev.ca
SUMMARY:Employment Support - Job Opportunities in Farm Industry: In-Person Session
DESCRIPTION:This free webinar will cover the following topics: \n\nOverview of the farm business in Ontario\nDetailed introduction to types of farm businesses\nTax regulations in farm business operations\nEmployment opportunities for newcomers in the farm industry\nLeisure and shopping farms in the GTA\n\nThe guest speaker will be Wei Tang\, Industry Practitioner. This session will be conducted in Chinese/Mandarin.  \nThis session is held in collaboration with The Cross-Cultural Community Services Association (TCCSA). \n\n\n\nDownload PDF \nFollow us on LinkedIn\, Facebook\, Instagram\, Threads\, Twitter\, or YouTube for our latest events\, workshops and news. \n  \n\n 
URL:https://achev.ca/event/employment-support-job-opportunities-in-farm-industry-in-person-session-june-2-25/
LOCATION:Newcomer Information Centre – Oakville\, 690 Dorval Drive\, Suite 100\, Oakville\, Ontario\, L6K 3X9\, Canada
ATTACH;FMTTYPE=image/png:https://achev.ca/wp-content/uploads/2023/04/famer-holding-tray-of-crops.png
GEO:43.442645;-79.696521
X-APPLE-STRUCTURED-LOCATION;VALUE=URI;X-ADDRESS=Newcomer Information Centre – Oakville 690 Dorval Drive Suite 100 Oakville Ontario L6K 3X9 Canada;X-APPLE-RADIUS=500;X-TITLE=690 Dorval Drive\, Suite 100:geo:-79.696521,43.442645
END:VEVENT
END:VCALENDAR