BEGIN:VCALENDAR
VERSION:2.0
PRODID:-//Achēv - ECPv6.15.13//NONSGML v1.0//EN
CALSCALE:GREGORIAN
METHOD:PUBLISH
X-WR-CALNAME:Achēv
X-ORIGINAL-URL:https://achev.ca
X-WR-CALDESC:Events for Achēv
REFRESH-INTERVAL;VALUE=DURATION:PT1H
X-Robots-Tag:noindex
X-PUBLISHED-TTL:PT1H
BEGIN:VTIMEZONE
TZID:America/Toronto
BEGIN:DAYLIGHT
TZOFFSETFROM:-0500
TZOFFSETTO:-0400
TZNAME:EDT
DTSTART:20240310T070000
END:DAYLIGHT
BEGIN:STANDARD
TZOFFSETFROM:-0400
TZOFFSETTO:-0500
TZNAME:EST
DTSTART:20241103T060000
END:STANDARD
BEGIN:DAYLIGHT
TZOFFSETFROM:-0500
TZOFFSETTO:-0400
TZNAME:EDT
DTSTART:20250309T070000
END:DAYLIGHT
BEGIN:STANDARD
TZOFFSETFROM:-0400
TZOFFSETTO:-0500
TZNAME:EST
DTSTART:20251102T060000
END:STANDARD
BEGIN:DAYLIGHT
TZOFFSETFROM:-0500
TZOFFSETTO:-0400
TZNAME:EDT
DTSTART:20260308T070000
END:DAYLIGHT
BEGIN:STANDARD
TZOFFSETFROM:-0400
TZOFFSETTO:-0500
TZNAME:EST
DTSTART:20261101T060000
END:STANDARD
END:VTIMEZONE
BEGIN:VEVENT
DTSTART;TZID=America/Toronto:20250321T090000
DTEND;TZID=America/Toronto:20250321T163000
DTSTAMP:20260421T095914
CREATED:20250306T152107Z
LAST-MODIFIED:20250425T161505Z
UID:10008570-1742547600-1742574600@achev.ca
SUMMARY:Free Virtual Tax clinics for Newcomers
DESCRIPTION:Achēv is hosting Free Virtual Income Tax Clinics through the Community Volunteer Income Tax Program (CVITP) to support eligible low-income individuals and families file their 2024 tax returns. \nRequired documents for the virtual appointment: \n\nAll tax slips such as T4\, T4A\, T5007\, T2202A\nOther receipts (rent\, property-tax bill\, medical/dental receipts\, CCB/Childcare expenses)\n2023 Notice of Assessment (if applicable)\nPR Card\, Driver's License or Passport and SIN\n\nBook your virtual appointment as spots are limited!! \nTo learn more about the program\, visit: The Community Volunteer Income Tax Program (CVITP) \nPlease register by providing your First Name\, Last Name and Phone Number. \nDownload PDF \n\n\n\nFollow us on LinkedIn\, Facebook\, Instagram\, Threads\, Twitter\, or YouTube for our latest events\, workshops and news.
URL:https://achev.ca/event/free-virtual-tax-clinics-for-newcomers-march-april-25-2/2025-03-21/
LOCATION:Online
ATTACH;FMTTYPE=image/png:https://achev.ca/wp-content/uploads/2023/11/Taxes-Folder.png
END:VEVENT
BEGIN:VEVENT
DTSTART;TZID=America/Toronto:20250321T093000
DTEND;TZID=America/Toronto:20250321T153000
DTSTAMP:20260421T095914
CREATED:20250212T002342Z
LAST-MODIFIED:20250212T002510Z
UID:10008449-1742549400-1742571000@achev.ca
SUMMARY:Virtual One-On-One Resume Critique for Newcomers
DESCRIPTION:Book your 45-minute appointment between 9:30 a.m. – 3:30 p.m. \n\nAt your one-on-one appointment\, you will learn how to: \n\nModify your resume based on current labour market trends\nGet your resume noticed by employers\nCapture that sought-after interview\n\nEligibility Criteria: \n\nPermanent Residents or Convention Refugees with a valid PR card\, Confirmation of PR or Notice of Decision or CUAET visa holder\nAble to read\, write and speak English (Canadian Language Benchmark (CLB) level 5\n\n\nAppointments available on a first-come\, first-served basis.  \n\n\n\n\n\n\nDownload PDF \nFollow us on LinkedIn\, Facebook\, Instagram\, Threads\, Twitter or YouTube for our latest events\, workshops and news. \n\n 
URL:https://achev.ca/event/virtual-one-on-one-resume-critique-for-newcomers-mar-21-25/
LOCATION:Online
ATTACH;FMTTYPE=image/png:https://achev.ca/wp-content/uploads/2023/05/Teaching-resume-writing.png
END:VEVENT
BEGIN:VEVENT
DTSTART;TZID=America/Toronto:20250321T120000
DTEND;TZID=America/Toronto:20250321T140000
DTSTAMP:20260421T095914
CREATED:20250227T200405Z
LAST-MODIFIED:20250227T201051Z
UID:10008633-1742558400-1742565600@achev.ca
SUMMARY:Success through Connections: A Virtual Networking Event
DESCRIPTION:Join us for an online networking event tailored for budding entrepreneurs! \nConnect with industry-leading speakers\, access essential resources\, and tap into a supportive community ready to fuel your growth. \n\n\n\n\n\nDownload PDF \nFollow us on LinkedIn\, Facebook\, Instagram\, Threads\, Twitter or YouTube for our latest events\, workshops and news. \n\n 
URL:https://achev.ca/event/success-through-connections-a-virtual-networking-event-march-21-25/
LOCATION:Online
ATTACH;FMTTYPE=image/png:https://achev.ca/wp-content/uploads/2022/09/video-call-with-diverse-people.png
END:VEVENT
BEGIN:VEVENT
DTSTART;TZID=America/Toronto:20250321T123000
DTEND;TZID=America/Toronto:20250321T133000
DTSTAMP:20260421T095914
CREATED:20250225T224722Z
LAST-MODIFIED:20250225T224830Z
UID:10008623-1742560200-1742563800@achev.ca
SUMMARY:Certified Food Service Worker Webinar
DESCRIPTION:Helping Skilled Ontario Residents Navigate Financial Barriers and Job Market Integration \nIn this free info session\, you will learn about: \n\nUp to $30K to cover education and career training costs\nThe food service worker certificate program with CSDC\nCareer selection and alternate pathway planning\nSecuring enrollment into reputed colleges\nGuest speaker: Bijo Sebastian\, training and career mentor with Canadian Skills Development Centre\n\nDownload PDF \n\n\n\nFollow us on LinkedIn\, Facebook\, Instagram\, Threads\, Twitter\, or YouTube for our latest events\, workshops and news.
URL:https://achev.ca/event/certified-food-service-worker-webinar-march-21-25/
LOCATION:Online
ATTACH;FMTTYPE=image/png:https://achev.ca/wp-content/uploads/2024/06/Cooking-class.png
END:VEVENT
END:VCALENDAR