BEGIN:VCALENDAR
VERSION:2.0
PRODID:-//Achēv - ECPv6.15.13//NONSGML v1.0//EN
CALSCALE:GREGORIAN
METHOD:PUBLISH
X-WR-CALNAME:Achēv
X-ORIGINAL-URL:https://achev.ca
X-WR-CALDESC:Events for Achēv
REFRESH-INTERVAL;VALUE=DURATION:PT1H
X-Robots-Tag:noindex
X-PUBLISHED-TTL:PT1H
BEGIN:VTIMEZONE
TZID:America/Toronto
BEGIN:DAYLIGHT
TZOFFSETFROM:-0500
TZOFFSETTO:-0400
TZNAME:EDT
DTSTART:20240310T070000
END:DAYLIGHT
BEGIN:STANDARD
TZOFFSETFROM:-0400
TZOFFSETTO:-0500
TZNAME:EST
DTSTART:20241103T060000
END:STANDARD
BEGIN:DAYLIGHT
TZOFFSETFROM:-0500
TZOFFSETTO:-0400
TZNAME:EDT
DTSTART:20250309T070000
END:DAYLIGHT
BEGIN:STANDARD
TZOFFSETFROM:-0400
TZOFFSETTO:-0500
TZNAME:EST
DTSTART:20251102T060000
END:STANDARD
BEGIN:DAYLIGHT
TZOFFSETFROM:-0500
TZOFFSETTO:-0400
TZNAME:EDT
DTSTART:20260308T070000
END:DAYLIGHT
BEGIN:STANDARD
TZOFFSETFROM:-0400
TZOFFSETTO:-0500
TZNAME:EST
DTSTART:20261101T060000
END:STANDARD
END:VTIMEZONE
BEGIN:VEVENT
DTSTART;TZID=America/Toronto:20250225T100000
DTEND;TZID=America/Toronto:20250225T120000
DTSTAMP:20260420T113235
CREATED:20250122T161647Z
LAST-MODIFIED:20250122T161647Z
UID:10008399-1740477600-1740484800@achev.ca
SUMMARY:Canadian Tax System (Conducted in Spanish): Webinar
DESCRIPTION:This webinar will cover the following topics: \n\nWho is considered a newcomer to Canada for tax purposes?\nWhen should you do your taxes?\nWho collects taxes in Canada (CRA)?\nWhat is the NOA?\nWhy do you need your SIN to file your taxes?\nWhat tax benefits could you get from CRA?\nFree tax clinic and criteria to qualify\nImportance of having access to your CRA account online\nFrauds and scams\n\nThe session will be delivered in Spanish. \nThis event will be held in collaboration with Hispanic Development Council. \nDownload PDF \n\n\n\nFollow us on LinkedIn\, Facebook\, Instagram\, Threads\, Twitter\, or YouTube for our latest events\, workshops and news.
URL:https://achev.ca/event/canadian-tax-system-conducted-in-spanish-webinar-feb-25-25/
LOCATION:Online
ATTACH;FMTTYPE=image/png:https://achev.ca/wp-content/uploads/2023/12/A-lawyer-hammer-on-top-of-golden-coins-and-cubes-with-letters-T-A-X.png
END:VEVENT
BEGIN:VEVENT
DTSTART;TZID=America/Toronto:20250225T110000
DTEND;TZID=America/Toronto:20250225T123000
DTSTAMP:20260420T113235
CREATED:20250121T211236Z
LAST-MODIFIED:20250121T211236Z
UID:10008398-1740481200-1740486600@achev.ca
SUMMARY:Nutrition for Heart Health: In-Person Session for Seniors
DESCRIPTION:Join this workshop to learn about: \n\nImportance of heart health\nBasic heart conditions and risk factors\nNutrition for maintaining good heart health\n\nLight refreshments will be served. \nThis event will be held in collaboration with SEVA Food Bank and Nutrikaur. \nDownload PDF \n\n\n\nFollow us on LinkedIn\, Facebook\, Instagram\, Threads\, Twitter\, or YouTube for our latest events\, workshops and news.
URL:https://achev.ca/event/nutrition-for-heart-health-in-person-session-for-seniors-feb-25-25/
LOCATION:Seva Food Bank\, 2832 Slough St\, Mississauga\, Ontario\, L4T 1G3\, Canada
ATTACH;FMTTYPE=image/png:https://achev.ca/wp-content/uploads/2024/06/Meats-fruits-and-vegetables-on-a-table.png
END:VEVENT
BEGIN:VEVENT
DTSTART;TZID=America/Toronto:20250225T110000
DTEND;TZID=America/Toronto:20250225T130000
DTSTAMP:20260420T113235
CREATED:20250131T222703Z
LAST-MODIFIED:20250131T222703Z
UID:10008415-1740481200-1740488400@achev.ca
SUMMARY:Family Day Celebration: In-Person Event
DESCRIPTION:Participants will create a vibrant cardinal bird painting in this watercolor workshop while learning basic watercolour techniques such as wet-on-wet\, wet-on-dry\, and layering. The workshop encourages creativity and exploration\, making it suitable for beginners and experienced painters. \nRefreshments will be served at the event. Childcare services are available for eligible clients. \nThis event will be held in collaboration with Good Fairy Art. \n\n\n\n\nDownload PDF \nFollow us on LinkedIn\, Facebook\, Instagram\, Threads\, Twitter or YouTube for our latest events\, workshops and news.
URL:https://achev.ca/event/family-day-celebration-in-person-event-feb-25-25/
LOCATION:Newcomer Information Centre – Oakville\, 690 Dorval Drive\, Suite 100\, Oakville\, Ontario\, L6K 3X9\, Canada
ATTACH;FMTTYPE=image/png:https://achev.ca/wp-content/uploads/2024/09/Two-seniors-painting.png
GEO:43.442645;-79.696521
X-APPLE-STRUCTURED-LOCATION;VALUE=URI;X-ADDRESS=Newcomer Information Centre – Oakville 690 Dorval Drive Suite 100 Oakville Ontario L6K 3X9 Canada;X-APPLE-RADIUS=500;X-TITLE=690 Dorval Drive\, Suite 100:geo:-79.696521,43.442645
END:VEVENT
BEGIN:VEVENT
DTSTART;TZID=America/Toronto:20250225T120000
DTEND;TZID=America/Toronto:20250225T120000
DTSTAMP:20260420T113235
CREATED:20250114T214421Z
LAST-MODIFIED:20250114T214515Z
UID:10008375-1740484800-1740484800@achev.ca
SUMMARY:Free In-Person Cooking Class for 55+
DESCRIPTION:Step into a world of culinary delight and join us in person for an unforgettable experience tailored specifically for seniors 55+ on February 27\, 2025 from 11:30 a.m. – 1:00 p.m. This event connects seniors in a warm and inviting atmosphere\, where the joy of learning meets the pleasure of preparing delicious meals from an expert chef. \nSeats are limited and available on a first-come\, first-served basis. Registration deadline – February 25\, 2025 at 12 p.m. \nThis session will be held in collaboration with SEVA Food Bank. \nDownload PDF \nFollow us on LinkedIn\, Facebook\, Instagram\, Threads\, Twitter\, or YouTube for our latest events\, workshops and news.
URL:https://achev.ca/event/free-in-person-cooking-class-for-55-feb-25-25/
LOCATION:ON
ATTACH;FMTTYPE=image/png:https://achev.ca/wp-content/uploads/2024/10/Seniors-cooking-1.png
END:VEVENT
BEGIN:VEVENT
DTSTART;TZID=America/Toronto:20250225T120000
DTEND;TZID=America/Toronto:20250225T130000
DTSTAMP:20260420T113235
CREATED:20250211T232018Z
LAST-MODIFIED:20250211T232135Z
UID:10008440-1740484800-1740488400@achev.ca
SUMMARY:Start an Exciting Truck Driving Career
DESCRIPTION:Helping Skilled Ontario Residents Navigate Financial Barriers and Job Market Integration \nIn this free session\, you will learn about: \n\n200-hr AZ training program\nSkills development and employment resources\nUp to $30\,000 in micro-loans for education and career training costs\n\nDownload PDF \nFollow us on LinkedIn\, Facebook\, Instagram\, Threads\, Twitter\, or YouTube for our latest events\, workshops and news.
URL:https://achev.ca/event/start-an-exciting-truck-driving-career-feb-25-25/
LOCATION:Online
ATTACH;FMTTYPE=image/png:https://achev.ca/wp-content/uploads/2023/11/A-man-driving-a-truck.png
END:VEVENT
END:VCALENDAR