BEGIN:VCALENDAR
VERSION:2.0
PRODID:-//Achēv - ECPv6.15.13//NONSGML v1.0//EN
CALSCALE:GREGORIAN
METHOD:PUBLISH
X-WR-CALNAME:Achēv
X-ORIGINAL-URL:https://achev.ca
X-WR-CALDESC:Events for Achēv
REFRESH-INTERVAL;VALUE=DURATION:PT1H
X-Robots-Tag:noindex
X-PUBLISHED-TTL:PT1H
BEGIN:VTIMEZONE
TZID:America/Toronto
BEGIN:DAYLIGHT
TZOFFSETFROM:-0500
TZOFFSETTO:-0400
TZNAME:EDT
DTSTART:20230312T070000
END:DAYLIGHT
BEGIN:STANDARD
TZOFFSETFROM:-0400
TZOFFSETTO:-0500
TZNAME:EST
DTSTART:20231105T060000
END:STANDARD
BEGIN:DAYLIGHT
TZOFFSETFROM:-0500
TZOFFSETTO:-0400
TZNAME:EDT
DTSTART:20240310T070000
END:DAYLIGHT
BEGIN:STANDARD
TZOFFSETFROM:-0400
TZOFFSETTO:-0500
TZNAME:EST
DTSTART:20241103T060000
END:STANDARD
BEGIN:DAYLIGHT
TZOFFSETFROM:-0500
TZOFFSETTO:-0400
TZNAME:EDT
DTSTART:20250309T070000
END:DAYLIGHT
BEGIN:STANDARD
TZOFFSETFROM:-0400
TZOFFSETTO:-0500
TZNAME:EST
DTSTART:20251102T060000
END:STANDARD
END:VTIMEZONE
BEGIN:VEVENT
DTSTART;TZID=America/Toronto:20240712T093000
DTEND;TZID=America/Toronto:20240712T143000
DTSTAMP:20260424T075918
CREATED:20240614T152105Z
LAST-MODIFIED:20240614T152105Z
UID:10007281-1720776600-1720794600@achev.ca
SUMMARY:Virtual One-On-One Resume Critique for Newcomers
DESCRIPTION:Book your 45-minute one-on-one appointment between 9:30 a.m. – 2:30 p.m. to learn how to: \n\nModify your resume based on current labour market trends\nGet your resume noticed by employers\nCapture that sought-after interview\n\nEligibility Criteria: \n\nPermanent Residents or Convention Refugees with a valid PR card\, Confirmation of PR or Notice of Decision\nAble to read\, write and speak English (Canadian Language Benchmark (CLB)) level 5\n\nAppointments available on a first-come\, first-served basis. \nDownload PDF \n\nFollow us on LinkedIn\, Facebook\, Instagram\, Threads\, Twitter\, or YouTube for our latest events\, workshops and news.
URL:https://achev.ca/event/virtual-one-on-one-resume-critique-for-newcomers-june-12-24/
LOCATION:Online
ATTACH;FMTTYPE=image/png:https://achev.ca/wp-content/uploads/2023/05/A-man-holding-his-resume.png
END:VEVENT
END:VCALENDAR