BEGIN:VCALENDAR
VERSION:2.0
PRODID:-//Achēv - ECPv6.15.13//NONSGML v1.0//EN
CALSCALE:GREGORIAN
METHOD:PUBLISH
X-WR-CALNAME:Achēv
X-ORIGINAL-URL:https://achev.ca
X-WR-CALDESC:Events for Achēv
REFRESH-INTERVAL;VALUE=DURATION:PT1H
X-Robots-Tag:noindex
X-PUBLISHED-TTL:PT1H
BEGIN:VTIMEZONE
TZID:America/Toronto
BEGIN:DAYLIGHT
TZOFFSETFROM:-0500
TZOFFSETTO:-0400
TZNAME:EDT
DTSTART:20230312T070000
END:DAYLIGHT
BEGIN:STANDARD
TZOFFSETFROM:-0400
TZOFFSETTO:-0500
TZNAME:EST
DTSTART:20231105T060000
END:STANDARD
BEGIN:DAYLIGHT
TZOFFSETFROM:-0500
TZOFFSETTO:-0400
TZNAME:EDT
DTSTART:20240310T070000
END:DAYLIGHT
BEGIN:STANDARD
TZOFFSETFROM:-0400
TZOFFSETTO:-0500
TZNAME:EST
DTSTART:20241103T060000
END:STANDARD
BEGIN:DAYLIGHT
TZOFFSETFROM:-0500
TZOFFSETTO:-0400
TZNAME:EDT
DTSTART:20250309T070000
END:DAYLIGHT
BEGIN:STANDARD
TZOFFSETFROM:-0400
TZOFFSETTO:-0500
TZNAME:EST
DTSTART:20251102T060000
END:STANDARD
END:VTIMEZONE
BEGIN:VEVENT
DTSTART;TZID=America/Toronto:20240710T090000
DTEND;TZID=America/Toronto:20240710T160000
DTSTAMP:20260424T043141
CREATED:20240627T135244Z
LAST-MODIFIED:20240627T135447Z
UID:10007336-1720602000-1720627200@achev.ca
SUMMARY:Free Service Canada Clinic for Seniors & Newcomers: In-Person Appointment
DESCRIPTION:Book your 45-minute consultation to help you with your applications. An appointment is required to attend: \n\nCanada Pension Plan (CPP)\nOld Age Security (OAS)\nGuaranteed Income Supplement (GIS)\nSocial Insurance Number (SIN)\nEmployment Insurance (EI)\nMy Service Canada Account (MSCA)\n\nChild care will be available during the session if required.  \nThis event will be delivered in collaboration with Service Canada.  \n\n\n\nDownload PDF \nFollow us on LinkedIn\, Facebook\, Instagram\, Threads\, Twitter\, or YouTube for our latest events\, workshops and news.
URL:https://achev.ca/event/free-service-canada-clinic-for-seniors-newcomers-in-person-appointment-july-10-2024/
LOCATION:Seniors Engagement & Empowerment Network Centre – Oakville\, 690 Dorval Drive\, Suite 100\, Oakville\, ON\, L6K 3X9\, Canada
ATTACH;FMTTYPE=image/png:https://achev.ca/wp-content/uploads/2024/06/Person-showing-a-monitor-to-a-senior.png
GEO:43.442645;-79.696521
X-APPLE-STRUCTURED-LOCATION;VALUE=URI;X-ADDRESS=Seniors Engagement & Empowerment Network Centre – Oakville 690 Dorval Drive Suite 100 Oakville ON L6K 3X9 Canada;X-APPLE-RADIUS=500;X-TITLE=690 Dorval Drive\, Suite 100:geo:-79.696521,43.442645
END:VEVENT
BEGIN:VEVENT
DTSTART;TZID=America/Toronto:20240710T100000
DTEND;TZID=America/Toronto:20240710T110000
DTSTAMP:20260424T043141
CREATED:20240624T131004Z
LAST-MODIFIED:20240624T131200Z
UID:10007319-1720605600-1720609200@achev.ca
SUMMARY:How to Start Your Own Business: Webinar
DESCRIPTION:Topics to be covered: \n\nServices offered by Brampton Small Business Enterprise\nHow to register a business\nHow to write a simple business plan\nGrant programs\n\nThis event will be delivered in collaboration with Brampton Small Business Enterprise. \n\n\n\nDownload PDF \nFollow us on LinkedIn\, Facebook\, Instagram\, Threads\, Twitter\, or YouTube for our latest events\, workshops and news.
URL:https://achev.ca/event/how-to-start-your-own-business-webinar-july-10-24/
LOCATION:Online
ATTACH;FMTTYPE=image/png:https://achev.ca/wp-content/uploads/2024/06/People-attending-a-conference.png
END:VEVENT
BEGIN:VEVENT
DTSTART;TZID=America/Toronto:20240710T100000
DTEND;TZID=America/Toronto:20240710T120000
DTSTAMP:20260424T043141
CREATED:20240612T132700Z
LAST-MODIFIED:20240612T132747Z
UID:10007263-1720605600-1720612800@achev.ca
SUMMARY:Applying for Canadian Citizenship: Webinar
DESCRIPTION:The following topics will be covered: \n\nWhat does it mean to be Canadian?\nWho is eligible to apply?\nDocuments required\nStages of the citizenship application process\nAvailable resources for the Canadian Citizenship Test\n\nDownload PDF \n\n\n\n\nFollow us on LinkedIn\, Facebook\, Instagram\, Threads\, Twitter or YouTube for our latest events\, workshops and news.
URL:https://achev.ca/event/applying-for-canadian-citizenship-webinar-july-10-24/
LOCATION:Online
ATTACH;FMTTYPE=image/png:https://achev.ca/wp-content/uploads/2023/07/Canadian-Flag.png
END:VEVENT
BEGIN:VEVENT
DTSTART;TZID=America/Toronto:20240710T100000
DTEND;TZID=America/Toronto:20240710T120000
DTSTAMP:20260424T043141
CREATED:20240620T165224Z
LAST-MODIFIED:20240620T165224Z
UID:10007291-1720605600-1720612800@achev.ca
SUMMARY:Canadian Workplace Culture: Webinar
DESCRIPTION:In this workshop\, you will learn about: \n\nProper etiquette in the workplace\nPersonal space\nBody language and gestures\nHonesty and integrity\nEffective communication\n\nThis event will be in collaboration with Brampton Library and Brampton Multicultural Community Centre. \n\n\n\nDownload PDF \nFollow us on LinkedIn\, Facebook\, Instagram\, Threads\, Twitter\, or YouTube for our latest events\, workshops and news.
URL:https://achev.ca/event/relaxation-techniques-for-seniors-webinar-july-3-24-2/
LOCATION:Online
ATTACH;FMTTYPE=image/png:https://achev.ca/wp-content/uploads/2024/06/Group-of-multicultural-people-working-together.png
END:VEVENT
BEGIN:VEVENT
DTSTART;TZID=America/Toronto:20240710T100000
DTEND;TZID=America/Toronto:20240710T120000
DTSTAMP:20260424T043141
CREATED:20240621T203006Z
LAST-MODIFIED:20240621T203812Z
UID:10007304-1720605600-1720612800@achev.ca
SUMMARY:Benefits and Programs for Newcomers With Service Canada: Webinar
DESCRIPTION:The following topics will be covered: \n\nIntroduction and How to Access our Services\nNavigating Canada.ca\nNavigating My Service Canada Account\nNavigating Job bank\n\nDownload PDF \n\n\n\nFollow us on LinkedIn\, Facebook\, Instagram\, Threads\, Twitter\, or YouTube for our latest events\, workshops and news.
URL:https://achev.ca/event/benefits-and-programs-for-newcomers-with-service-canada-webinar-july-10-24/
LOCATION:Online
ATTACH;FMTTYPE=image/png:https://achev.ca/wp-content/uploads/2021/12/Benefits-and-credits-for-newcomers.png
END:VEVENT
BEGIN:VEVENT
DTSTART;TZID=America/Toronto:20240710T103000
DTEND;TZID=America/Toronto:20240710T120000
DTSTAMP:20260424T043141
CREATED:20240624T133319Z
LAST-MODIFIED:20240624T144520Z
UID:10007320-1720607400-1720612800@achev.ca
SUMMARY:Computer Training for Seniors: Virtual and In-Person Classes
DESCRIPTION:Join our free Technology Education Program for adults aged 55 and over. No prior knowledge is necessary. Learn at your own pace with the help of our friendly team of volunteers. \nThe following topics will be covered: \n\nHow to use social media\nHow to use online tools\nHow to efficiently use smartphones and tablets\nAnd much more!\n\n\n\n\nDownload PDF \nFollow us on LinkedIn\, Facebook\, Instagram\, Threads\, Twitter\, or YouTube for our latest events\, workshops and news.
URL:https://achev.ca/event/computer-training-for-seniors-virtual-and-in-person-classes-july-10-24/
ATTACH;FMTTYPE=image/png:https://achev.ca/wp-content/uploads/2024/06/A-woman-helping-out-seniors-with-their-use-of-technology.png
END:VEVENT
BEGIN:VEVENT
DTSTART;TZID=America/Toronto:20240710T110000
DTEND;TZID=America/Toronto:20240710T123000
DTSTAMP:20260424T043141
CREATED:20240622T002837Z
LAST-MODIFIED:20240622T002837Z
UID:10007315-1720609200-1720614600@achev.ca
SUMMARY:How to Ace Your Next Interview: Webinar
DESCRIPTION:Topics to be covered: \n\n\n\n\nTips and advice on how to effectively prepare for interviews\n\n\n\nHow to answer tough interview questions by using the STAR Technique and leave a positive impression on your potential employer\n\n\n\n\nFollow us on LinkedIn\, Facebook\, Instagram\, Threads\, Twitter\, or YouTube for our latest events\, workshops and news.
URL:https://achev.ca/event/how-to-ace-your-next-interview-webinar-july-10-24/
LOCATION:Online
ATTACH;FMTTYPE=image/png:https://achev.ca/wp-content/uploads/2021/06/Happy-Client-.png
END:VEVENT
BEGIN:VEVENT
DTSTART;TZID=America/Toronto:20240710T130000
DTEND;TZID=America/Toronto:20240710T150000
DTSTAMP:20260424T043141
CREATED:20240627T201905Z
LAST-MODIFIED:20240627T202447Z
UID:10007340-1720616400-1720623600@achev.ca
SUMMARY:Job Search Strategies: In-Person Session
DESCRIPTION:In this session\, you'll learn about the following: \n\nHow to access jobs in the visible and hidden job market\nUnderstanding current job search tools and strategies\nUsing effective techniques to connect with employers\n\nDownload PDF \n\n\n\n\n\nFollow us on LinkedIn\, Facebook\, Instagram\, Threads\, Twitter\, or YouTube for our latest events\, workshops and news.
URL:https://achev.ca/event/job-search-strategies-in-person-session-july-10-24/
LOCATION:Employment Centre – Brampton South\, 7700 Hurontario Street\, Unit 601\, Brampton\, ON\, L6Y 4M3\, Canada
ATTACH;FMTTYPE=image/png:https://achev.ca/wp-content/uploads/2023/12/Job-search-website.png
GEO:43.6581089;-79.7251536
X-APPLE-STRUCTURED-LOCATION;VALUE=URI;X-ADDRESS=Employment Centre – Brampton South 7700 Hurontario Street Unit 601 Brampton ON L6Y 4M3 Canada;X-APPLE-RADIUS=500;X-TITLE=7700 Hurontario Street\, Unit 601:geo:-79.7251536,43.6581089
END:VEVENT
END:VCALENDAR