BEGIN:VCALENDAR
VERSION:2.0
PRODID:-//Achēv - ECPv6.15.13//NONSGML v1.0//EN
CALSCALE:GREGORIAN
METHOD:PUBLISH
X-WR-CALNAME:Achēv
X-ORIGINAL-URL:https://achev.ca
X-WR-CALDESC:Events for Achēv
REFRESH-INTERVAL;VALUE=DURATION:PT1H
X-Robots-Tag:noindex
X-PUBLISHED-TTL:PT1H
BEGIN:VTIMEZONE
TZID:America/Toronto
BEGIN:DAYLIGHT
TZOFFSETFROM:-0500
TZOFFSETTO:-0400
TZNAME:EDT
DTSTART:20230312T070000
END:DAYLIGHT
BEGIN:STANDARD
TZOFFSETFROM:-0400
TZOFFSETTO:-0500
TZNAME:EST
DTSTART:20231105T060000
END:STANDARD
BEGIN:DAYLIGHT
TZOFFSETFROM:-0500
TZOFFSETTO:-0400
TZNAME:EDT
DTSTART:20240310T070000
END:DAYLIGHT
BEGIN:STANDARD
TZOFFSETFROM:-0400
TZOFFSETTO:-0500
TZNAME:EST
DTSTART:20241103T060000
END:STANDARD
BEGIN:DAYLIGHT
TZOFFSETFROM:-0500
TZOFFSETTO:-0400
TZNAME:EDT
DTSTART:20250309T070000
END:DAYLIGHT
BEGIN:STANDARD
TZOFFSETFROM:-0400
TZOFFSETTO:-0500
TZNAME:EST
DTSTART:20251102T060000
END:STANDARD
END:VTIMEZONE
BEGIN:VEVENT
DTSTART;TZID=America/Toronto:20240709T080000
DTEND;TZID=America/Toronto:20240709T160000
DTSTAMP:20260422T034831
CREATED:20240612T133256Z
LAST-MODIFIED:20240612T133426Z
UID:10007264-1720512000-1720540800@achev.ca
SUMMARY:Free Bus Tour for Seniors to Crawford Lake Conservation Area
DESCRIPTION:Join us for a free bus tour to Crawford Lake Conservation Area to enjoy a fun-filled outdoor activity. Seniors will have a wonderful chance to engage with nature and explore the beautiful area. \nBring your lunch\, water\, hat\, bug spray and sunscreen\, and wear weather-appropriate clothing. \nCall to book your seat on this trip. It is accessible to adults only. \nTimeline: 8:00 a.m. pick up at 7420 Airport Rd\, Mississauga\, L4T 4E5 \nThis tour will be held in collaboration with Conservation Halton. \n\n\n\n\nDownload PDF \nFollow us on LinkedIn\, Facebook\, Instagram\, Threads\, Twitter or YouTube for our latest events\, workshops and news.
URL:https://achev.ca/event/free-bus-tour-for-seniors-to-crawford-lake-conservation-area-july-9-24/
LOCATION:Newcomer Information Centre – Malton\, 7420 Airport Road Suite 104\, Mississauga\, ON\, Canada
ATTACH;FMTTYPE=image/png:https://achev.ca/wp-content/uploads/2023/07/Kayaking-in-the-sea.png
GEO:43.7116373;-79.6542088
X-APPLE-STRUCTURED-LOCATION;VALUE=URI;X-ADDRESS=Newcomer Information Centre – Malton 7420 Airport Road Suite 104 Mississauga ON Canada;X-APPLE-RADIUS=500;X-TITLE=7420 Airport Road Suite 104:geo:-79.6542088,43.7116373
END:VEVENT
BEGIN:VEVENT
DTSTART;TZID=America/Toronto:20240709T100000
DTEND;TZID=America/Toronto:20240709T113000
DTSTAMP:20260422T034831
CREATED:20240613T145424Z
LAST-MODIFIED:20240613T145424Z
UID:10007269-1720519200-1720524600@achev.ca
SUMMARY:Resume Writing Basics: Webinar
DESCRIPTION:Topics to be covered: \n\nPurpose of a resume\nThree main types of resumes\nBenefits of a great cover letter\nResume and cover letter do’s and don’ts\n\n\n\n\n\nDownload PDF \nFollow us on LinkedIn\, Facebook\, Instagram\, Threads\, Twitter or YouTube for our latest events\, workshops and news.
URL:https://achev.ca/event/resume-writing-basics-webinar-july-9-24/
LOCATION:Online
ATTACH;FMTTYPE=image/png:https://achev.ca/wp-content/uploads/2024/03/Copies-of-a-Resume-template-.png
END:VEVENT
BEGIN:VEVENT
DTSTART;TZID=America/Toronto:20240709T100000
DTEND;TZID=America/Toronto:20240709T120000
DTSTAMP:20260422T034831
CREATED:20240613T155840Z
LAST-MODIFIED:20240613T155840Z
UID:10007271-1720519200-1720526400@achev.ca
SUMMARY:Unlock Opportunities beyond the GTA through the Rural Employment Initiative: Webinar
DESCRIPTION:Discover Ontario: explore options beyond the GTA\nUnderstand Ontario’s labour market and gain knowledge of life in Canada\nLearn what it means to be part of a smaller Canadian community\nReceive information and learn about resources available in Ontario’s communities\nWork with REI Job Developer: attend hiring events and employment tours\, participate in job search support workshops\, and more\n\nThe program is open to individuals with international training willing to relocate to a smaller community in Ontario. It is available to those holding Permanent Resident status\, Convention Refugees\, and individuals under the Canada-Ukraine Authorization for Emergency Travel (CUAET). \nThis event will be held in collaboration with Newcomer Centre of Peel. \nDownload PDF \n\n\n\n\nFollow us on LinkedIn\, Facebook\, Instagram\, Threads\, Twitter or YouTube for our latest events\, workshops and news. \n\n 
URL:https://achev.ca/event/unlock-opportunities-beyond-the-gta-through-the-rural-employment-initiative-webinar-july-9-24/
LOCATION:Online
ATTACH;FMTTYPE=image/png:https://achev.ca/wp-content/uploads/2023/06/canada-flag-waving-against-shore.png
END:VEVENT
BEGIN:VEVENT
DTSTART;TZID=America/Toronto:20240709T110000
DTEND;TZID=America/Toronto:20240709T120000
DTSTAMP:20260422T034831
CREATED:20240622T002529Z
LAST-MODIFIED:20240622T002620Z
UID:10007313-1720522800-1720526400@achev.ca
SUMMARY:Better Jobs Ontario Information Session
DESCRIPTION:Have you been laid off? Join our information session to learn about the Ontario government's Better Jobs Ontario program and how it can provide you with financial support and skills training to find employment in high-demand occupations. \n\n\n\nThe following topics will be covered: \n\n\n\nCriteria for determining your eligibility and suitabilityGovernment application processesYour next steps\n\n\n\nFollow us on LinkedIn\, Facebook\, Instagram or Twitter for our latest events\, workshops and news.
URL:https://achev.ca/event/better-jobs-ontario-information-session-july-9-24/
LOCATION:Online
ATTACH;FMTTYPE=image/png:https://achev.ca/wp-content/uploads/2021/05/career-16.png
END:VEVENT
BEGIN:VEVENT
DTSTART;TZID=America/Toronto:20240709T110000
DTEND;TZID=America/Toronto:20240709T140000
DTSTAMP:20260422T034831
CREATED:20240703T145017Z
LAST-MODIFIED:20240703T145249Z
UID:10007354-1720522800-1720533600@achev.ca
SUMMARY:In-Person Hiring Event: Tim Hortons
DESCRIPTION:Tim Hortons is hiring for Team Members for their new location at the Mississauga Road and Williams Parkway intersection! \nPositions Available: \n\nTeam Member – 10 Positions\n\nRequirement: \nApplication is only open to Canadian Citizens\, Permanent Residents\, Convention Refugees\, Refugee Claimant and CUAET visa holders (with valid work permits) \nIf you face any difficulties scanning the QR code below\, please email us at bcsemployment@achev.ca to request the registration form. \n\n\n\n\n\nDownload PDF \nFollow us on LinkedIn\, Facebook\, Instagram\, Threads\, Twitter\, or YouTube for our latest events\, workshops and news. \n 
URL:https://achev.ca/event/in-person-hiring-event-tim-hortons-july-9-24/
LOCATION:Employment Centre – Brampton South\, 7700 Hurontario Street\, Unit 601\, Brampton\, ON\, L6Y 4M3\, Canada
ATTACH;FMTTYPE=image/png:https://achev.ca/wp-content/uploads/2024/07/Female-serving-Coffee.png
GEO:43.6581089;-79.7251536
X-APPLE-STRUCTURED-LOCATION;VALUE=URI;X-ADDRESS=Employment Centre – Brampton South 7700 Hurontario Street Unit 601 Brampton ON L6Y 4M3 Canada;X-APPLE-RADIUS=500;X-TITLE=7700 Hurontario Street\, Unit 601:geo:-79.7251536,43.6581089
END:VEVENT
END:VCALENDAR