BEGIN:VCALENDAR
VERSION:2.0
PRODID:-//Achēv - ECPv6.15.13//NONSGML v1.0//EN
CALSCALE:GREGORIAN
METHOD:PUBLISH
X-ORIGINAL-URL:https://achev.ca
X-WR-CALDESC:Events for Achēv
REFRESH-INTERVAL;VALUE=DURATION:PT1H
X-Robots-Tag:noindex
X-PUBLISHED-TTL:PT1H
BEGIN:VTIMEZONE
TZID:America/Toronto
BEGIN:DAYLIGHT
TZOFFSETFROM:-0500
TZOFFSETTO:-0400
TZNAME:EDT
DTSTART:20230312T070000
END:DAYLIGHT
BEGIN:STANDARD
TZOFFSETFROM:-0400
TZOFFSETTO:-0500
TZNAME:EST
DTSTART:20231105T060000
END:STANDARD
BEGIN:DAYLIGHT
TZOFFSETFROM:-0500
TZOFFSETTO:-0400
TZNAME:EDT
DTSTART:20240310T070000
END:DAYLIGHT
BEGIN:STANDARD
TZOFFSETFROM:-0400
TZOFFSETTO:-0500
TZNAME:EST
DTSTART:20241103T060000
END:STANDARD
BEGIN:DAYLIGHT
TZOFFSETFROM:-0500
TZOFFSETTO:-0400
TZNAME:EDT
DTSTART:20250309T070000
END:DAYLIGHT
BEGIN:STANDARD
TZOFFSETFROM:-0400
TZOFFSETTO:-0500
TZNAME:EST
DTSTART:20251102T060000
END:STANDARD
END:VTIMEZONE
BEGIN:VEVENT
DTSTART;TZID=America/Toronto:20240708T100000
DTEND;TZID=America/Toronto:20240708T150000
DTSTAMP:20260422T015112
CREATED:20240613T154910Z
LAST-MODIFIED:20240613T155025Z
UID:10007270-1720432800-1720450800@achev.ca
SUMMARY:Free One-On-One  Virtual Legal Clinic
DESCRIPTION:Get free one-on-one legal consultation with a lawyer from SALCO in the following areas: \n\nImmigration (no letters of invitation)\nOW\, ODSP\, CPP and OAS\nEmployment standards\, wrongful dismissal and employment insurance\nHuman rights and family law\nSmall claims court matters\nCriminal injuries compensation board\nTenants rights\n\nCall to book your appointment in advance. \nThis event will be held n collaboration with South Asian Legal Clinic of Ontario (SALCO). \nDownload PDF \n\n\n\n\nFollow us on LinkedIn\, Facebook\, Instagram\, Threads\, Twitter or YouTube for our latest events\, workshops and news. \n\n 
URL:https://achev.ca/event/free-one-on-one-virtual-legal-clinic-july-8-24/
LOCATION:Online
ATTACH;FMTTYPE=image/png:https://achev.ca/wp-content/uploads/2022/08/gavel-on-table.png
END:VEVENT
BEGIN:VEVENT
DTSTART;TZID=America/Toronto:20240708T110000
DTEND;TZID=America/Toronto:20240708T120000
DTSTAMP:20260422T015112
CREATED:20240516T201549Z
LAST-MODIFIED:20240516T210103Z
UID:10007174-1720436400-1720440000@achev.ca
SUMMARY:Getting Started With Achēv: In-Person Session
DESCRIPTION:Come in person to learn about our FREE employment services and how we can help you find a meaningful job! \n\nMeet our entire team and get a tour of our site\nLearn what free resources we have available onsite for you to use – such as access to our computers and printing\nGet tips to kick-start your job search and build your confidence\nRegister for our services to start working with us!\nLight refreshments provided\n\nNo registration required. \n*Dates are subject to change depending on holidays and other circumstances. Click here or go to www.achev.ca/events to check out our event calendar for more information. \nDownload PDF \n\n\n\n\n\nFollow us on LinkedIn\, Facebook\, Instagram\, Threads\, Twitter\, or YouTube for our latest events\, workshops and news.
URL:https://achev.ca/event/getting-started-with-achev-in-person-session-july-8-24/
LOCATION:Employment Centre – Toronto\, 149 East Liberty Street\, Suite 290\, Toronto\, ON\, M6K 0H7\, Canada
ATTACH;FMTTYPE=image/png:https://achev.ca/wp-content/uploads/2023/12/A-person-shaking-hands.png
GEO:43.6523341;-79.3737023
X-APPLE-STRUCTURED-LOCATION;VALUE=URI;X-ADDRESS=Employment Centre – Toronto 149 East Liberty Street Suite 290 Toronto ON M6K 0H7 Canada;X-APPLE-RADIUS=500;X-TITLE=149 East Liberty Street\, Suite 290:geo:-79.3737023,43.6523341
END:VEVENT
BEGIN:VEVENT
DTSTART;TZID=America/Toronto:20240708T110000
DTEND;TZID=America/Toronto:20240708T120000
DTSTAMP:20260422T015112
CREATED:20240717T215339Z
LAST-MODIFIED:20240717T221514Z
UID:10007431-1720436400-1720440000@achev.ca
SUMMARY:Get the Job You Want With a Resume Makeover: Webinar
DESCRIPTION:Topics to be covered: \n\n\n\n\nThe different types of resumes that will get you the job you want\n\n\n\nHow to write a targeted resume\n\n\n\nWays to make your resume more powerful and impressive\n\n\n\n\nFollow us on LinkedIn\, Facebook\, Instagram\, Threads\, Twitter\, or YouTube for our latest events\, workshops and news.
URL:https://achev.ca/event/get-the-job-you-want-with-a-resume-makeover-july-8-24-2/
LOCATION:Online
ATTACH;FMTTYPE=image/png:https://achev.ca/wp-content/uploads/2021/04/Interview-8.png
END:VEVENT
BEGIN:VEVENT
DTSTART;TZID=America/Toronto:20240708T110000
DTEND;TZID=America/Toronto:20240708T120000
DTSTAMP:20260422T015112
CREATED:20240717T220418Z
LAST-MODIFIED:20240717T220949Z
UID:10007435-1720436400-1720440000@achev.ca
SUMMARY:Get the Job You Want With a Resume Makeover: Webinar
DESCRIPTION:Topics to be covered: \n\n\n\n\nThe different types of resumes that will get you the job you want\n\n\n\nHow to write a targeted resume\n\n\n\nWays to make your resume more powerful and impressive\n\n\n\n\nFollow us on LinkedIn\, Facebook\, Instagram\, Threads\, Twitter\, or YouTube for our latest events\, workshops and news.
URL:https://achev.ca/event/get-the-job-you-want-with-a-resume-makeover-july-8-24/
LOCATION:Online
ATTACH;FMTTYPE=image/png:https://achev.ca/wp-content/uploads/2021/04/Interview-8.png
END:VEVENT
BEGIN:VEVENT
DTSTART;TZID=America/Toronto:20240708T133000
DTEND;TZID=America/Toronto:20240708T143000
DTSTAMP:20260422T015112
CREATED:20240621T195104Z
LAST-MODIFIED:20240621T202043Z
UID:10007302-1720445400-1720449000@achev.ca
SUMMARY:Ultrasound Tech Job Ready Program: Webinar
DESCRIPTION:Looking to restart your career as an Ultrasound Technician? \nInvest wisely and save time and money with the Ultrasound Tech Job Ready Program\, designed to secure you a job within a year. Start your journey to success today! \nThe Accelerating Career Advancement program will discuss financing options to pay for your training. \nThis event will be held in collaboration with Tutor IMG. \n\n\n\nDownload PDF \nFollow us on LinkedIn\, Facebook\, Instagram\, Threads\, Twitter\, or YouTube for our latest events\, workshops and news. \n  \n\n 
URL:https://achev.ca/event/ultrasound-tech-job-ready-program-webinar-july-8-24/
LOCATION:Online
ATTACH;FMTTYPE=image/png:https://achev.ca/wp-content/uploads/2024/06/Sonar-device.png
END:VEVENT
END:VCALENDAR