BEGIN:VCALENDAR
VERSION:2.0
PRODID:-//Achēv - ECPv6.15.13//NONSGML v1.0//EN
CALSCALE:GREGORIAN
METHOD:PUBLISH
X-ORIGINAL-URL:https://achev.ca
X-WR-CALDESC:Events for Achēv
REFRESH-INTERVAL;VALUE=DURATION:PT1H
X-Robots-Tag:noindex
X-PUBLISHED-TTL:PT1H
BEGIN:VTIMEZONE
TZID:America/Toronto
BEGIN:DAYLIGHT
TZOFFSETFROM:-0500
TZOFFSETTO:-0400
TZNAME:EDT
DTSTART:20230312T070000
END:DAYLIGHT
BEGIN:STANDARD
TZOFFSETFROM:-0400
TZOFFSETTO:-0500
TZNAME:EST
DTSTART:20231105T060000
END:STANDARD
BEGIN:DAYLIGHT
TZOFFSETFROM:-0500
TZOFFSETTO:-0400
TZNAME:EDT
DTSTART:20240310T070000
END:DAYLIGHT
BEGIN:STANDARD
TZOFFSETFROM:-0400
TZOFFSETTO:-0500
TZNAME:EST
DTSTART:20241103T060000
END:STANDARD
BEGIN:DAYLIGHT
TZOFFSETFROM:-0500
TZOFFSETTO:-0400
TZNAME:EDT
DTSTART:20250309T070000
END:DAYLIGHT
BEGIN:STANDARD
TZOFFSETFROM:-0400
TZOFFSETTO:-0500
TZNAME:EST
DTSTART:20251102T060000
END:STANDARD
END:VTIMEZONE
BEGIN:VEVENT
DTSTART;TZID=America/Toronto:20240704T100000
DTEND;TZID=America/Toronto:20240704T110000
DTSTAMP:20260421T182126
CREATED:20240621T134758Z
LAST-MODIFIED:20240621T134758Z
UID:10007299-1720087200-1720090800@achev.ca
SUMMARY:How to Find a Mentor in Your Profession: Webinar
DESCRIPTION:The TRIEC Mentoring Partnership program helps internationally trained professionals reconnect with their careers in Canada through one-on-one career-based mentoring with an industry professional. \nProgram Eligibility: \n\n2+ years of international experience\nLived in Canada for less than five years\nUnemployed or underemployed\n\nCurrently recruiting mentees for the following professions: \n\nCustomer Relationship Management\nBanking Services\nFinance and Accounting\nFinancial Services\nHuman Resources\nIT Consulting\nIT Project Management\nMarketing\nProject Management\nBusiness Analyst\n\nIf you are looking for mentors in other professions\, please contact us. \n\n\n\nDownload PDF \nFollow us on LinkedIn\, Facebook\, Instagram\, Threads\, Twitter\, or YouTube for our latest events\, workshops and news. \n  \n\n 
URL:https://achev.ca/event/how-to-find-a-mentor-in-your-profession-webinar-july-4-24/
LOCATION:Online
ATTACH;FMTTYPE=image/png:https://achev.ca/wp-content/uploads/2024/04/A-manager-explaining-something-to-her-staff-in-a-meeting.png
END:VEVENT
BEGIN:VEVENT
DTSTART;TZID=America/Toronto:20240704T100000
DTEND;TZID=America/Toronto:20240704T120000
DTSTAMP:20260421T182126
CREATED:20240614T184015Z
LAST-MODIFIED:20240614T184305Z
UID:10007283-1720087200-1720094400@achev.ca
SUMMARY:Get Ready for Canadian Citizenship Test Part 1: Webinar
DESCRIPTION:The following topics will be covered according to the Discover Canada Study Guide: \n\nOverview of the Canadian Citizenship Test\nRights and responsibilities of Canadian Citizenship\nWho we are\nCanada's history\n\nThis webinar is best attended on a computer or laptop. \nImportant: You must download the Discover Canada Study Guide before attending this webinar. Click here to download \nDownload PDF \n\n\n\nFollow us on LinkedIn\, Facebook\, Instagram\, Threads\, Twitter\, or YouTube for our latest events\, workshops and news.
URL:https://achev.ca/event/get-ready-for-canadian-citizenship-test-part-1-webinar-july-4-24/
LOCATION:Online
ATTACH;FMTTYPE=image/png:https://achev.ca/wp-content/uploads/2022/03/New-citizenship-test.png
END:VEVENT
BEGIN:VEVENT
DTSTART;TZID=America/Toronto:20240704T110000
DTEND;TZID=America/Toronto:20240704T120000
DTSTAMP:20260421T182126
CREATED:20240612T134259Z
LAST-MODIFIED:20240612T134259Z
UID:10007265-1720090800-1720094400@achev.ca
SUMMARY:Free Cybersecurity Training Program: Webinar
DESCRIPTION:Attend this webinar to learn about CultureLink’s free 10-week Cybersecurity Bridge Training Program. This training enables newcomer professionals with IT backgrounds to pursue a career in the preferred domain of cybersecurity. \n**Eligibility: Training open to Newcomers with status as ‘Permanent Resident\,’ ‘Convention Refugee’ or ‘CUAET’ visa holders only \nThis webinar will be held in collaboration with CultureLink Settlement and Community Services. \n\n\n\n\nDownload PDF \nFollow us on LinkedIn\, Facebook\, Instagram\, Threads\, Twitter or YouTube for our latest events\, workshops and news. \n\n 
URL:https://achev.ca/event/free-cybersecurity-training-program-webinar-july-4-24/
LOCATION:Online
ATTACH;FMTTYPE=image/png:https://achev.ca/wp-content/uploads/2022/03/another-culturelink-event.png
END:VEVENT
BEGIN:VEVENT
DTSTART;TZID=America/Toronto:20240704T110000
DTEND;TZID=America/Toronto:20240704T123000
DTSTAMP:20260421T182126
CREATED:20240622T002210Z
LAST-MODIFIED:20240622T002408Z
UID:10007311-1720090800-1720096200@achev.ca
SUMMARY:Webinar: How to Use LinkedIn to Find a Job
DESCRIPTION:Topics to be covered: \n\n\n\n\nHow to create a LinkedIn profile\n\n\n\nHow to incorporate skills and experiences\n\n\n\nHow to build your network on LinkedIn\n\n\n\nWhy is LinkedIn important for job search?\n\n\n\nHow to look for a job and use advanced search functions to reach targeted companies\n\n\n\n\nFollow us on LinkedIn\, Facebook\, Instagram\, Threads\, Twitter\, or YouTube for our latest events\, workshops and news.
URL:https://achev.ca/event/how-to-use-linkedin-to-find-a-job-july-4-24/
LOCATION:Online
ATTACH;FMTTYPE=image/png:https://achev.ca/wp-content/uploads/2021/11/Using-LinkedIn.png
END:VEVENT
BEGIN:VEVENT
DTSTART;TZID=America/Toronto:20240704T110000
DTEND;TZID=America/Toronto:20240704T130000
DTSTAMP:20260421T182126
CREATED:20240513T203110Z
LAST-MODIFIED:20240514T191559Z
UID:10007155-1720090800-1720098000@achev.ca
SUMMARY:In-Person Canadian Multicultural Day Celebrations
DESCRIPTION:Join us in celebrating Canada Day and Canadian Multiculturalism Day with a fun-filled afternoon of dance activities\, games\, raffle draws\, and much more! \nDownload PDF \n\n\n\nFollow us on LinkedIn\, Facebook\, Instagram\, Threads or Twitter for our latest events\, workshops and news.
URL:https://achev.ca/event/in-person-canadian-multicultural-day-celebrations-july-04-24/
LOCATION:Newcomer Information Centre – Brampton South\, 7700 Hurontario Street\, Unit 601\, Suite 100\, Brampton\, ON\, L6Y 4M3\, Canada
ATTACH;FMTTYPE=image/png:https://achev.ca/wp-content/uploads/2022/10/canadian-flag-streamer.png
GEO:43.6595514;-79.7252889
X-APPLE-STRUCTURED-LOCATION;VALUE=URI;X-ADDRESS=Newcomer Information Centre – Brampton South 7700 Hurontario Street Unit 601 Suite 100 Brampton ON L6Y 4M3 Canada;X-APPLE-RADIUS=500;X-TITLE=7700 Hurontario Street\, Unit 601\, Suite 100:geo:-79.7252889,43.6595514
END:VEVENT
BEGIN:VEVENT
DTSTART;TZID=America/Toronto:20240704T120000
DTEND;TZID=America/Toronto:20240704T143000
DTSTAMP:20260421T182126
CREATED:20240621T192644Z
LAST-MODIFIED:20240621T192735Z
UID:10007301-1720094400-1720103400@achev.ca
SUMMARY:In-Person Canada Day Celebrations
DESCRIPTION:Food\, music & games! \nJoin us in celebrating Canada Day and Canadian Multiculturalism Day with a fun-filled afternoon of dance activities\, games\, raffle draws\, and much more! \n\n\n\nDownload PDF \nFollow us on LinkedIn\, Facebook\, Instagram\, Threads\, Twitter\, or YouTube for our latest events\, workshops and news.
URL:https://achev.ca/event/in-person-canada-day-celebrations-july-4-24/
LOCATION:Private: Achēv – Brampton South\, 7700 Hurontario Street\, Unit 601\, Suite 100\, Brampton\, ON
ATTACH;FMTTYPE=image/png:https://achev.ca/wp-content/uploads/2024/06/Red-maple-leaves-on-a-white-background.png
GEO:43.6595455;-79.7264344
X-APPLE-STRUCTURED-LOCATION;VALUE=URI;X-ADDRESS=Private: Achēv – Brampton South 7700 Hurontario Street Unit 601 Suite 100 Brampton ON;X-APPLE-RADIUS=500;X-TITLE=7700 Hurontario Street\, Unit 601\, Suite 100:geo:-79.7264344,43.6595455
END:VEVENT
END:VCALENDAR