BEGIN:VCALENDAR
VERSION:2.0
PRODID:-//Achēv - ECPv6.15.13//NONSGML v1.0//EN
CALSCALE:GREGORIAN
METHOD:PUBLISH
X-WR-CALNAME:Achēv
X-ORIGINAL-URL:https://achev.ca
X-WR-CALDESC:Events for Achēv
REFRESH-INTERVAL;VALUE=DURATION:PT1H
X-Robots-Tag:noindex
X-PUBLISHED-TTL:PT1H
BEGIN:VTIMEZONE
TZID:America/Toronto
BEGIN:DAYLIGHT
TZOFFSETFROM:-0500
TZOFFSETTO:-0400
TZNAME:EDT
DTSTART:20230312T070000
END:DAYLIGHT
BEGIN:STANDARD
TZOFFSETFROM:-0400
TZOFFSETTO:-0500
TZNAME:EST
DTSTART:20231105T060000
END:STANDARD
BEGIN:DAYLIGHT
TZOFFSETFROM:-0500
TZOFFSETTO:-0400
TZNAME:EDT
DTSTART:20240310T070000
END:DAYLIGHT
BEGIN:STANDARD
TZOFFSETFROM:-0400
TZOFFSETTO:-0500
TZNAME:EST
DTSTART:20241103T060000
END:STANDARD
BEGIN:DAYLIGHT
TZOFFSETFROM:-0500
TZOFFSETTO:-0400
TZNAME:EDT
DTSTART:20250309T070000
END:DAYLIGHT
BEGIN:STANDARD
TZOFFSETFROM:-0400
TZOFFSETTO:-0500
TZNAME:EST
DTSTART:20251102T060000
END:STANDARD
END:VTIMEZONE
BEGIN:VEVENT
DTSTART;TZID=America/Toronto:20240702T103000
DTEND;TZID=America/Toronto:20240702T113000
DTSTAMP:20260421T141746
CREATED:20240612T135914Z
LAST-MODIFIED:20240627T165012Z
UID:10007267-1719916200-1719919800@achev.ca
SUMMARY:Canada Dental Care Plan: Webinar
DESCRIPTION:The Canadian Dental Care Plan (CDCP) will help ease financial barriers to accessing oral health care for eligible Canadian residents. \nAttend this webinar to find out about: \n\nEligibility requirements and application process\nThe services covered and when to visit the oral health provider\n\nThis webinar will be held in collaboration with Service Canada. \n\n\n\n\nDownload PDF \nFollow us on LinkedIn\, Facebook\, Instagram\, Threads\, Twitter or YouTube for our latest events\, workshops and news. \n\n 
URL:https://achev.ca/event/canada-dental-care-plan-webinar-july-2-24/
LOCATION:Online
ATTACH;FMTTYPE=image/png:https://achev.ca/wp-content/uploads/2022/02/Point-Care-hiring-event.png
END:VEVENT
BEGIN:VEVENT
DTSTART;TZID=America/Toronto:20240702T110000
DTEND;TZID=America/Toronto:20240702T120000
DTSTAMP:20260421T141746
CREATED:20240516T201444Z
LAST-MODIFIED:20240626T192236Z
UID:10007173-1719918000-1719921600@achev.ca
SUMMARY:Getting Started With Achēv: In-Person Session
DESCRIPTION:Come in person to learn about our FREE employment services and how we can help you find a meaningful job! \n\nMeet our entire team and get a tour of our site\nLearn what free resources we have available onsite for you to use – such as access to our computers and printing\nGet tips to kick-start your job search and build your confidence\nRegister for our services to start working with us!\nLight refreshments provided\n\nNo registration required. \n*Dates are subject to change depending on holidays and other circumstances. Click here or go to www.achev.ca/events to check out our event calendar for more information. \nDownload PDF \n\n\n\n\n\nFollow us on LinkedIn\, Facebook\, Instagram\, Threads\, Twitter\, or YouTube for our latest events\, workshops and news.
URL:https://achev.ca/event/getting-started-with-achev-in-person-session-july-2-24/
LOCATION:Employment Centre – Toronto\, 149 East Liberty Street\, Suite 290\, Toronto\, ON\, M6K 0H7\, Canada
ATTACH;FMTTYPE=image/png:https://achev.ca/wp-content/uploads/2023/12/A-person-shaking-hands.png
GEO:43.6523341;-79.3737023
X-APPLE-STRUCTURED-LOCATION;VALUE=URI;X-ADDRESS=Employment Centre – Toronto 149 East Liberty Street Suite 290 Toronto ON M6K 0H7 Canada;X-APPLE-RADIUS=500;X-TITLE=149 East Liberty Street\, Suite 290:geo:-79.3737023,43.6523341
END:VEVENT
END:VCALENDAR