BEGIN:VCALENDAR
VERSION:2.0
PRODID:-//Achēv - ECPv6.15.13//NONSGML v1.0//EN
CALSCALE:GREGORIAN
METHOD:PUBLISH
X-ORIGINAL-URL:https://achev.ca
X-WR-CALDESC:Events for Achēv
REFRESH-INTERVAL;VALUE=DURATION:PT1H
X-Robots-Tag:noindex
X-PUBLISHED-TTL:PT1H
BEGIN:VTIMEZONE
TZID:America/Toronto
BEGIN:DAYLIGHT
TZOFFSETFROM:-0500
TZOFFSETTO:-0400
TZNAME:EDT
DTSTART:20230312T070000
END:DAYLIGHT
BEGIN:STANDARD
TZOFFSETFROM:-0400
TZOFFSETTO:-0500
TZNAME:EST
DTSTART:20231105T060000
END:STANDARD
BEGIN:DAYLIGHT
TZOFFSETFROM:-0500
TZOFFSETTO:-0400
TZNAME:EDT
DTSTART:20240310T070000
END:DAYLIGHT
BEGIN:STANDARD
TZOFFSETFROM:-0400
TZOFFSETTO:-0500
TZNAME:EST
DTSTART:20241103T060000
END:STANDARD
BEGIN:DAYLIGHT
TZOFFSETFROM:-0500
TZOFFSETTO:-0400
TZNAME:EDT
DTSTART:20250309T070000
END:DAYLIGHT
BEGIN:STANDARD
TZOFFSETFROM:-0400
TZOFFSETTO:-0500
TZNAME:EST
DTSTART:20251102T060000
END:STANDARD
END:VTIMEZONE
BEGIN:VEVENT
DTSTART;TZID=America/Toronto:20240604T100000
DTEND;TZID=America/Toronto:20240604T120000
DTSTAMP:20260421T105150
CREATED:20240513T201559Z
LAST-MODIFIED:20240513T201833Z
UID:10007152-1717495200-1717502400@achev.ca
SUMMARY:Networking With Social Media: Webinar
DESCRIPTION:Topics to be covered: \n\nWhat is networking?\nUsing social media platforms as an effective job search tool\nCreating a professional profile\nBuilding\, maintaining and growing a professional network\nConnecting with colleagues\, classmates\, and other professionals\n\n\n\n\n\nDownload PDF \nFollow us on LinkedIn\, Facebook\, Instagram\, Threads\, Twitter or YouTube for our latest events\, workshops and news. \n\n 
URL:https://achev.ca/event/networking-with-social-media-webinar-june-4-24/
LOCATION:Online
ATTACH;FMTTYPE=image/png:https://achev.ca/wp-content/uploads/2022/10/smiling-woman-in-hijab-on-laptop.png
END:VEVENT
BEGIN:VEVENT
DTSTART;TZID=America/Toronto:20240604T110000
DTEND;TZID=America/Toronto:20240604T120000
DTSTAMP:20260421T105150
CREATED:20240513T144310Z
LAST-MODIFIED:20240527T143044Z
UID:10007142-1717498800-1717502400@achev.ca
SUMMARY:Get the Job You Want With a Resume Makeover: Webinar
DESCRIPTION:Topics to be covered: \n\n\n\n\nThe different types of resumes that will get you the job you want\n\n\n\nHow to write a targeted resume\n\n\n\nWays to make your resume more powerful and impressive\n\n\n\n\nFollow us on LinkedIn\, Facebook\, Instagram\, Threads\, Twitter\, or YouTube for our latest events\, workshops and news.
URL:https://achev.ca/event/get-the-job-you-want-with-a-resume-makeover-june-4-24/
LOCATION:Online
ATTACH;FMTTYPE=image/png:https://achev.ca/wp-content/uploads/2021/04/Interview-8.png
END:VEVENT
BEGIN:VEVENT
DTSTART;TZID=America/Toronto:20240604T113000
DTEND;TZID=America/Toronto:20240604T123000
DTSTAMP:20260421T105150
CREATED:20240517T153605Z
LAST-MODIFIED:20240517T153646Z
UID:10007205-1717500600-1717504200@achev.ca
SUMMARY:Managing Hypertension - Part 2: Virtual Session
DESCRIPTION:Join this two-part series of presentations to learn about the matters of the heart. \nIn this virtual session\, we'll discuss: \n\nWhat is cholesterol\, risk factors\, practical tips for healthier living\nHow to take control of high cholesterol\nSimple changes in your diet and lifestyle that can have a big impact\n\nThis webinar will be delivered in collaboration with  Rexdale Community Health Centre. \nDownload PDF \n\n\n\nFollow us on LinkedIn\, Facebook\, Instagram\, Threads\, Twitter\, or YouTube for our latest events\, workshops and news.
URL:https://achev.ca/event/managing-hypertension-part-2-virtual-session-june-4-24/
LOCATION:Online
ATTACH;FMTTYPE=image/png:https://achev.ca/wp-content/uploads/2024/01/A-child-holding-a-red-hear-and-their-parent-is-holding-their-hands.png
END:VEVENT
END:VCALENDAR