BEGIN:VCALENDAR
VERSION:2.0
PRODID:-//Achēv - ECPv6.15.13//NONSGML v1.0//EN
CALSCALE:GREGORIAN
METHOD:PUBLISH
X-WR-CALNAME:Achēv
X-ORIGINAL-URL:https://achev.ca
X-WR-CALDESC:Events for Achēv
REFRESH-INTERVAL;VALUE=DURATION:PT1H
X-Robots-Tag:noindex
X-PUBLISHED-TTL:PT1H
BEGIN:VTIMEZONE
TZID:America/Toronto
BEGIN:DAYLIGHT
TZOFFSETFROM:-0500
TZOFFSETTO:-0400
TZNAME:EDT
DTSTART:20230312T070000
END:DAYLIGHT
BEGIN:STANDARD
TZOFFSETFROM:-0400
TZOFFSETTO:-0500
TZNAME:EST
DTSTART:20231105T060000
END:STANDARD
BEGIN:DAYLIGHT
TZOFFSETFROM:-0500
TZOFFSETTO:-0400
TZNAME:EDT
DTSTART:20240310T070000
END:DAYLIGHT
BEGIN:STANDARD
TZOFFSETFROM:-0400
TZOFFSETTO:-0500
TZNAME:EST
DTSTART:20241103T060000
END:STANDARD
BEGIN:DAYLIGHT
TZOFFSETFROM:-0500
TZOFFSETTO:-0400
TZNAME:EDT
DTSTART:20250309T070000
END:DAYLIGHT
BEGIN:STANDARD
TZOFFSETFROM:-0400
TZOFFSETTO:-0500
TZNAME:EST
DTSTART:20251102T060000
END:STANDARD
END:VTIMEZONE
BEGIN:VEVENT
DTSTART;TZID=America/Toronto:20240528T100000
DTEND;TZID=America/Toronto:20240528T120000
DTSTAMP:20260421T085541
CREATED:20240418T164949Z
LAST-MODIFIED:20240418T165147Z
UID:10006789-1716890400-1716897600@achev.ca
SUMMARY:Get Ready for Canadian Citizenship Test - Part 3: Webinar
DESCRIPTION:You will learn about the following topics in the Discover Canada Study Guide: \n\nCanadian symbols\nCanadian economy\nCanadian regions\n\nThis webinar is best attended on a computer or laptop. \nImportant: You must download the Discover Canada Study Guide before attending this webinar. Click here to download \n\n\nDownload PDF \n\n\nFollow us on LinkedIn\, Facebook\, Instagram\, Threads\, Twitter\, or YouTube for our latest events\, workshops and news.
URL:https://achev.ca/event/get-ready-for-canadian-citizenship-test-part-3-webinar-may-28-24/
LOCATION:Online
ATTACH;FMTTYPE=image/png:https://achev.ca/wp-content/uploads/2023/06/canada-flag-waving-against-shore.png
END:VEVENT
BEGIN:VEVENT
DTSTART;TZID=America/Toronto:20240528T100000
DTEND;TZID=America/Toronto:20240528T120000
DTSTAMP:20260421T085541
CREATED:20240418T194834Z
LAST-MODIFIED:20240418T195053Z
UID:10006800-1716890400-1716897600@achev.ca
SUMMARY:Support for Internationally Educated Nurses: Virtual Information Session
DESCRIPTION:Are you an Internationally Educated Nurse (IEN) looking to restart your career in Ontario? \nJoin our webinar and learn about the following: \n\nWhat you need to know to practice as a regulated health professional in Ontario\nWhat are the Ontario registration requirements for IENs\nCARE Centre bridge training program for IENs to become Registered Nurses (RNs) and Registered Practical Nurses (RPNs)\nHow CARE Centre can provide programs and services to support you\n\nThis webinar will be delivered in collaboration with the Centre For Internationally Educated Nurses. \n\nDownload PDF \n\nFollow us on LinkedIn\, Facebook\, Instagram\, Threads\, Twitter\, or YouTube for our latest events\, workshops and news.
URL:https://achev.ca/event/support-for-internationally-educated-nurses-virtual-information-session-may-28-24/
LOCATION:Online
ATTACH;FMTTYPE=image/png:https://achev.ca/wp-content/uploads/2024/04/Doctors-and-Nurses-smiling-to-the-camera.png
END:VEVENT
BEGIN:VEVENT
DTSTART;TZID=America/Toronto:20240528T100000
DTEND;TZID=America/Toronto:20240528T140000
DTSTAMP:20260421T085541
CREATED:20240509T154447Z
LAST-MODIFIED:20240509T154823Z
UID:10006850-1716890400-1716904800@achev.ca
SUMMARY:In-Person Hiring Event: VHA Home HealthCare
DESCRIPTION:Multiple positions open for: \n\nPersonal Support Workers (Part Time/Full Time)\nBehavioural Support Worker (Part Time/Casual)\n\nHiring Event Registration Process \n\nSign up for the event through the QR code\nComplete Achēv registration forms virtually\nReceive your interview time slot\n\nRegistration is required to attend this event.  \nIf you face any difficulties please email us at LombardES@achev.ca or call us at 416-964-9797 (0) \nDownload PDF \n\n\n\n\n\nFollow us on LinkedIn\, Facebook\, Instagram\, Threads\, Twitter\, or YouTube for our latest events\, workshops and news.
URL:https://achev.ca/event/in-person-hiring-event-vha-home-healthcare-may-28-24/
LOCATION:Employment Centre – Toronto\, 149 East Liberty Street\, Suite 290\, Toronto\, ON\, M6K 0H7\, Canada
ATTACH;FMTTYPE=image/png:https://achev.ca/wp-content/uploads/2024/03/Business-professionals-smiling.png
GEO:43.6523341;-79.3737023
X-APPLE-STRUCTURED-LOCATION;VALUE=URI;X-ADDRESS=Employment Centre – Toronto 149 East Liberty Street Suite 290 Toronto ON M6K 0H7 Canada;X-APPLE-RADIUS=500;X-TITLE=149 East Liberty Street\, Suite 290:geo:-79.3737023,43.6523341
END:VEVENT
BEGIN:VEVENT
DTSTART;TZID=America/Toronto:20240528T110000
DTEND;TZID=America/Toronto:20240528T121500
DTSTAMP:20260421T085541
CREATED:20240523T173610Z
LAST-MODIFIED:20240523T173610Z
UID:10007221-1716894000-1716898500@achev.ca
SUMMARY:Introduction to Networking & netWORKS Orientation for Youth
DESCRIPTION:Are you 18-29 years of age and have an interest in building your professional network? Join us to learn the basics of networking. We’ll get you prepped and ready to be at your best for our upcoming FREE networking events. \nRequirements: \n\n18-29 years of age\nNot in school\nUnemployed or Underemployed\nEligible to work in Canada\n\nEmail us to register for a netWORKS orientation session. Attendees are required to attend one orientation session prior to attending networking events. If you have attended previously\, then you are not required to attend again. \nDownload PDF \n\nFollow us on LinkedIn\, Facebook\, Instagram\, Threads\, Twitter\, or YouTube for our latest events\, workshops and news.
URL:https://achev.ca/event/introduction-to-networking-networks-orientation-for-youth-may-28-24/
LOCATION:Online
ATTACH;FMTTYPE=image/png:https://achev.ca/wp-content/uploads/2022/11/students-working-on-a-project.png
END:VEVENT
END:VCALENDAR