BEGIN:VCALENDAR
VERSION:2.0
PRODID:-//Achēv - ECPv6.15.13//NONSGML v1.0//EN
CALSCALE:GREGORIAN
METHOD:PUBLISH
X-WR-CALNAME:Achēv
X-ORIGINAL-URL:https://achev.ca
X-WR-CALDESC:Events for Achēv
REFRESH-INTERVAL;VALUE=DURATION:PT1H
X-Robots-Tag:noindex
X-PUBLISHED-TTL:PT1H
BEGIN:VTIMEZONE
TZID:America/Toronto
BEGIN:DAYLIGHT
TZOFFSETFROM:-0500
TZOFFSETTO:-0400
TZNAME:EDT
DTSTART:20230312T070000
END:DAYLIGHT
BEGIN:STANDARD
TZOFFSETFROM:-0400
TZOFFSETTO:-0500
TZNAME:EST
DTSTART:20231105T060000
END:STANDARD
BEGIN:DAYLIGHT
TZOFFSETFROM:-0500
TZOFFSETTO:-0400
TZNAME:EDT
DTSTART:20240310T070000
END:DAYLIGHT
BEGIN:STANDARD
TZOFFSETFROM:-0400
TZOFFSETTO:-0500
TZNAME:EST
DTSTART:20241103T060000
END:STANDARD
BEGIN:DAYLIGHT
TZOFFSETFROM:-0500
TZOFFSETTO:-0400
TZNAME:EDT
DTSTART:20250309T070000
END:DAYLIGHT
BEGIN:STANDARD
TZOFFSETFROM:-0400
TZOFFSETTO:-0500
TZNAME:EST
DTSTART:20251102T060000
END:STANDARD
END:VTIMEZONE
BEGIN:VEVENT
DTSTART;TZID=America/Toronto:20240508T090000
DTEND;TZID=America/Toronto:20240508T160000
DTSTAMP:20260421T085541
CREATED:20240423T140403Z
LAST-MODIFIED:20240423T140403Z
UID:10006812-1715158800-1715184000@achev.ca
SUMMARY:Free Service Canada Clinic for Seniors & Newcomers: In-Person Appointment
DESCRIPTION:Book your 45-minute consultation to help you with your applications. An appointment is required to attend: \n\nCanada Pension Plan (CPP)\nOld Age Security (OAS)\nGuaranteed Income Supplement (GIS)\nSocial Insurance Number (SIN)\nEmployment Insurance (EI)\nMy Service Canada Account (MSCA)\n\nChild care will be available during the session if required. If you need assistance to apply for Social Insurance Number (SIN)\, please download PDF and refer to page 1. \nThis in-person appointment will be held in collaboration with Service Canada. \n\n\n\n\nFollow us on LinkedIn\, Facebook\, Instagram\, Threads\, Twitter or YouTube for our latest events\, workshops and news. \n  \n\nDownload PDF
URL:https://achev.ca/event/free-service-canada-clinic-for-seniors-newcomers-in-person-appointment-may-8-24/
LOCATION:Newcomer Information Centre – Oakville\, 690 Dorval Drive\, Suite 100\, Oakville\, Ontario\, L6K 3X9\, Canada
ATTACH;FMTTYPE=image/png:https://achev.ca/wp-content/uploads/2023/09/Someone-explaining-something-to-a-senior.png
GEO:43.442645;-79.696521
X-APPLE-STRUCTURED-LOCATION;VALUE=URI;X-ADDRESS=Newcomer Information Centre – Oakville 690 Dorval Drive Suite 100 Oakville Ontario L6K 3X9 Canada;X-APPLE-RADIUS=500;X-TITLE=690 Dorval Drive\, Suite 100:geo:-79.696521,43.442645
END:VEVENT
BEGIN:VEVENT
DTSTART;TZID=America/Toronto:20240508T100000
DTEND;TZID=America/Toronto:20240508T110000
DTSTAMP:20260421T085541
CREATED:20240426T145835Z
LAST-MODIFIED:20240426T145835Z
UID:10006834-1715162400-1715166000@achev.ca
SUMMARY:Introduction to Networking & Networks Orientation  For Youth: Virtual Session
DESCRIPTION:Are you 18-29 years of age with an interest in building your professional network? Join netWORKS to learn the basics of networking. \nYou’ll be prepped and ready to stand out from the crowd in our upcoming FREE networking events! \nEligibility: \n\n18-29 years of age\nNot in school\nUnemployed or Underemployed\nEligible to work in Canada\nReside in the GTA\n\nSend an email to register. Attendees are required to attend one orientation session prior to attending their first networking event. Those who have attended previous orientations are not required to attend again. \n\n\n\n\nDownload PDF \nFollow us on LinkedIn\, Facebook\, Instagram\, Threads\, Twitter or YouTube for our latest events\, workshops and news.
URL:https://achev.ca/event/introduction-to-networking-networks-orientation-for-youth-virtual-session-may-8-24/
LOCATION:Online
ATTACH;FMTTYPE=image/png:https://achev.ca/wp-content/uploads/2020/11/Nurse-Smiling-3.png
END:VEVENT
BEGIN:VEVENT
DTSTART;TZID=America/Toronto:20240508T100000
DTEND;TZID=America/Toronto:20240508T110000
DTSTAMP:20260421T085541
CREATED:20240430T201341Z
LAST-MODIFIED:20240430T201341Z
UID:10006840-1715162400-1715166000@achev.ca
SUMMARY:English Conversation Circle (For Ukrainians): Online Sessions
DESCRIPTION:Improve your English conversational skills\nBuild your speaking confidence\nMake friends\nLearn about community resources\n\nThe session is for newcomer Ukrainians under CUAET visa. \n\n\n\n\n\nDownload PDF \nFollow us on LinkedIn\, Facebook\, Instagram\, Threads or Twitter for our latest events\, workshops and news.
URL:https://achev.ca/event/english-conversation-circle-for-ukrainians-online-sessions-may-8-24/
LOCATION:Online
ATTACH;FMTTYPE=image/png:https://achev.ca/wp-content/uploads/2023/09/A-lady-smiling-in-a-purple-hoodie-and-greeting-the-camera.png
END:VEVENT
BEGIN:VEVENT
DTSTART;TZID=America/Toronto:20240508T100000
DTEND;TZID=America/Toronto:20240508T120000
DTSTAMP:20260421T085541
CREATED:20240418T185320Z
LAST-MODIFIED:20240418T185609Z
UID:10006794-1715162400-1715169600@achev.ca
SUMMARY:Preparing for Employment for Newcomers: Webinar
DESCRIPTION:In this workshop\, you will learn about: \n\nPreparing for employment\nUnderstanding labour market access and trends\nOvercoming barriers to employment\nAvailable resources and services\n\nThis webinar will be delivered in collaboration with the Brampton Library and Brampton Multicultural Community Centre. \n\nDownload PDF \n\nFollow us on LinkedIn\, Facebook\, Instagram\, Threads\, Twitter\, or YouTube for our latest events\, workshops and news.
URL:https://achev.ca/event/preparing-for-employment-for-newcomers-webinar-may-8-24/
LOCATION:Online
ATTACH;FMTTYPE=image/png:https://achev.ca/wp-content/uploads/2024/04/Job-seekers-waiting-for-an-interview.png
END:VEVENT
BEGIN:VEVENT
DTSTART;TZID=America/Toronto:20240508T100000
DTEND;TZID=America/Toronto:20240508T120000
DTSTAMP:20260421T085541
CREATED:20240426T150844Z
LAST-MODIFIED:20240426T150844Z
UID:10006835-1715162400-1715169600@achev.ca
SUMMARY:Resume Preparation: In-Person Session
DESCRIPTION:Join our in-person session to learn the art of creating a winning resume that stands out. \nTopics to be covered: \n\nDifferent types of resumes that will get you the job you want\nHow to write a targeted resume\nWays to make your resume more powerful and impressive\n\n\n\n\n\n\nDownload PDF \nFollow us on LinkedIn\, Facebook\, Instagram\, Threads\, Twitter\, or YouTube for our latest events\, workshops and news.
URL:https://achev.ca/event/resume-preparation-in-person-session-may-8-24/
LOCATION:Employment Centre – Brampton South\, 7700 Hurontario Street\, Unit 601\, Brampton\, ON\, L6Y 4M3\, Canada
ATTACH;FMTTYPE=image/png:https://achev.ca/wp-content/uploads/2023/08/Someone-grabbing-the-resume.png
GEO:43.6581089;-79.7251536
X-APPLE-STRUCTURED-LOCATION;VALUE=URI;X-ADDRESS=Employment Centre – Brampton South 7700 Hurontario Street Unit 601 Brampton ON L6Y 4M3 Canada;X-APPLE-RADIUS=500;X-TITLE=7700 Hurontario Street\, Unit 601:geo:-79.7251536,43.6581089
END:VEVENT
BEGIN:VEVENT
DTSTART;TZID=America/Toronto:20240508T110000
DTEND;TZID=America/Toronto:20240508T120000
DTSTAMP:20260421T085541
CREATED:20240417T135006Z
LAST-MODIFIED:20240417T135050Z
UID:10006769-1715166000-1715169600@achev.ca
SUMMARY:How to Get Paid Internships for Newcomers: Webinar
DESCRIPTION:Topics to be covered: \n\nOverview and features of the Career Edge program\nHow this program can help launch careers\nEligibility and registration process\n\nThis webinar will be delivered in collaboration with Career Edge. \n\n\n\nFollow us on LinkedIn\, Facebook\, Instagram\, Threads\, Twitter\, or YouTube for our latest events\, workshops and news. \n\nDownload PDF
URL:https://achev.ca/event/how-to-get-paid-internships-for-newcomers-webinar-may-8-24/
LOCATION:Online
ATTACH;FMTTYPE=image/png:https://achev.ca/wp-content/uploads/2024/04/Internship-in-different-fields.png
END:VEVENT
BEGIN:VEVENT
DTSTART;TZID=America/Toronto:20240508T110000
DTEND;TZID=America/Toronto:20240508T120000
DTSTAMP:20260421T085541
CREATED:20240423T201827Z
LAST-MODIFIED:20240423T202034Z
UID:10006817-1715166000-1715169600@achev.ca
SUMMARY:Culturelink’s Cybersecurity Training Program: Webinar
DESCRIPTION:Join us to learn about CultureLink’s free 10-week Hybrid Cybersecurity Training Program that helps newcomers with IT backgrounds prepare for the Cybersecurity Fundamental Certificate. \nLearn technical skills to protect IT infrastructures from security breaches\, gain expertise in the areas of cybersecurity and network with employers in the field. \nONLY Permanent Residents\, Convention Refugees and CUAET permit holders with post-secondary education in IT will be eligible. A Minimum CLB 7-8 is required. \nThis event will be held in collaboration with CultureLink. \n\n\n\n\nDownload PDF \nFollow us on LinkedIn\, Facebook\, Instagram\, Threads\, Twitter or YouTube for our latest events\, workshops and news.
URL:https://achev.ca/event/culturelinks-cybersecurity-training-program-webinar-may-8-24/
LOCATION:Online
ATTACH;FMTTYPE=image/png:https://achev.ca/wp-content/uploads/2022/03/another-culturelink-event.png
END:VEVENT
BEGIN:VEVENT
DTSTART;TZID=America/Toronto:20240508T140000
DTEND;TZID=America/Toronto:20240508T153000
DTSTAMP:20260421T085541
CREATED:20240426T144933Z
LAST-MODIFIED:20240426T144933Z
UID:10006832-1715176800-1715182200@achev.ca
SUMMARY:CIBC bank: Virtual Networking Event  for Youth
DESCRIPTION:Are you a youth with an interest in the fields of Finance\, Investment\, Marketing or Management? Attend a networking session with mentors from CIBC Bank. \nEligibility: \n\n18-29 years of age\nNot in school\nUnemployed or Underemployed\nEligible to work in Canada\nReside in the GTA\n\nThis event is in collaboration with CIBC. \n\n\n\n\nDownload PDF \nFollow us on LinkedIn\, Facebook\, Instagram\, Threads\, Twitter or YouTube for our latest events\, workshops and news.
URL:https://achev.ca/event/cibc-bank-virtual-networking-event-for-youth-may-8-24/
LOCATION:Online
ATTACH;FMTTYPE=image/png:https://achev.ca/wp-content/uploads/2020/11/Nurse-Smiling-3.png
END:VEVENT
END:VCALENDAR