BEGIN:VCALENDAR
VERSION:2.0
PRODID:-//Achēv - ECPv6.15.13//NONSGML v1.0//EN
CALSCALE:GREGORIAN
METHOD:PUBLISH
X-ORIGINAL-URL:https://achev.ca
X-WR-CALDESC:Events for Achēv
REFRESH-INTERVAL;VALUE=DURATION:PT1H
X-Robots-Tag:noindex
X-PUBLISHED-TTL:PT1H
BEGIN:VTIMEZONE
TZID:America/Toronto
BEGIN:DAYLIGHT
TZOFFSETFROM:-0500
TZOFFSETTO:-0400
TZNAME:EDT
DTSTART:20230312T070000
END:DAYLIGHT
BEGIN:STANDARD
TZOFFSETFROM:-0400
TZOFFSETTO:-0500
TZNAME:EST
DTSTART:20231105T060000
END:STANDARD
BEGIN:DAYLIGHT
TZOFFSETFROM:-0500
TZOFFSETTO:-0400
TZNAME:EDT
DTSTART:20240310T070000
END:DAYLIGHT
BEGIN:STANDARD
TZOFFSETFROM:-0400
TZOFFSETTO:-0500
TZNAME:EST
DTSTART:20241103T060000
END:STANDARD
BEGIN:DAYLIGHT
TZOFFSETFROM:-0500
TZOFFSETTO:-0400
TZNAME:EDT
DTSTART:20250309T070000
END:DAYLIGHT
BEGIN:STANDARD
TZOFFSETFROM:-0400
TZOFFSETTO:-0500
TZNAME:EST
DTSTART:20251102T060000
END:STANDARD
END:VTIMEZONE
BEGIN:VEVENT
DTSTART;TZID=America/Toronto:20240328T093000
DTEND;TZID=America/Toronto:20240328T143000
DTSTAMP:20260421T085032
CREATED:20240214T134817Z
LAST-MODIFIED:20240214T135103Z
UID:10006605-1711618200-1711636200@achev.ca
SUMMARY:Virtual One-On-One Resume Critique for Newcomers
DESCRIPTION:Book your 45-minute appointment between 9:30 a.m. – 2:30 p.m. \nAt your one-on-one appointment\, you will learn how to: \n\nModify your resume based on current labour market trends\nGet your resume noticed by employers\nCapture that sought-after interview\n\nEligibility Criteria: \n\nPermanent Residents or Convention Refugees with a valid PR card\, Confirmation of PR or Notice of Decision or CUAET visa holder\nAble to read\, write and speak English (Canadian Language Benchmark (CLB) level 5)\n\nAppointments available on a first-come\, first-served basis. \n\n\n\nFollow us on LinkedIn\, Facebook\, Instagram\, Threads\, Twitter\, or YouTube for our latest events\, workshops and news.
URL:https://achev.ca/event/virtual-one-on-one-resume-critique-for-newcomers-march-28-24/
LOCATION:Online
ATTACH;FMTTYPE=image/png:https://achev.ca/wp-content/uploads/2023/07/Resume-Writing-1.png
END:VEVENT
BEGIN:VEVENT
DTSTART;TZID=America/Toronto:20240328T100000
DTEND;TZID=America/Toronto:20240328T150000
DTSTAMP:20260421T085032
CREATED:20240213T174144Z
LAST-MODIFIED:20240213T174209Z
UID:10006597-1711620000-1711638000@achev.ca
SUMMARY:Free Service Canada Pension Clinic for Seniors: In-Person Appointment
DESCRIPTION:Are you a senior with questions about your Canada pension application? \n\n\n\nBook your 30-minute consultation to assist with your Canada Pension Plan (CPP) and Old Age Security (OAS) application. An appointment is required to attend the session: \n\n\n\n\nReview applications (CPP\, OAS\, GIS)\n\n\n\nDiscuss Guaranteed Income Supplements (GIS)\n\n\n\nDiscuss Death and Disability Benefits\n\n\n\nDiscuss other Service Canada benefits for seniors\n\n\n\n\nThis clinic will be delivered in collaboration with Service Canada. \n\n\n\nFollow us on LinkedIn\, Facebook\, Instagram or Twitter for our latest events\, workshops and news.
URL:https://achev.ca/event/free-service-canada-pension-clinic-for-seniors-in-person-appointment-march-28-24/
LOCATION:Newcomer Information Centre – Brampton East\, 263 Queen Street East\, Unit 14\, Brampton\, ON\, L6W 4K6\, Canada
ATTACH;FMTTYPE=image/png:https://achev.ca/wp-content/uploads/2024/02/Elders-looking-at-the-laptop-screen.png
GEO:43.7000626;-79.7429366
X-APPLE-STRUCTURED-LOCATION;VALUE=URI;X-ADDRESS=Newcomer Information Centre – Brampton East 263 Queen Street East Unit 14 Brampton ON L6W 4K6 Canada;X-APPLE-RADIUS=500;X-TITLE=263 Queen Street East\, Unit 14:geo:-79.7429366,43.7000626
END:VEVENT
BEGIN:VEVENT
DTSTART;TZID=America/Toronto:20240328T103000
DTEND;TZID=America/Toronto:20240328T120000
DTSTAMP:20260421T085032
CREATED:20240314T140433Z
LAST-MODIFIED:20240314T140433Z
UID:10006674-1711621800-1711627200@achev.ca
SUMMARY:How to Become an Ontario Certified English Language Teacher (OCELT): Webinar
DESCRIPTION:Are you an internationally trained professional looking to start a career as an English language teacher? In this free webinar\, you will learn about the Teaching English as a Second Language (TESL) diploma program at the Canadian College of Educators. \nAchēv's Accelerating Career Advancement program will be presenting funding options for training. \nThis webinar will  be held  in collaboration with Canadian College of Educators. \n\n\n\nFollow us on LinkedIn\, Facebook\, Instagram\, Threads\, Twitter or YouTube for our latest events\, workshops and news. \n  \n\nDownload PDF
URL:https://achev.ca/event/how-to-become-an-ontario-certified-english-language-teacher-ocelt-webinar-march-28-24/
LOCATION:Online
ATTACH;FMTTYPE=image/png:https://achev.ca/wp-content/uploads/2023/07/teacher-holding-notebook-in-front-of-blackboard.png
END:VEVENT
BEGIN:VEVENT
DTSTART;TZID=America/Toronto:20240328T140000
DTEND;TZID=America/Toronto:20240328T153000
DTSTAMP:20260421T085032
CREATED:20240321T194441Z
LAST-MODIFIED:20240321T194718Z
UID:10006728-1711634400-1711639800@achev.ca
SUMMARY:Job Seekers Network: In-Person Networking Event With Toastmasters
DESCRIPTION:Join the Job Seekers Network for an in-person networking event featuring Toastmasters! \nToastmasters builds confidence and teaches public speaking skills through a worldwide network of clubs that meet online and in person. \nIn this session\, you will: \n\nExperience a typical Toastmasters meeting to help with your career search and advance your professional communication\nPractice relevant techniques for Elevator Pitches\, Interview Prep\, Public Speaking\, and Building Confidence\nHave an opportunity to network in person with fellow job seekers\n\nPlease note: Spots are open only for the first 50 participants\, and refreshments will be served. \n\n\n\n\nFollow us on LinkedIn\, Facebook\, Instagram\, Threads\, Twitter or YouTube for our latest events\, workshops and news. \n\nDownload PDF
URL:https://achev.ca/event/job-seekers-network-in-person-networking-event-with-toastmasters-march-28-24/
LOCATION:Employment Centre – Toronto\, 149 East Liberty Street\, Suite 290\, Toronto\, ON\, M6K 0H7\, Canada
ATTACH;FMTTYPE=image/png:https://achev.ca/wp-content/uploads/2024/03/A-person-who-is-public-speaking.png
GEO:43.6523341;-79.3737023
X-APPLE-STRUCTURED-LOCATION;VALUE=URI;X-ADDRESS=Employment Centre – Toronto 149 East Liberty Street Suite 290 Toronto ON M6K 0H7 Canada;X-APPLE-RADIUS=500;X-TITLE=149 East Liberty Street\, Suite 290:geo:-79.3737023,43.6523341
END:VEVENT
END:VCALENDAR