BEGIN:VCALENDAR
VERSION:2.0
PRODID:-//Achēv - ECPv6.15.13//NONSGML v1.0//EN
CALSCALE:GREGORIAN
METHOD:PUBLISH
X-ORIGINAL-URL:https://achev.ca
X-WR-CALDESC:Events for Achēv
REFRESH-INTERVAL;VALUE=DURATION:PT1H
X-Robots-Tag:noindex
X-PUBLISHED-TTL:PT1H
BEGIN:VTIMEZONE
TZID:America/Toronto
BEGIN:DAYLIGHT
TZOFFSETFROM:-0500
TZOFFSETTO:-0400
TZNAME:EDT
DTSTART:20230312T070000
END:DAYLIGHT
BEGIN:STANDARD
TZOFFSETFROM:-0400
TZOFFSETTO:-0500
TZNAME:EST
DTSTART:20231105T060000
END:STANDARD
BEGIN:DAYLIGHT
TZOFFSETFROM:-0500
TZOFFSETTO:-0400
TZNAME:EDT
DTSTART:20240310T070000
END:DAYLIGHT
BEGIN:STANDARD
TZOFFSETFROM:-0400
TZOFFSETTO:-0500
TZNAME:EST
DTSTART:20241103T060000
END:STANDARD
BEGIN:DAYLIGHT
TZOFFSETFROM:-0500
TZOFFSETTO:-0400
TZNAME:EDT
DTSTART:20250309T070000
END:DAYLIGHT
BEGIN:STANDARD
TZOFFSETFROM:-0400
TZOFFSETTO:-0500
TZNAME:EST
DTSTART:20251102T060000
END:STANDARD
END:VTIMEZONE
BEGIN:VEVENT
DTSTART;TZID=America/Toronto:20240327T100000
DTEND;TZID=America/Toronto:20240327T120000
DTSTAMP:20260421T085010
CREATED:20240227T185453Z
LAST-MODIFIED:20240315T180740Z
UID:10006641-1711533600-1711540800@achev.ca
SUMMARY:Interview Preparation: In-Person Session
DESCRIPTION:Ready to turn your job interviews into success stories? Join our interview preparation workshop to empower you with the skills and strategies to stand out and land your dream job. \nTopics to be covered in the workshop: \n\nTypes of interviews\nHow to prepare for interviews\nEffective techniques for answering interview questions\nCommon interview questions and responses\n\n\n\n\n\n\nFollow us on LinkedIn\, Facebook\, Instagram\, Threads\, Twitter\, or YouTube for our latest events\, workshops and news. \n  \nDownload PDF
URL:https://achev.ca/event/interview-preparation-march-27-24/
LOCATION:Private: Employment Ontario Services – Brampton South\, 7700 Hurontario Street\, Unit 601\, Brampton\, ON\, L6Y 4M3\, Canada
ATTACH;FMTTYPE=image/png:https://achev.ca/wp-content/uploads/2023/11/A-person-interviewing-someone.png
GEO:43.6581089;-79.7251536
X-APPLE-STRUCTURED-LOCATION;VALUE=URI;X-ADDRESS=Private: Employment Ontario Services – Brampton South 7700 Hurontario Street Unit 601 Brampton ON L6Y 4M3 Canada;X-APPLE-RADIUS=500;X-TITLE=7700 Hurontario Street\, Unit 601:geo:-79.7251536,43.6581089
END:VEVENT
BEGIN:VEVENT
DTSTART;TZID=America/Toronto:20240327T110000
DTEND;TZID=America/Toronto:20240327T120000
DTSTAMP:20260421T085010
CREATED:20240223T162122Z
LAST-MODIFIED:20240223T162122Z
UID:10006634-1711537200-1711540800@achev.ca
SUMMARY:One-a-Week Strategy for Job Search
DESCRIPTION:Effective Job Search Strategies: Let's Chat Virtual Sessions \nJoin our one-hour virtual sessions with Career Specialist Lisa Trudel on various employment-related topics to get you job ready! \nIn this session\, you will learn a new job search approach that transfers the stress of contacting dozens of people every week to a more manageable target. \n\n\n\nFollow us on LinkedIn\, Facebook\, Instagram\, Threads\, Twitter\, or YouTube for our latest events\, workshops and news.
URL:https://achev.ca/event/one-a-week-strategy-for-job-search-march-27-24/
LOCATION:Online
ATTACH;FMTTYPE=image/png:https://achev.ca/wp-content/uploads/2023/07/Youth-meeting.png
END:VEVENT
BEGIN:VEVENT
DTSTART;TZID=America/Toronto:20240327T110000
DTEND;TZID=America/Toronto:20240327T123000
DTSTAMP:20260421T085010
CREATED:20240312T153617Z
LAST-MODIFIED:20240312T153617Z
UID:10006672-1711537200-1711542600@achev.ca
SUMMARY:Strategies for Professional Development and Personal Advancement: Webinar
DESCRIPTION:Join us for this engaging and insightful webinar designed for professional newcomer women looking to navigate their career paths and personal growth journeys in Canada. \nThis webinar combines keynote speaker Rania’s extensive professional experience and lived experience as an immigrant woman with practical insights into the Canadian job market. With a focus on equity\, diversity\, and inclusion\, Rania offers valuable strategies for career readiness\, personal resilience\, networking\, and overcoming cultural challenges. \nThe keynote speaker for this event is Rania Younes\, Senior Manager\, Employer Networks and National Engagement. \n\n\n\n\nFollow us on LinkedIn\, Facebook\, Instagram\, Threads\, Twitter or YouTube for our latest events\, workshops and news. \n\n  \nDownload PDF
URL:https://achev.ca/event/strategies-for-professional-development-and-personal-advancement-webinar-march-27-24/
LOCATION:Online
ATTACH;FMTTYPE=image/png:https://achev.ca/wp-content/uploads/2022/12/woman-leaning-over-desk-in-meeting.png
END:VEVENT
BEGIN:VEVENT
DTSTART;TZID=America/Toronto:20240327T110000
DTEND;TZID=America/Toronto:20240327T130000
DTSTAMP:20260421T085010
CREATED:20240214T172150Z
LAST-MODIFIED:20240214T172150Z
UID:10006615-1711537200-1711544400@achev.ca
SUMMARY:Winning Job Search Strategies: Webinar
DESCRIPTION:Go above and beyond the average job search!\n\n\n\n\n\nIn this free webinar\, you'll learn how to: \n\n\n\n\nUse effective techniques to connect with employers\n\n\n\nUpdate your job search tool kit\n\n\n\nExpand your professional network and access hidden jobs\n\n\n\n\nFollow us on LinkedIn\, Facebook\, Instagram\, Threads\, Twitter\, or YouTube for our latest events\, workshops and news.
URL:https://achev.ca/event/winning-job-search-strategies-march-27-24/
LOCATION:Online
ATTACH;FMTTYPE=image/png:https://achev.ca/wp-content/uploads/2021/04/Career-Planning-.png
END:VEVENT
BEGIN:VEVENT
DTSTART;TZID=America/Toronto:20240327T120000
DTEND;TZID=America/Toronto:20240327T130000
DTSTAMP:20260421T085010
CREATED:20240304T153842Z
LAST-MODIFIED:20240304T154320Z
UID:10006645-1711540800-1711544400@achev.ca
SUMMARY:Build Your Career With a Customer Service & Office Admin Diploma: Webinar
DESCRIPTION:Join our FREE webinar on the Customer Service & Office Administration Diploma by Peel College of Professional Studies. \nEquip yourself with essential skills for direct customer interactions and learn to deliver high-quality services to advance your career. Register Now! \nThis webinar will be held in collaboration with Peel College of Professional Studies. \n\n\n\n\n\nFollow us on LinkedIn\, Facebook\, Instagram\, Threads\, Twitter\, or YouTube for our latest events\, workshops and news.
URL:https://achev.ca/event/build-your-career-with-a-customer-service-office-admin-diploma-webinar-march-27-24/
LOCATION:Online
ATTACH;FMTTYPE=image/png:https://achev.ca/wp-content/uploads/2022/04/using-labour-market-info-for-your-job-search.png
END:VEVENT
BEGIN:VEVENT
DTSTART;TZID=America/Toronto:20240327T130000
DTEND;TZID=America/Toronto:20240327T140000
DTSTAMP:20260421T085010
CREATED:20240305T133743Z
LAST-MODIFIED:20240305T134355Z
UID:10006650-1711544400-1711548000@achev.ca
SUMMARY:Webinar: Advancing Your Career as a Newcomer Woman
DESCRIPTION:Are you a racialized newcomer woman looking for meaningful employment in Canada? In this free webinar\, learn about the best job search practices and resources to land a professional job in your field in Canada. \n\n\n\nEligibility: \n\n\n\n\nRacialized Newcomer Women\nPermanent Resident or Convention Refugee\nCanadian Language Benchmark (CLB) 7 or higher (verbal and written)\n\n\n\n\nFollow us on LinkedIn\, Facebook\, Instagram\, Threads\, Twitter\, or YouTube for our latest events\, workshops and news.
URL:https://achev.ca/event/webinar-advancing-your-career-as-a-newcomer-woman-march-27-24/
LOCATION:Online
ATTACH;FMTTYPE=image/png:https://achev.ca/wp-content/uploads/2023/05/Diverse-woman.png
END:VEVENT
BEGIN:VEVENT
DTSTART;TZID=America/Toronto:20240327T130000
DTEND;TZID=America/Toronto:20240327T150000
DTSTAMP:20260421T085010
CREATED:20240228T153358Z
LAST-MODIFIED:20240228T153424Z
UID:10006643-1711544400-1711551600@achev.ca
SUMMARY:Fueling Your Mind - Nutrition for Brain Health and Memory: Webinar
DESCRIPTION:In this webinar\, the following topics will be covered: \n\nUnderstanding Brain Fog\nKey Nutrients for Brain Health and Memory\nBrain-boosting foods and meal planning tips\nLifestyle Factors Affecting Brain Health\nConclusion Q&A\n\n\n\n\n\n\nFollow us on LinkedIn\, Facebook\, Instagram\, Threads\, Twitter\, or YouTube for our latest events\, workshops and news.
URL:https://achev.ca/event/fueling-your-mind-nutrition-for-brain-health-and-memory-webinar-march-27-24/
LOCATION:Online
ATTACH;FMTTYPE=image/png:https://achev.ca/wp-content/uploads/2024/02/Brain-foods-blueberries-tomatoes-broccoli-salmon-chocolte-apricot-olive-oil-and-eggs-and-nuts-.png
END:VEVENT
END:VCALENDAR