BEGIN:VCALENDAR
VERSION:2.0
PRODID:-//Achēv - ECPv6.15.13//NONSGML v1.0//EN
CALSCALE:GREGORIAN
METHOD:PUBLISH
X-ORIGINAL-URL:https://achev.ca
X-WR-CALDESC:Events for Achēv
REFRESH-INTERVAL;VALUE=DURATION:PT1H
X-Robots-Tag:noindex
X-PUBLISHED-TTL:PT1H
BEGIN:VTIMEZONE
TZID:America/Toronto
BEGIN:DAYLIGHT
TZOFFSETFROM:-0500
TZOFFSETTO:-0400
TZNAME:EDT
DTSTART:20230312T070000
END:DAYLIGHT
BEGIN:STANDARD
TZOFFSETFROM:-0400
TZOFFSETTO:-0500
TZNAME:EST
DTSTART:20231105T060000
END:STANDARD
BEGIN:DAYLIGHT
TZOFFSETFROM:-0500
TZOFFSETTO:-0400
TZNAME:EDT
DTSTART:20240310T070000
END:DAYLIGHT
BEGIN:STANDARD
TZOFFSETFROM:-0400
TZOFFSETTO:-0500
TZNAME:EST
DTSTART:20241103T060000
END:STANDARD
BEGIN:DAYLIGHT
TZOFFSETFROM:-0500
TZOFFSETTO:-0400
TZNAME:EDT
DTSTART:20250309T070000
END:DAYLIGHT
BEGIN:STANDARD
TZOFFSETFROM:-0400
TZOFFSETTO:-0500
TZNAME:EST
DTSTART:20251102T060000
END:STANDARD
END:VTIMEZONE
BEGIN:VEVENT
DTSTART;TZID=America/Toronto:20240326T093000
DTEND;TZID=America/Toronto:20240326T103000
DTSTAMP:20260421T085107
CREATED:20240319T144647Z
LAST-MODIFIED:20240319T144647Z
UID:10006715-1711445400-1711449000@achev.ca
SUMMARY:English Conversation Circle (For Ukrainians): Online Sessions
DESCRIPTION:Improve your English conversational skills\nBuild your speaking confidence\nMake friends\nLearn about community resources\n\nThe session is for newcomer Ukrainians under CUAET visa. \n\n\n\n\n\nFollow us on LinkedIn\, Facebook\, Instagram\, Threads or Twitter for our latest events\, workshops and news. \n  \n\n\nDownload PDF
URL:https://achev.ca/event/english-conversation-circle-for-ukrainians-online-sessions-march-26-24/
LOCATION:Online
ATTACH;FMTTYPE=image/png:https://achev.ca/wp-content/uploads/2023/09/A-lady-smiling-in-a-purple-hoodie-and-greeting-the-camera.png
END:VEVENT
BEGIN:VEVENT
DTSTART;TZID=America/Toronto:20240326T100000
DTEND;TZID=America/Toronto:20240326T120000
DTSTAMP:20260421T085107
CREATED:20240209T201245Z
LAST-MODIFIED:20240209T201245Z
UID:10006582-1711447200-1711454400@achev.ca
SUMMARY:Social Media and Networking for Job Search: Webinar
DESCRIPTION:Join our webinar and learn about the following: \n\n\n\n\nWhat is networking?\nUsing social media platforms as an effective job search tool\nCreating a professional profile\nBuilding\, maintaining and growing a professional network\nConnecting with colleagues\, classmates\, and other professionals\n\n\n\n\nFollow us on LinkedIn\, Facebook\, Instagram or Twitter for our latest events\, workshops and news.
URL:https://achev.ca/event/webinar-social-media-and-networking-for-job-search-march-26-24/
LOCATION:Online
ATTACH;FMTTYPE=image/png:https://achev.ca/wp-content/uploads/2022/03/Job-searching-for-newcomers.png
END:VEVENT
BEGIN:VEVENT
DTSTART;TZID=America/Toronto:20240326T110000
DTEND;TZID=America/Toronto:20240326T123000
DTSTAMP:20260421T085107
CREATED:20240214T171921Z
LAST-MODIFIED:20240214T171921Z
UID:10006612-1711450800-1711456200@achev.ca
SUMMARY:How to Ace Your Next Interview: Webinar
DESCRIPTION:Topics to be covered: \n\n\n\n\nTips and advice on how to effectively prepare for interviews\n\n\n\nHow to answer tough interview questions by using the STAR Technique and leave a positive impression on your potential employer\n\n\n\n\nFollow us on LinkedIn\, Facebook\, Instagram\, Threads\, Twitter\, or YouTube for our latest events\, workshops and news.
URL:https://achev.ca/event/how-to-ace-your-next-interview-webinar-march-26-24/
LOCATION:Online
ATTACH;FMTTYPE=image/png:https://achev.ca/wp-content/uploads/2021/06/Happy-Client-.png
END:VEVENT
BEGIN:VEVENT
DTSTART;TZID=America/Toronto:20240326T113000
DTEND;TZID=America/Toronto:20240326T123000
DTSTAMP:20260421T085107
CREATED:20240212T201549Z
LAST-MODIFIED:20240212T201549Z
UID:10006590-1711452600-1711456200@achev.ca
SUMMARY:Making Healthier Drink Choices: Virtual Session
DESCRIPTION:Join us online to learn all about keeping yourself hydrated and making healthier drink choices from a registered dietitian. \nThis session will be held in collaboration with Rexdale Community Health Centre. \n\n\n\nFollow us on LinkedIn\, Facebook\, Instagram\, Threads\, Twitter\, or YouTube for our latest events\, workshops and news.
URL:https://achev.ca/event/making-healthier-drink-choices-virtual-session-march-26-24/
LOCATION:Online
ATTACH;FMTTYPE=image/png:https://achev.ca/wp-content/uploads/2024/02/Different-juices-on-a-tray.png
END:VEVENT
BEGIN:VEVENT
DTSTART;TZID=America/Toronto:20240326T130000
DTEND;TZID=America/Toronto:20240326T150000
DTSTAMP:20260421T085107
CREATED:20240315T201349Z
LAST-MODIFIED:20240315T201427Z
UID:10006701-1711458000-1711465200@achev.ca
SUMMARY:Stay Safe at Work - Worker Health & Safety Awareness: Virtual Training
DESCRIPTION:Looking to start a new job? Learn about potential safety risks and how to prevent them to stay safe on the job. \nThrough the virtual training\, you can: \n\nIdentify common workplace hazards\nIdentify ways to protect yourself and others in various work environments\nLearn about the Ontario Occupational Health and Safety system\nFind out what resources and information are available to you for upholding workplace health and safety\n\nAfter the training\, participants will earn a certificate of completion\, which could be seen as a benefit to future employers during the hiring process. \nThis event will be delivered in collaboration with Workplace Safety & Prevention Services. \n\n\n\n\nFollow us on LinkedIn\, Facebook\, Instagram\, Threads\, Twitter or YouTube for our latest events\, workshops and news. \n\nDownload PDF
URL:https://achev.ca/event/stay-safe-at-work-worker-health-safety-awareness-virtual-training-march-26-24/
LOCATION:Online
ATTACH;FMTTYPE=image/png:https://achev.ca/wp-content/uploads/2024/03/Workplace-Safety.png
END:VEVENT
END:VCALENDAR