BEGIN:VCALENDAR
VERSION:2.0
PRODID:-//Achēv - ECPv6.15.13//NONSGML v1.0//EN
CALSCALE:GREGORIAN
METHOD:PUBLISH
X-ORIGINAL-URL:https://achev.ca
X-WR-CALDESC:Events for Achēv
REFRESH-INTERVAL;VALUE=DURATION:PT1H
X-Robots-Tag:noindex
X-PUBLISHED-TTL:PT1H
BEGIN:VTIMEZONE
TZID:America/Toronto
BEGIN:DAYLIGHT
TZOFFSETFROM:-0500
TZOFFSETTO:-0400
TZNAME:EDT
DTSTART:20230312T070000
END:DAYLIGHT
BEGIN:STANDARD
TZOFFSETFROM:-0400
TZOFFSETTO:-0500
TZNAME:EST
DTSTART:20231105T060000
END:STANDARD
BEGIN:DAYLIGHT
TZOFFSETFROM:-0500
TZOFFSETTO:-0400
TZNAME:EDT
DTSTART:20240310T070000
END:DAYLIGHT
BEGIN:STANDARD
TZOFFSETFROM:-0400
TZOFFSETTO:-0500
TZNAME:EST
DTSTART:20241103T060000
END:STANDARD
BEGIN:DAYLIGHT
TZOFFSETFROM:-0500
TZOFFSETTO:-0400
TZNAME:EDT
DTSTART:20250309T070000
END:DAYLIGHT
BEGIN:STANDARD
TZOFFSETFROM:-0400
TZOFFSETTO:-0500
TZNAME:EST
DTSTART:20251102T060000
END:STANDARD
END:VTIMEZONE
BEGIN:VEVENT
DTSTART;TZID=America/Toronto:20240318T110000
DTEND;TZID=America/Toronto:20240321T123000
DTSTAMP:20260421T085117
CREATED:20240308T141931Z
LAST-MODIFIED:20240308T142033Z
UID:10006656-1710759600-1711024200@achev.ca
SUMMARY:Digital Workplace Essentials: Virtual Workshop for Women
DESCRIPTION:RISE (Resilience. Independence. Support. Empowerment) Supporting Women who are experiencing Gender-Based Violence. \nThis workshop aims to develop an understanding of a digital workplace and the effective use of various technological applications to improve productivity and efficiency. \nThe workshop will focus on: \n\nDeveloping communication skills\nTime and team management skills integrated with digital tools\nDigital wellness and the ways to promote it within your daily lives\n\nThis event will be held in collaboration with The Learning Place. \n\n\n\n\nFollow us on LinkedIn\, Facebook\, Instagram\, Threads\, Twitter or YouTube for our latest events\, workshops and news. \n\nDownload PDF
URL:https://achev.ca/event/digital-workplace-essentials-virtual-workshop-for-women-march-18-21-24/
LOCATION:Online
ATTACH;FMTTYPE=image/png:https://achev.ca/wp-content/uploads/2024/03/Laptop-pen-paper-glass-of-water-pencil-case-with-TOOL-KIT-written-on-it.png
END:VEVENT
BEGIN:VEVENT
DTSTART;TZID=America/Toronto:20240321T093000
DTEND;TZID=America/Toronto:20240321T143000
DTSTAMP:20260421T085117
CREATED:20240216T163809Z
LAST-MODIFIED:20240216T163926Z
UID:10006628-1711013400-1711031400@achev.ca
SUMMARY:Virtual One-On-One Resume Critique for Newcomers
DESCRIPTION:Book your 45-minute appointment between 9:30 a.m. – 2:30 p.m. \nAt your one-on-one appointment\, you will learn how to: \n\nModify your resume based on current labour market trends\nGet your resume noticed by employers\nCapture that sought-after interview\n\nEligibility Criteria: \n\nPermanent Residents or Convention Refugees with a valid PR card\, Confirmation of PR or Notice of Decision or CUAET visa holder\nAble to read\, write and speak English (Canadian Language Benchmark (CLB) level 5)\n\nAppointments available on a first-come\, first-served basis. \n\n\n\nFollow us on LinkedIn\, Facebook\, Instagram\, Threads\, Twitter\, or YouTube for our latest events\, workshops and news.
URL:https://achev.ca/event/virtual-one-on-one-resume-critique-for-newcomers-march-21-24/
LOCATION:Online
ATTACH;FMTTYPE=image/png:https://achev.ca/wp-content/uploads/2023/05/A-man-holding-his-resume.png
END:VEVENT
BEGIN:VEVENT
DTSTART;TZID=America/Toronto:20240321T100000
DTEND;TZID=America/Toronto:20240321T120000
DTSTAMP:20260421T085117
CREATED:20240304T172331Z
LAST-MODIFIED:20240304T173101Z
UID:10006647-1711015200-1711022400@achev.ca
SUMMARY:How to Ace Any Job Interview: In-Person Session
DESCRIPTION:In this in-person workshop\, you will be able to: \n\nGet tips and advice on how to effectively prepare for interviews\nHow to answer tough questions using different techniques\nHow to leave a positive impression on your potential employer\n\n\n\n\n\nFollow us on LinkedIn\, Facebook\, Instagram\, Threads\, Twitter or YouTube for our latest events\, workshops and news. \n\n\nDownload PDF
URL:https://achev.ca/event/how-to-ace-any-job-interview-in-person-session-march-21-24/
LOCATION:Employment Centre – Brampton East\, 263 Queen Street East\, Unit 14\, Brampton\, ON\, L6W 4K6\, Canada
ATTACH;FMTTYPE=image/png:https://achev.ca/wp-content/uploads/2023/12/Counselling.png
GEO:43.7000626;-79.7429366
X-APPLE-STRUCTURED-LOCATION;VALUE=URI;X-ADDRESS=Employment Centre – Brampton East 263 Queen Street East Unit 14 Brampton ON L6W 4K6 Canada;X-APPLE-RADIUS=500;X-TITLE=263 Queen Street East\, Unit 14:geo:-79.7429366,43.7000626
END:VEVENT
BEGIN:VEVENT
DTSTART;TZID=America/Toronto:20240321T110000
DTEND;TZID=America/Toronto:20240321T120000
DTSTAMP:20260421T085117
CREATED:20240214T171515Z
LAST-MODIFIED:20240214T171515Z
UID:10006609-1711018800-1711022400@achev.ca
SUMMARY:Get the Job You Want With a Resume Makeover: Webinar
DESCRIPTION:Topics to be covered: \n\n\n\n\nThe different types of resumes that will get you the job you want\n\n\n\nHow to write a targeted resume\n\n\n\nWays to make your resume more powerful and impressive\n\n\n\n\nFollow us on LinkedIn\, Facebook\, Instagram\, Threads\, Twitter\, or YouTube for our latest events\, workshops and news.
URL:https://achev.ca/event/get-the-job-you-want-with-a-resume-makeover-webinar-march-21-24/
LOCATION:Online
ATTACH;FMTTYPE=image/png:https://achev.ca/wp-content/uploads/2021/04/resume-1.png
END:VEVENT
BEGIN:VEVENT
DTSTART;TZID=America/Toronto:20240321T113000
DTEND;TZID=America/Toronto:20240321T120000
DTSTAMP:20260421T085118
CREATED:20240216T163045Z
LAST-MODIFIED:20240216T163045Z
UID:10006625-1711020600-1711022400@achev.ca
SUMMARY:Embracing Movement: Three-Part Online Dance Series
DESCRIPTION:Come and join us for a fun\, three-part virtual and interactive dance class! These classes will focus on the movement in our mind and body. \n*No prior dance experience required \n\n\n\n\nFollow us on LinkedIn\, Facebook\, Instagram\, Threads\, Twitter or YouTube for our latest events\, workshops and news.
URL:https://achev.ca/event/embracing-movement-three-part-online-dance-series-march-21-24/
LOCATION:Online
ATTACH;FMTTYPE=image/png:https://achev.ca/wp-content/uploads/2024/02/People-dancing.png
END:VEVENT
BEGIN:VEVENT
DTSTART;TZID=America/Toronto:20240321T113000
DTEND;TZID=America/Toronto:20240321T130000
DTSTAMP:20260421T085118
CREATED:20240213T172819Z
LAST-MODIFIED:20240213T191206Z
UID:10006596-1711020600-1711026000@achev.ca
SUMMARY:Free In-Person Cooking Classes for 55+
DESCRIPTION:Step into a world of culinary delight and join us in person for an unforgettable experience tailored specifically for seniors 55+. This event connects seniors in a warm and inviting atmosphere\, where the joy of learning meets the pleasure of preparing delicious meals from an expert chef. \nSeats are limited and available on a first-come\, first-served basis. \nRegistration deadline – March 19\, 2024 at 12 p.m. Registration required to participate. \nThis event will be held in collaboration with SEVA Food Bank. \nFollow us on LinkedIn\, Facebook\, Instagram\, Threads\, Twitter\, or YouTube for our latest events\, workshops and news.
URL:https://achev.ca/event/free-in-person-cooking-classes-for-55-march-21-24/
LOCATION:The Honorable William G. Davis Centre for Families\, 60 West Drive\, Brampton\, L6T 3T6\, Canada
ATTACH;FMTTYPE=image/png:https://achev.ca/wp-content/uploads/2022/11/seniors-cooking-and-laughing.png
END:VEVENT
END:VCALENDAR