BEGIN:VCALENDAR
VERSION:2.0
PRODID:-//Achēv - ECPv6.15.13//NONSGML v1.0//EN
CALSCALE:GREGORIAN
METHOD:PUBLISH
X-ORIGINAL-URL:https://achev.ca
X-WR-CALDESC:Events for Achēv
REFRESH-INTERVAL;VALUE=DURATION:PT1H
X-Robots-Tag:noindex
X-PUBLISHED-TTL:PT1H
BEGIN:VTIMEZONE
TZID:America/Toronto
BEGIN:DAYLIGHT
TZOFFSETFROM:-0500
TZOFFSETTO:-0400
TZNAME:EDT
DTSTART:20230312T070000
END:DAYLIGHT
BEGIN:STANDARD
TZOFFSETFROM:-0400
TZOFFSETTO:-0500
TZNAME:EST
DTSTART:20231105T060000
END:STANDARD
BEGIN:DAYLIGHT
TZOFFSETFROM:-0500
TZOFFSETTO:-0400
TZNAME:EDT
DTSTART:20240310T070000
END:DAYLIGHT
BEGIN:STANDARD
TZOFFSETFROM:-0400
TZOFFSETTO:-0500
TZNAME:EST
DTSTART:20241103T060000
END:STANDARD
BEGIN:DAYLIGHT
TZOFFSETFROM:-0500
TZOFFSETTO:-0400
TZNAME:EDT
DTSTART:20250309T070000
END:DAYLIGHT
BEGIN:STANDARD
TZOFFSETFROM:-0400
TZOFFSETTO:-0500
TZNAME:EST
DTSTART:20251102T060000
END:STANDARD
END:VTIMEZONE
BEGIN:VEVENT
DTSTART;TZID=America/Toronto:20240312T100000
DTEND;TZID=America/Toronto:20240314T130000
DTSTAMP:20260421T085105
CREATED:20240306T191021Z
LAST-MODIFIED:20240306T191021Z
UID:10006654-1710237600-1710421200@achev.ca
SUMMARY:Job Search Boot Camp: In-Person Sessions
DESCRIPTION:Join our 3-day boot camp to learn how to create compelling resumes and cover letters\, ace interviews and develop effective job search strategies. \nIn this boot camp\, you’ll learn about the following: \n\nCareer pathways selection and self-discovery\nHow to fine-tune your resume and cover letter\nThe art and science of interviewing\nJob search tools and strategies\nAll in one action plan backed session\n\nAttendance for all 3 days is a must! \n\n\n\n\nFollow us on LinkedIn\, Facebook\, Instagram\, Threads\, Twitter or YouTube for our latest events\, workshops and news. \n\nDownload PDF
URL:https://achev.ca/event/job-search-boot-camp-in-person-sessions-march-12-14-24/
LOCATION:Achēv – Mississauga City Centre\, 50 Burnhamthorpe Road West\, Mississauga\, ON\, L5B 3Y5\, Canada
ATTACH;FMTTYPE=image/png:https://achev.ca/wp-content/uploads/2022/06/attracting-top-talent.png
GEO:43.591775;-79.6363502
X-APPLE-STRUCTURED-LOCATION;VALUE=URI;X-ADDRESS=Achēv – Mississauga City Centre 50 Burnhamthorpe Road West Mississauga ON L5B 3Y5 Canada;X-APPLE-RADIUS=500;X-TITLE=50 Burnhamthorpe Road West:geo:-79.6363502,43.591775
END:VEVENT
BEGIN:VEVENT
DTSTART;TZID=America/Toronto:20240314T100000
DTEND;TZID=America/Toronto:20240314T120000
DTSTAMP:20260421T085105
CREATED:20240304T174517Z
LAST-MODIFIED:20240304T174517Z
UID:10006648-1710410400-1710417600@achev.ca
SUMMARY:Resume & Cover Letter Preparation: In-Person Session
DESCRIPTION:In this session\, you’ll learn about the following: \n\nDifferent types of resumes that will get you the job you are seeking\nHow to create a targeted resume\nWhy do you need a cover letter?\nHow to write an effective cover letter\n\n\n\n\nFollow us on LinkedIn\, Facebook\, Instagram\, Threads\, Twitter or YouTube for our latest events\, workshops and news. \n\n\nDownload PDF
URL:https://achev.ca/event/resume-cover-letter-preparation-in-person-session-march-14-24/
LOCATION:Employment Centre – Brampton East\, 263 Queen Street East\, Unit 14\, Brampton\, ON\, L6W 4K6\, Canada
ATTACH;FMTTYPE=image/png:https://achev.ca/wp-content/uploads/2022/03/Newcomer-resume-critique-1.png
GEO:43.7000626;-79.7429366
X-APPLE-STRUCTURED-LOCATION;VALUE=URI;X-ADDRESS=Employment Centre – Brampton East 263 Queen Street East Unit 14 Brampton ON L6W 4K6 Canada;X-APPLE-RADIUS=500;X-TITLE=263 Queen Street East\, Unit 14:geo:-79.7429366,43.7000626
END:VEVENT
BEGIN:VEVENT
DTSTART;TZID=America/Toronto:20240314T113000
DTEND;TZID=America/Toronto:20240314T120000
DTSTAMP:20260421T085105
CREATED:20240216T163058Z
LAST-MODIFIED:20240216T163058Z
UID:10006626-1710415800-1710417600@achev.ca
SUMMARY:Embracing Movement: Three-Part Online Dance Series
DESCRIPTION:Come and join us for a fun\, three-part virtual and interactive dance class! These classes will focus on the movement in our mind and body. \n*No prior dance experience required \n\n\n\n\nFollow us on LinkedIn\, Facebook\, Instagram\, Threads\, Twitter or YouTube for our latest events\, workshops and news.
URL:https://achev.ca/event/embracing-movement-three-part-online-dance-series-march-14-24/
LOCATION:Online
ATTACH;FMTTYPE=image/png:https://achev.ca/wp-content/uploads/2024/02/People-dancing.png
END:VEVENT
END:VCALENDAR