BEGIN:VCALENDAR
VERSION:2.0
PRODID:-//Achēv - ECPv6.15.13//NONSGML v1.0//EN
CALSCALE:GREGORIAN
METHOD:PUBLISH
X-ORIGINAL-URL:https://achev.ca
X-WR-CALDESC:Events for Achēv
REFRESH-INTERVAL;VALUE=DURATION:PT1H
X-Robots-Tag:noindex
X-PUBLISHED-TTL:PT1H
BEGIN:VTIMEZONE
TZID:America/Toronto
BEGIN:DAYLIGHT
TZOFFSETFROM:-0500
TZOFFSETTO:-0400
TZNAME:EDT
DTSTART:20230312T070000
END:DAYLIGHT
BEGIN:STANDARD
TZOFFSETFROM:-0400
TZOFFSETTO:-0500
TZNAME:EST
DTSTART:20231105T060000
END:STANDARD
BEGIN:DAYLIGHT
TZOFFSETFROM:-0500
TZOFFSETTO:-0400
TZNAME:EDT
DTSTART:20240310T070000
END:DAYLIGHT
BEGIN:STANDARD
TZOFFSETFROM:-0400
TZOFFSETTO:-0500
TZNAME:EST
DTSTART:20241103T060000
END:STANDARD
BEGIN:DAYLIGHT
TZOFFSETFROM:-0500
TZOFFSETTO:-0400
TZNAME:EDT
DTSTART:20250309T070000
END:DAYLIGHT
BEGIN:STANDARD
TZOFFSETFROM:-0400
TZOFFSETTO:-0500
TZNAME:EST
DTSTART:20251102T060000
END:STANDARD
END:VTIMEZONE
BEGIN:VEVENT
DTSTART;TZID=America/Toronto:20240307T100000
DTEND;TZID=America/Toronto:20240307T120000
DTSTAMP:20260421T084925
CREATED:20240209T195730Z
LAST-MODIFIED:20240209T195730Z
UID:10006580-1709805600-1709812800@achev.ca
SUMMARY:Mental Health & Wellbeing: Virtual International Women’s Day Activity
DESCRIPTION:We all have ups and downs in life\, and everyone deserves to feel well. Join us to learn about how to take care of your mental health and well-being. Topics to be covered: \n\nWhat is mental health and mental illness?\nSelf-care\, resilience and empowerment\nHigh Priority Community Strategy Program\nClient and community resources\nQ & A\n\nParticipate in discussions and have a chance to win prizes. \nThis virtual event will be delivered in collaboration with Canadian Mental Health Association Peel Dufferin. \n\n\n\nFollow us on LinkedIn\, Facebook\, Instagram\, Threads\, Twitter\, or YouTube for our latest events\, workshops and news.
URL:https://achev.ca/event/mental-health-wellbeing-virtual-international-womens-day-activity/
LOCATION:Online
ATTACH;FMTTYPE=image/png:https://achev.ca/wp-content/uploads/2024/02/silhouette-of-womans-face.png
END:VEVENT
BEGIN:VEVENT
DTSTART;TZID=America/Toronto:20240307T100000
DTEND;TZID=America/Toronto:20240307T120000
DTSTAMP:20260421T084925
CREATED:20240212T193913Z
LAST-MODIFIED:20240212T194016Z
UID:10006585-1709805600-1709812800@achev.ca
SUMMARY:Get Ready for Canadian Citizenship Test - Part 2: Webinar
DESCRIPTION:In this webinar\, the following topics will be covered: \n\nModern Canada\nHow Canadians govern themselves\nFederal elections\nJustice system\n\nThe webinar is best attended on a computer or laptop. Important: You must download the Discover Canada Study Guide before attending. Click here to download \n\n\n\nFollow us on LinkedIn\, Facebook\, Instagram\, Threads\, Twitter\, or YouTube for our latest events\, workshops and news.
URL:https://achev.ca/event/get-ready-for-canadian-citizenship-test-part-2-webinar-march-7-24/
LOCATION:Online
ATTACH;FMTTYPE=image/png:https://achev.ca/wp-content/uploads/2022/10/canadian-flag-streamer.png
END:VEVENT
BEGIN:VEVENT
DTSTART;TZID=America/Toronto:20240307T100000
DTEND;TZID=America/Toronto:20240307T120000
DTSTAMP:20260421T084925
CREATED:20240304T194211Z
LAST-MODIFIED:20240304T194446Z
UID:10006649-1709805600-1709812800@achev.ca
SUMMARY:Job Search Strategies: In-Person Session
DESCRIPTION:In this session\, you’ll learn about the following: \n\nHow to access jobs in the visible and hidden job market\nUnderstanding current job search tools and strategies\nUsing effective techniques to connect with employers\n\n\n\n\nFollow us on LinkedIn\, Facebook\, Instagram\, Threads\, Twitter or YouTube for our latest events\, workshops and news. \n\nDownload PDF
URL:https://achev.ca/event/job-search-strategies-in-person-session-march-7-24/
LOCATION:Employment Centre – Brampton East\, 263 Queen Street East\, Unit 14\, Brampton\, ON\, L6W 4K6\, Canada
ATTACH;FMTTYPE=image/png:https://achev.ca/wp-content/uploads/2023/12/Job-search-website.png
GEO:43.7000626;-79.7429366
X-APPLE-STRUCTURED-LOCATION;VALUE=URI;X-ADDRESS=Employment Centre – Brampton East 263 Queen Street East Unit 14 Brampton ON L6W 4K6 Canada;X-APPLE-RADIUS=500;X-TITLE=263 Queen Street East\, Unit 14:geo:-79.7429366,43.7000626
END:VEVENT
BEGIN:VEVENT
DTSTART;TZID=America/Toronto:20240307T110000
DTEND;TZID=America/Toronto:20240307T120000
DTSTAMP:20260421T084925
CREATED:20240214T171730Z
LAST-MODIFIED:20240214T171730Z
UID:10006611-1709809200-1709812800@achev.ca
SUMMARY:Webinar: How to Use LinkedIn to Find a Job
DESCRIPTION:Topics to be covered: \n\n\n\n\nHow to create a LinkedIn profile\n\n\n\nHow to incorporate skills and experiences\n\n\n\nHow to build your network on LinkedIn\n\n\n\nWhy is LinkedIn important for job search?\n\n\n\nHow to look for a job and use advanced search functions to reach targeted companies\n\n\n\n\nFollow us on LinkedIn\, Facebook\, Instagram\, Threads\, Twitter\, or YouTube for our latest events\, workshops and news.
URL:https://achev.ca/event/how-to-use-linkedin-to-find-a-job-march-7-24/
LOCATION:Online
ATTACH;FMTTYPE=image/png:https://achev.ca/wp-content/uploads/2022/04/using-linkedin-to-find-a-job-1.png
END:VEVENT
BEGIN:VEVENT
DTSTART;TZID=America/Toronto:20240307T110000
DTEND;TZID=America/Toronto:20240307T130000
DTSTAMP:20260421T084925
CREATED:20240216T155620Z
LAST-MODIFIED:20240216T155620Z
UID:10006620-1709809200-1709816400@achev.ca
SUMMARY:International Women’s Day Celebration: Embracing Movement
DESCRIPTION:Join us in celebrating International Women's Day and embracing the importance of movement in our mind and body. \nYou will have the opportunity to network in person\, ask questions\, win prizes and much more! \nThe Honourable Guests for this event will be Rituu Nebb and Neha Nanda. \n\n\n\nFollow us on LinkedIn\, Facebook\, Instagram\, Threads\, Twitter\, or YouTube for our latest events\, workshops and news.
URL:https://achev.ca/event/international-womens-day-celebration-embracing-movement-march-7-24/
LOCATION:Newcomer Information Centre – Brampton South\, 7700 Hurontario Street\, Unit 601\, Suite 100\, Brampton\, ON\, L6Y 4M3\, Canada
ATTACH;FMTTYPE=image/png:https://achev.ca/wp-content/uploads/2024/02/Females-from-different-backgrounds.png
GEO:43.6595514;-79.7252889
X-APPLE-STRUCTURED-LOCATION;VALUE=URI;X-ADDRESS=Newcomer Information Centre – Brampton South 7700 Hurontario Street Unit 601 Suite 100 Brampton ON L6Y 4M3 Canada;X-APPLE-RADIUS=500;X-TITLE=7700 Hurontario Street\, Unit 601\, Suite 100:geo:-79.7252889,43.6595514
END:VEVENT
BEGIN:VEVENT
DTSTART;TZID=America/Toronto:20240307T113000
DTEND;TZID=America/Toronto:20240307T120000
DTSTAMP:20260421T084925
CREATED:20240216T162435Z
LAST-MODIFIED:20240216T163002Z
UID:10006622-1709811000-1709812800@achev.ca
SUMMARY:Embracing Movement: Three-Part Online Dance Series
DESCRIPTION:Come and join us for a fun\, three-part virtual and interactive dance class! These classes will focus on the movement in our mind and body. \n*No prior dance experience required \n\n\n\n\nFollow us on LinkedIn\, Facebook\, Instagram\, Threads\, Twitter or YouTube for our latest events\, workshops and news.
URL:https://achev.ca/event/embracing-movement-three-part-online-dance-series-march-7-24/
LOCATION:Online
ATTACH;FMTTYPE=image/png:https://achev.ca/wp-content/uploads/2024/02/People-dancing.png
END:VEVENT
END:VCALENDAR