BEGIN:VCALENDAR
VERSION:2.0
PRODID:-//Achēv - ECPv6.15.13//NONSGML v1.0//EN
CALSCALE:GREGORIAN
METHOD:PUBLISH
X-ORIGINAL-URL:https://achev.ca
X-WR-CALDESC:Events for Achēv
REFRESH-INTERVAL;VALUE=DURATION:PT1H
X-Robots-Tag:noindex
X-PUBLISHED-TTL:PT1H
BEGIN:VTIMEZONE
TZID:America/Toronto
BEGIN:DAYLIGHT
TZOFFSETFROM:-0500
TZOFFSETTO:-0400
TZNAME:EDT
DTSTART:20230312T070000
END:DAYLIGHT
BEGIN:STANDARD
TZOFFSETFROM:-0400
TZOFFSETTO:-0500
TZNAME:EST
DTSTART:20231105T060000
END:STANDARD
BEGIN:DAYLIGHT
TZOFFSETFROM:-0500
TZOFFSETTO:-0400
TZNAME:EDT
DTSTART:20240310T070000
END:DAYLIGHT
BEGIN:STANDARD
TZOFFSETFROM:-0400
TZOFFSETTO:-0500
TZNAME:EST
DTSTART:20241103T060000
END:STANDARD
BEGIN:DAYLIGHT
TZOFFSETFROM:-0500
TZOFFSETTO:-0400
TZNAME:EDT
DTSTART:20250309T070000
END:DAYLIGHT
BEGIN:STANDARD
TZOFFSETFROM:-0400
TZOFFSETTO:-0500
TZNAME:EST
DTSTART:20251102T060000
END:STANDARD
END:VTIMEZONE
BEGIN:VEVENT
DTSTART;TZID=America/Toronto:20240306T090000
DTEND;TZID=America/Toronto:20240306T160000
DTSTAMP:20260421T085033
CREATED:20240213T192304Z
LAST-MODIFIED:20240213T192340Z
UID:10006599-1709715600-1709740800@achev.ca
SUMMARY:Free Service Canada Clinic for Seniors & Newcomers: In-Person Appointment
DESCRIPTION:Book your 45-minute consultation to help you with your applications. An appointment is required to attend: \n\nCanada Pension Plan (CPP)\nOld Age Security (OAS)\nGuaranteed Income Supplement (GIS)\nSocial Insurance Number (SIN)\nEmployment Insurance (EI)\nMy Service Canada Account (MSCA)\n\nIf you need assistance to apply for Social Insurance Number (SIN)\, please book an appointment with us. You will need: \nAn original valid primary identity document such as: \n\nPermanent Resident Card\nConfirmation of Permanent Residence (COPR)\nWork permit indicating “may work”\nStudy permit indicating “may work”\n\nAn original valid secondary document to confirm your identity such as: \n\nPassport (Canadian or foreign)\nSingle journey travel document\nProvincial or territorial health card\n\nChild care will be available during the session if required. This webinar will be delivered in collaboration with Service Canada. \n\n\n\nFollow us on LinkedIn\, Facebook\, Instagram\, Threads\, Twitter\, or YouTube for our latest events\, workshops and news.
URL:https://achev.ca/event/free-service-canada-clinic-for-seniors-newcomers-in-person-appointment-march-6-24/
LOCATION:Seniors Engagement & Empowerment Network Centre – Oakville\, 690 Dorval Drive\, Suite 100\, Oakville\, ON\, L6K 3X9\, Canada
ATTACH;FMTTYPE=image/png:https://achev.ca/wp-content/uploads/2024/02/A-lady-explaining-something-to-a-senior-couple.png
GEO:43.442645;-79.696521
X-APPLE-STRUCTURED-LOCATION;VALUE=URI;X-ADDRESS=Seniors Engagement & Empowerment Network Centre – Oakville 690 Dorval Drive Suite 100 Oakville ON L6K 3X9 Canada;X-APPLE-RADIUS=500;X-TITLE=690 Dorval Drive\, Suite 100:geo:-79.696521,43.442645
END:VEVENT
BEGIN:VEVENT
DTSTART;TZID=America/Toronto:20240306T093000
DTEND;TZID=America/Toronto:20240306T103000
DTSTAMP:20260421T085033
CREATED:20240226T160407Z
LAST-MODIFIED:20240226T160407Z
UID:10006637-1709717400-1709721000@achev.ca
SUMMARY:English Conversation Circle (For Ukrainians): Online Sessions
DESCRIPTION:Improve your English conversational skills\nBuild your speaking confidence\nMake friends\nLearn about community resources\n\nThe session is for newcomer Ukrainians under CUAET visa. \n\n\n\n\n\nFollow us on LinkedIn\, Facebook\, Instagram\, Threads or Twitter for our latest events\, workshops and news.
URL:https://achev.ca/event/english-conversation-circle-for-ukrainians-online-sessions-march-6-24/
LOCATION:Online
ATTACH;FMTTYPE=image/png:https://achev.ca/wp-content/uploads/2023/09/A-lady-smiling-in-a-purple-hoodie-and-greeting-the-camera.png
END:VEVENT
BEGIN:VEVENT
DTSTART;TZID=America/Toronto:20240306T093000
DTEND;TZID=America/Toronto:20240306T123000
DTSTAMP:20260421T085033
CREATED:20240222T143640Z
LAST-MODIFIED:20240222T143710Z
UID:10006631-1709717400-1709728200@achev.ca
SUMMARY:Personality Dimensions & Your Career Choice: Webinar
DESCRIPTION:Topics to be covered: \n\nHow your personality style affects your job search and career preferences\nHow personality styles affect communication in relationships\nWhat is your core personality style?\nDifferent types of work styles and relationships\nCareer options and job satisfaction\n\nCut-off date & time for registration: February 28\, 2024 at 12 p.m. \nCLB (Canadian Language Benchmark) of 5 or higher is required. \n\n\n\nFollow us on LinkedIn\, Facebook\, Instagram\, Threads\, Twitter\, or YouTube for our latest events\, workshops and news.
URL:https://achev.ca/event/personality-dimensions-your-career-choice-webinar-march-6-24/
LOCATION:Online
ATTACH;FMTTYPE=image/png:https://achev.ca/wp-content/uploads/2024/02/4-colorful-yellow-green-blue-and-red-files-with-papers-inside-.png
END:VEVENT
BEGIN:VEVENT
DTSTART;TZID=America/Toronto:20240306T100000
DTEND;TZID=America/Toronto:20240306T120000
DTSTAMP:20260421T085033
CREATED:20240227T184358Z
LAST-MODIFIED:20240227T185838Z
UID:10006638-1709719200-1709726400@achev.ca
SUMMARY:Resume Preparation: In-Person Session
DESCRIPTION:Join our in-person session to learn the art of creating a winning resume that stands out. \nTopics to be covered: \n\nThe different types of resumes that will get you the job you want\nHow to write a targeted resume\nWays to make your resume more powerful and impressive\n\n\n\n\n\n\nFollow us on LinkedIn\, Facebook\, Instagram\, Threads\, Twitter\, or YouTube for our latest events\, workshops and news.
URL:https://achev.ca/event/resume-preparation-in-person-session-march-6-24/
LOCATION:Employment Centre – Brampton South\, 7700 Hurontario Street\, Unit 601\, Brampton\, ON\, L6Y 4M3\, Canada
ATTACH;FMTTYPE=image/png:https://achev.ca/wp-content/uploads/2024/02/A-resume-and-a-plant-coffee-telephone-cards-on-a-wooden-table.png
GEO:43.6581089;-79.7251536
X-APPLE-STRUCTURED-LOCATION;VALUE=URI;X-ADDRESS=Employment Centre – Brampton South 7700 Hurontario Street Unit 601 Brampton ON L6Y 4M3 Canada;X-APPLE-RADIUS=500;X-TITLE=7700 Hurontario Street\, Unit 601:geo:-79.7251536,43.6581089
END:VEVENT
BEGIN:VEVENT
DTSTART;TZID=America/Toronto:20240306T103000
DTEND;TZID=America/Toronto:20240306T113000
DTSTAMP:20260421T085033
CREATED:20240123T135937Z
LAST-MODIFIED:20240123T140015Z
UID:10006547-1709721000-1709724600@achev.ca
SUMMARY:How to Become a Tradesperson in Ontario: Webinar
DESCRIPTION:Topics to be covered include: \n\nIntroduction to home renovations\nPre-Apprenticeship programs in the following areas:\n\nPlumbing Pre-Apprenticeship\nElectrical Pre-Apprenticeship\n\n\nBenefits of apprenticeships in Ontario\nFinancial support to cover your educational expenses\n\nThis webinar will be delivered in collaboration with Skilled Trades College of Canada. \n\n\n\nFollow us on LinkedIn\, Facebook\, Instagram\, Threads\, Twitter\, or YouTube for our latest events\, workshops and news.
URL:https://achev.ca/event/how-to-become-a-tradesperson-in-ontario-webinar-march-6-24/2024-03-06/
LOCATION:Online
ATTACH;FMTTYPE=image/png:https://achev.ca/wp-content/uploads/2023/08/Home-Construction-Workers-.png
END:VEVENT
BEGIN:VEVENT
DTSTART;TZID=America/Toronto:20240306T110000
DTEND;TZID=America/Toronto:20240306T120000
DTSTAMP:20260421T085033
CREATED:20240214T173528Z
LAST-MODIFIED:20240214T173528Z
UID:10006616-1709722800-1709726400@achev.ca
SUMMARY:Get the Job You Want With a Resume Makeover: Webinar
DESCRIPTION:Topics to be covered: \n\n\n\n\nThe different types of resumes that will get you the job you want\n\n\n\nHow to write a targeted resume\n\n\n\nWays to make your resume more powerful and impressive\n\n\n\n\nFollow us on LinkedIn\, Facebook\, Instagram\, Threads\, Twitter\, or YouTube for our latest events\, workshops and news.
URL:https://achev.ca/event/get-the-job-you-want-with-a-resume-makeover-march-6-24/
LOCATION:Online
ATTACH;FMTTYPE=image/png:https://achev.ca/wp-content/uploads/2021/04/Interview-8.png
END:VEVENT
BEGIN:VEVENT
DTSTART;TZID=America/Toronto:20240306T110000
DTEND;TZID=America/Toronto:20240306T123000
DTSTAMP:20260421T085033
CREATED:20240212T192702Z
LAST-MODIFIED:20240212T192702Z
UID:10006584-1709722800-1709728200@achev.ca
SUMMARY:International Women’s Day Celebration: In-Person Activity
DESCRIPTION:Join us in-person as we celebrate universal sisterhood on International Women's Day. Participate in discussions\, activities and guided serenity yoga with simple stretches and breathing exercises. \nSeats are limited and registration is required to book a spot! \n\n\n\nFollow us on LinkedIn\, Facebook\, Instagram\, Threads\, Twitter\, or YouTube for our latest events\, workshops and news.
URL:https://achev.ca/event/international-womens-day-celebration-in-person-activity-march-6-24/
LOCATION:Newcomer Information Centre – Malton\, 7420 Airport Road Suite 104\, Mississauga\, ON\, Canada
ATTACH;FMTTYPE=image/png:https://achev.ca/wp-content/uploads/2024/02/Happy-athletes.png
GEO:43.7116373;-79.6542088
X-APPLE-STRUCTURED-LOCATION;VALUE=URI;X-ADDRESS=Newcomer Information Centre – Malton 7420 Airport Road Suite 104 Mississauga ON Canada;X-APPLE-RADIUS=500;X-TITLE=7420 Airport Road Suite 104:geo:-79.6542088,43.7116373
END:VEVENT
BEGIN:VEVENT
DTSTART;TZID=America/Toronto:20240306T130000
DTEND;TZID=America/Toronto:20240306T140000
DTSTAMP:20260421T085033
CREATED:20240223T215007Z
LAST-MODIFIED:20240223T215209Z
UID:10006635-1709730000-1709733600@achev.ca
SUMMARY:Bridge to Employment in Media & Communications (BEMC): Webinar
DESCRIPTION:Are you an internationally trained professional looking to relaunch your career in Canada? \nJoin our FREE webinar to learn about Mennonite New Life Centre's BEMC bridging program for internationally trained media\, marketing\, and communications professionals to find careers in broadcasting\, digital media\, social media\, PR\, and journalism in Ontario. \n\n\n\nThis webinar will be held in collaboration with Mennonite New Life Centre. \nFollow us on LinkedIn\, Facebook\, Instagram\, Threads\, Twitter\, or YouTube for our latest events\, workshops and news.
URL:https://achev.ca/event/bridge-to-employment-in-media-communications-bemc-webinar-march-6-24/
LOCATION:Online
ATTACH;FMTTYPE=image/png:https://achev.ca/wp-content/uploads/2024/02/A-person-using-the-i-pad-to-work-on-social-media.png
END:VEVENT
BEGIN:VEVENT
DTSTART;TZID=America/Toronto:20240306T130000
DTEND;TZID=America/Toronto:20240306T160000
DTSTAMP:20260421T085033
CREATED:20240228T140256Z
LAST-MODIFIED:20240228T140434Z
UID:10006642-1709730000-1709740800@achev.ca
SUMMARY:Virtual Wellness Program: Know Your Worth
DESCRIPTION:In this virtual workshop\, presented by Tammy Whelen\, Mental Health Educator\, you’ll learn how to: \n\nUnpack negative thinking\nDiscuss valuable strategies to improve negative thoughts\nBuild self-esteem & increase your confidence\nBecome more mentally strong & resilient\n\nTo register\, email wp4w@achev.cato receive the workshop link. Limited seats available.    \n\n\n\n\n\nFollow us on LinkedIn\, Facebook\, Instagram\, Threads\, Twitter\, or YouTube for our latest events\, workshops and news.
URL:https://achev.ca/event/virtual-wellness-program-know-your-worth-march-6-24/
LOCATION:Online
ATTACH;FMTTYPE=image/png:https://achev.ca/wp-content/uploads/2024/02/young-woman-looking-at-herself-in-the-mirror.png
END:VEVENT
END:VCALENDAR