BEGIN:VCALENDAR
VERSION:2.0
PRODID:-//Achēv - ECPv6.15.13//NONSGML v1.0//EN
CALSCALE:GREGORIAN
METHOD:PUBLISH
X-ORIGINAL-URL:https://achev.ca
X-WR-CALDESC:Events for Achēv
REFRESH-INTERVAL;VALUE=DURATION:PT1H
X-Robots-Tag:noindex
X-PUBLISHED-TTL:PT1H
BEGIN:VTIMEZONE
TZID:America/Toronto
BEGIN:DAYLIGHT
TZOFFSETFROM:-0500
TZOFFSETTO:-0400
TZNAME:EDT
DTSTART:20230312T070000
END:DAYLIGHT
BEGIN:STANDARD
TZOFFSETFROM:-0400
TZOFFSETTO:-0500
TZNAME:EST
DTSTART:20231105T060000
END:STANDARD
BEGIN:DAYLIGHT
TZOFFSETFROM:-0500
TZOFFSETTO:-0400
TZNAME:EDT
DTSTART:20240310T070000
END:DAYLIGHT
BEGIN:STANDARD
TZOFFSETFROM:-0400
TZOFFSETTO:-0500
TZNAME:EST
DTSTART:20241103T060000
END:STANDARD
BEGIN:DAYLIGHT
TZOFFSETFROM:-0500
TZOFFSETTO:-0400
TZNAME:EDT
DTSTART:20250309T070000
END:DAYLIGHT
BEGIN:STANDARD
TZOFFSETFROM:-0400
TZOFFSETTO:-0500
TZNAME:EST
DTSTART:20251102T060000
END:STANDARD
END:VTIMEZONE
BEGIN:VEVENT
DTSTART;TZID=America/Toronto:20240301T093000
DTEND;TZID=America/Toronto:20240301T143000
DTSTAMP:20260421T084931
CREATED:20240214T134807Z
LAST-MODIFIED:20240214T134807Z
UID:10006601-1709285400-1709303400@achev.ca
SUMMARY:Virtual One-On-One Resume Critique for Newcomers
DESCRIPTION:Book your 45-minute appointment between 9:30 a.m. – 2:30 p.m. \nAt your one-on-one appointment\, you will learn how to: \n\nModify your resume based on current labour market trends\nGet your resume noticed by employers\nCapture that sought-after interview\n\nEligibility Criteria: \n\nPermanent Residents or Convention Refugees with a valid PR card\, Confirmation of PR or Notice of Decision or CUAET visa holder\nAble to read\, write and speak English (Canadian Language Benchmark (CLB) level 5)\n\nAppointments available on a first-come\, first-served basis. \n\n\n\nFollow us on LinkedIn\, Facebook\, Instagram\, Threads\, Twitter\, or YouTube for our latest events\, workshops and news.
URL:https://achev.ca/event/virtual-one-on-one-resume-critique-for-newcomers-march-1-24/
LOCATION:Online
ATTACH;FMTTYPE=image/png:https://achev.ca/wp-content/uploads/2023/07/Resume-Writing-1.png
END:VEVENT
BEGIN:VEVENT
DTSTART;TZID=America/Toronto:20240301T103000
DTEND;TZID=America/Toronto:20240301T113000
DTSTAMP:20260421T084931
CREATED:20240123T143720Z
LAST-MODIFIED:20240123T143720Z
UID:10006551-1709289000-1709292600@achev.ca
SUMMARY:How to Become a Dental Assistant in Canada: Webinar
DESCRIPTION:Are You an Internationally Trained Dentist? \nJoin our free webinar to learn about the information\, resources and financial support available to successfully complete the Dental Radiology Program to work as a Dental Assistant in Canada. \nThis webinar will be delivered in collaboration with Sparks Health and Business Academy. \n\n\n\nFollow us on LinkedIn\, Facebook\, Instagram\, Threads\, Twitter\, or YouTube for our latest events\, workshops and news.
URL:https://achev.ca/event/how-to-become-a-dental-assistant-in-canada-webinar-march-1-24/
LOCATION:Online
ATTACH;FMTTYPE=image/png:https://achev.ca/wp-content/uploads/2023/09/Dentist-looking-inside-a-patients-mouth.png
END:VEVENT
END:VCALENDAR