BEGIN:VCALENDAR
VERSION:2.0
PRODID:-//Achēv - ECPv6.15.13//NONSGML v1.0//EN
CALSCALE:GREGORIAN
METHOD:PUBLISH
X-ORIGINAL-URL:https://achev.ca
X-WR-CALDESC:Events for Achēv
REFRESH-INTERVAL;VALUE=DURATION:PT1H
X-Robots-Tag:noindex
X-PUBLISHED-TTL:PT1H
BEGIN:VTIMEZONE
TZID:America/Toronto
BEGIN:DAYLIGHT
TZOFFSETFROM:-0500
TZOFFSETTO:-0400
TZNAME:EDT
DTSTART:20230312T070000
END:DAYLIGHT
BEGIN:STANDARD
TZOFFSETFROM:-0400
TZOFFSETTO:-0500
TZNAME:EST
DTSTART:20231105T060000
END:STANDARD
BEGIN:DAYLIGHT
TZOFFSETFROM:-0500
TZOFFSETTO:-0400
TZNAME:EDT
DTSTART:20240310T070000
END:DAYLIGHT
BEGIN:STANDARD
TZOFFSETFROM:-0400
TZOFFSETTO:-0500
TZNAME:EST
DTSTART:20241103T060000
END:STANDARD
BEGIN:DAYLIGHT
TZOFFSETFROM:-0500
TZOFFSETTO:-0400
TZNAME:EDT
DTSTART:20250309T070000
END:DAYLIGHT
BEGIN:STANDARD
TZOFFSETFROM:-0400
TZOFFSETTO:-0500
TZNAME:EST
DTSTART:20251102T060000
END:STANDARD
END:VTIMEZONE
BEGIN:VEVENT
DTSTART;TZID=America/Toronto:20240229T100000
DTEND;TZID=America/Toronto:20240229T120000
DTSTAMP:20260421T084933
CREATED:20240115T164453Z
LAST-MODIFIED:20240115T164453Z
UID:10006501-1709200800-1709208000@achev.ca
SUMMARY:Social Media & Networking for Job Search: Webinar
DESCRIPTION:Topics to be covered: \n\nWhat is networking?\nUsing social media platforms as an effective job search tool\nCreating a professional profile\nBuilding\, maintaining and growing a professional network\nConnecting with colleagues\, classmates\, and other professionals\n\n\n\n\nFollow us on LinkedIn\, Facebook\, Instagram\, Twitter or YouTube for our latest events\, workshops and news.
URL:https://achev.ca/event/social-media-networking-for-job-search-webinar-feb-29-2024/
LOCATION:Online
ATTACH;FMTTYPE=image/png:https://achev.ca/wp-content/uploads/2023/08/Boxes-with-different-icons-on-it.png
END:VEVENT
END:VCALENDAR