BEGIN:VCALENDAR
VERSION:2.0
PRODID:-//Achēv - ECPv6.15.13//NONSGML v1.0//EN
CALSCALE:GREGORIAN
METHOD:PUBLISH
X-ORIGINAL-URL:https://achev.ca
X-WR-CALDESC:Events for Achēv
REFRESH-INTERVAL;VALUE=DURATION:PT1H
X-Robots-Tag:noindex
X-PUBLISHED-TTL:PT1H
BEGIN:VTIMEZONE
TZID:America/Toronto
BEGIN:DAYLIGHT
TZOFFSETFROM:-0500
TZOFFSETTO:-0400
TZNAME:EDT
DTSTART:20230312T070000
END:DAYLIGHT
BEGIN:STANDARD
TZOFFSETFROM:-0400
TZOFFSETTO:-0500
TZNAME:EST
DTSTART:20231105T060000
END:STANDARD
BEGIN:DAYLIGHT
TZOFFSETFROM:-0500
TZOFFSETTO:-0400
TZNAME:EDT
DTSTART:20240310T070000
END:DAYLIGHT
BEGIN:STANDARD
TZOFFSETFROM:-0400
TZOFFSETTO:-0500
TZNAME:EST
DTSTART:20241103T060000
END:STANDARD
BEGIN:DAYLIGHT
TZOFFSETFROM:-0500
TZOFFSETTO:-0400
TZNAME:EDT
DTSTART:20250309T070000
END:DAYLIGHT
BEGIN:STANDARD
TZOFFSETFROM:-0400
TZOFFSETTO:-0500
TZNAME:EST
DTSTART:20251102T060000
END:STANDARD
END:VTIMEZONE
BEGIN:VEVENT
DTSTART;TZID=America/Toronto:20240228T100000
DTEND;TZID=America/Toronto:20240228T120000
DTSTAMP:20260421T084935
CREATED:20240206T194233Z
LAST-MODIFIED:20240206T194233Z
UID:10006571-1709114400-1709121600@achev.ca
SUMMARY:Job Search Strategies: In-Person Session
DESCRIPTION:In this session\, you'll learn about the following: \n\nHow to access jobs in the visible and hidden job market\nUnderstanding current job search tools and strategies\nUsing effective techniques to connect with employers\n\n\n\n\n\n\nFollow us on LinkedIn\, Facebook\, Instagram\, Threads\, Twitter\, or YouTube for our latest events\, workshops and news.
URL:https://achev.ca/event/job-search-strategies-in-person-session-february-28-24/
LOCATION:Employment Centre – Brampton South\, 7700 Hurontario Street\, Unit 601\, Brampton\, ON\, L6Y 4M3\, Canada
ATTACH;FMTTYPE=image/png:https://achev.ca/wp-content/uploads/2023/12/Someone-holding-a-job-search-cube.png
GEO:43.6581089;-79.7251536
X-APPLE-STRUCTURED-LOCATION;VALUE=URI;X-ADDRESS=Employment Centre – Brampton South 7700 Hurontario Street Unit 601 Brampton ON L6Y 4M3 Canada;X-APPLE-RADIUS=500;X-TITLE=7700 Hurontario Street\, Unit 601:geo:-79.7251536,43.6581089
END:VEVENT
BEGIN:VEVENT
DTSTART;TZID=America/Toronto:20240228T100000
DTEND;TZID=America/Toronto:20240228T160000
DTSTAMP:20260421T084935
CREATED:20240122T183729Z
LAST-MODIFIED:20240124T201909Z
UID:10006541-1709114400-1709136000@achev.ca
SUMMARY:Care For Newcomer Children - Celebrating Black History Month: In-Person Event
DESCRIPTION:Children of All Ages Are Welcome! \nIn this event\, children will learn the significance of Black History Month and have the opportunity to create a drawing/painting to show diversity in society and view some videos in recognition of this day. \nCome and join us to celebrate this day with the CNC team and enjoy some healthy snacks. \n\n\n\nFollow us on LinkedIn\, Facebook\, Instagram\, Threads\, Twitter\, or YouTube for our latest events\, workshops and news.
URL:https://achev.ca/event/care-for-newcomer-children-celebrating-black-history-month-in-person-event-february-28-24/
LOCATION:Newcomer Information Centre – Malton\, 7420 Airport Road Suite 104\, Mississauga\, ON\, Canada
ATTACH;FMTTYPE=image/png:https://achev.ca/wp-content/uploads/2024/01/A-girl-smiling-and-wearing-a-winter-hat.png
GEO:43.7116373;-79.6542088
X-APPLE-STRUCTURED-LOCATION;VALUE=URI;X-ADDRESS=Newcomer Information Centre – Malton 7420 Airport Road Suite 104 Mississauga ON Canada;X-APPLE-RADIUS=500;X-TITLE=7420 Airport Road Suite 104:geo:-79.6542088,43.7116373
END:VEVENT
BEGIN:VEVENT
DTSTART;TZID=America/Toronto:20240228T110000
DTEND;TZID=America/Toronto:20240228T120000
DTSTAMP:20260421T084935
CREATED:20240123T142106Z
LAST-MODIFIED:20240123T142106Z
UID:10006549-1709118000-1709121600@achev.ca
SUMMARY:Crafting Compelling Cover Letters to Accompany Your Resume
DESCRIPTION:Effective Job Search Strategies: Let's Chat Virtual Sessions \nJoin our one-hour virtual sessions with Career Specialist Lisa Trudel on various employment-related topics to get you job ready! \nIn this session\, you will learn how to write customized cover letters by tailoring your approach with employer expectations and discover the 3-easy-paragraph format. \n\n\n\nFollow us on LinkedIn\, Facebook\, Instagram\, Threads\, Twitter\, or YouTube for our latest events\, workshops and news.
URL:https://achev.ca/event/crafting-compelling-cover-letters-to-accompany-your-resume-february-28-24/
LOCATION:Online
ATTACH;FMTTYPE=image/png:https://achev.ca/wp-content/uploads/2023/07/Youth-meeting.png
END:VEVENT
END:VCALENDAR