BEGIN:VCALENDAR
VERSION:2.0
PRODID:-//Achēv - ECPv6.15.13//NONSGML v1.0//EN
CALSCALE:GREGORIAN
METHOD:PUBLISH
X-ORIGINAL-URL:https://achev.ca
X-WR-CALDESC:Events for Achēv
REFRESH-INTERVAL;VALUE=DURATION:PT1H
X-Robots-Tag:noindex
X-PUBLISHED-TTL:PT1H
BEGIN:VTIMEZONE
TZID:America/Toronto
BEGIN:DAYLIGHT
TZOFFSETFROM:-0500
TZOFFSETTO:-0400
TZNAME:EDT
DTSTART:20230312T070000
END:DAYLIGHT
BEGIN:STANDARD
TZOFFSETFROM:-0400
TZOFFSETTO:-0500
TZNAME:EST
DTSTART:20231105T060000
END:STANDARD
BEGIN:DAYLIGHT
TZOFFSETFROM:-0500
TZOFFSETTO:-0400
TZNAME:EDT
DTSTART:20240310T070000
END:DAYLIGHT
BEGIN:STANDARD
TZOFFSETFROM:-0400
TZOFFSETTO:-0500
TZNAME:EST
DTSTART:20241103T060000
END:STANDARD
BEGIN:DAYLIGHT
TZOFFSETFROM:-0500
TZOFFSETTO:-0400
TZNAME:EDT
DTSTART:20250309T070000
END:DAYLIGHT
BEGIN:STANDARD
TZOFFSETFROM:-0400
TZOFFSETTO:-0500
TZNAME:EST
DTSTART:20251102T060000
END:STANDARD
END:VTIMEZONE
BEGIN:VEVENT
DTSTART;TZID=America/Toronto:20240226T113000
DTEND;TZID=America/Toronto:20240226T130000
DTSTAMP:20260421T085118
CREATED:20240118T004213Z
LAST-MODIFIED:20240118T004213Z
UID:10006512-1708947000-1708952400@achev.ca
SUMMARY:Free In-Person Cooking Classes for Seniors
DESCRIPTION:Join us in person to meet with other seniors (55+) to learn new recipes and cooking techniques from an expert chef. Let us cook together and eat together! \nSeats are limited and available on a first-come\, first-served basis. \nThis event is held in collaboration with SEVA Food Bank. \n\n\n\n\nFollow us on LinkedIn\, Facebook\, Instagram\, Threads\, Twitter or YouTube for our latest events\, workshops and news.
URL:https://achev.ca/event/free-in-person-cooking-classes-for-seniors-february-26/
LOCATION:Seva Food Bank\, 2832 Slough St\, Mississauga\, Ontario\, L4T 1G3\, Canada
ATTACH;FMTTYPE=image/png:https://achev.ca/wp-content/uploads/2022/11/seniors-cooking-and-laughing.png
END:VEVENT
END:VCALENDAR